Workbook
Name А30: #REF!
Name А30: #REF!
Name А30: #REF!
Name А30: #REF!
Name А30: #REF!
Name А30: #REF!
Name А30: #REF!
Name А30: #REF!
Name А30: #REF!
Name А30: #REF!
Name А30: #REF!
Name А30: #REF!
Name А30: #REF!
Name А30: #REF!
Name А30: #REF!
Name А30: #REF!
Name А30: #REF!
Name А30: #REF!

Sheet Содержание РФ
B1: Оборудование для магазиностроения РФ
C3: Актуальность: | E3: 44025
C4: Ваша скидка: | E4: 0 | F4: %
A6: Пристенные охлаждаемые стеллажи | B6: глубина, мм | C6: высота, мм | D6: бланк согласования | E6: технический лист
A8: MONTE S | B8: 775 | C8: 2040 | D8: бланк | E8: Техн. характеристики S SH
A9: MONTE Maxi S | C9: 2040 | E9: Техн. хар. S SH М
A10: MONTE SH | C10: 2210 | E10: Техн. характеристики S SH
A11: MONTE Maxi SН | C11: 2210 | E11: Техн. хар. S SH М
A13: MONTE M | B13: 975 | C13: 2040 | D13: бланк | E13: Техн. характеристики M MH
A14: MONTE Maxi М | C14: 2040 | E14: Техн. характерист M MH М
A15: MONTE MH | C15: 2210 | E15: Техн. характеристики M MH
A16: MONTE Maxi МН | C16: 2210 | E16: Техн. характерист M MH М
A18: MONTE L | B18: 1075 | C18: 2040 | D18: бланк | E18: Техн. характеристики L LH
A19: MONTE LH | C19: 2210
A20: Ritto M | B20: 975 | C20: 1540 | D20: бланк | E20: Техн. характеристики R M
A22: Пристенные морозильные стеллажи | B22: глубина, мм | C22: высота, мм | E22: технический лист
A23: GELO MH | B23: 995 | C23: 2210 | D23: бланк | E23: Техн. характеристики G MH
A24: GELO Solid Bottom (GELO SB) | B24: 995 | C24: 2210 | D24: бланк | E24: Техн. характеристики G SB
A26: Решения со встроенным агрегатом | B26: глубина, мм | C26: высота, мм | E26: технический лист
A27: CUBE M Plug-In | B27: 710 | C27: 1930 | D27: бланк | E27: Техн. характеристики С
A28: CUBE MG Plug-In
A29: STRETTO M Plug-In | B29: 710 | C29: 1930 | D29: бланк | E29: Техн. характеристики S SG
A30: STRETTO MG Plug-In
A31: MONTE Plug-In | B31: 975 | C31: 2600 | D31: бланк | E31: Техн.хар. M MН Plug-in
A32: GELO Plug-In | B32: 1000 | E32: Техн. хар.ВПН M Plug-in
A33: Carino Plug-In | B33: 987 | C33: 1030 | D33: бланк

Sheet Сравнение M

Sheet Стандартные цвета
A1: Стандартные цвета
A3: Окраска внешних элементов (верхняя и нижняя фронтальные панели, боковые панели - внешние обшивки) | B3: Окраска внутренних элементов (задняя панель, панели "потолка", полки, ограничители, внешние обшивки боковых панелей)
A5: Стандартные цвета
A6: 3020
A7: 6018 | B7: 6018
A8: 6019
A9: 5019
A10: 5015
A11: 1021
A12: 7011 | B12: 7011
A13: 7035
A14: 9005 | B14: 9005
A15: 9003 | B15: 9003

Sheet БС M&G
A1: Бланк согласования технических элементов | B1: Содержание
A3: Поз.1- Верхняя декоративная панель | B3: RAL __________
A5: Поз.2-Боковая панель | B5: RAL __________
A7: Поз.3- Вставка фронтальная в боковую панель | B7: RAL __________
A9: Поз.4- Нижняя декоративная панель | B9: RAL __________
A11: Поз.5- Внутренние элементы горки | B11: RAL __________
A13: Поз.6- Профиль бордюр пластиковый | B13: RAL 9003( белый) RAL 7035(светло серый)
A15: Поз.7- Нижний фартук | B15: RAL __________
A17: Вывод холодильных трубок: | B17: Вверх на крышу Назад вниз Вперед вниз
A20: Согласовано от Заказчика | B20: ____________________________

Sheet БС C
S1: Содержание

Sheet БС R
Q1: Содержание

Sheet БС S
Q1: Содержание

Sheet БС Ca
R1: Содержание

Sheet M S
C2: Содержание
A19: Стандартная комплектация | D19: Технические параметры
A20: * Верхняя LED подсветка; | D20: * Параметры электропитания, В/Ф/Гц: 220-230/1/50
A21: * 4 ряда полок по 350 мм с кронштейнами и регулировкой наклона; | D21: * Температура окружающей среды: +12…+25 (влажность не выше 60%)
A22: * Механический ТРВ Danfoss; | D22: * Температурный режим без остекления: +1…+7
A23: * Электронный блок управления; | D23: * Температурный режим с остеклением: -1…+7
A24: * Комплект подключения к системе дренажа;
A25: * ТЭН оттайки;
A26: * Бампер RAL 9003.
A27: Цены указаны в рублях с учётом НДС
A28: Наименование | B28: Типоразмер | C28: Длина с боковинами | D28: Цена РРП, руб | E28: =CONCATENATE("Цена с учетом скидки ",'Содержание РФ'!$E$4," %",", руб") -> Цена с учетом скидки 0 %, руб
A29: MONTE S 1250 | B29: 1250 | C29: 1330 | D29: 88547.55 | E29: =D29*(100-'Содержание РФ'!$E$4)/100 -> 88547.55
A30: MONTE S 1875 | B30: 1875 | C30: 1955 | D30: 118591.2 | E30: =D30*(100-'Содержание РФ'!$E$4)/100 -> 118591.2
A31: MONTE S 2500 | B31: 2500 | C31: 2580 | D31: 144379.2 | E31: =D31*(100-'Содержание РФ'!$E$4)/100 -> 144379.2
A32: MONTE S 3750 | B32: 3750 | C32: 3830 | D32: 205415.7 | E32: =D32*(100-'Содержание РФ'!$E$4)/100 -> 205415.7
A34: Предложение действительно при заказе с основным модулем
A35: Опции | C35: Типоразмер | D35: Цена РРП, руб | E35: =CONCATENATE("Цена с учетом скидки ",'Содержание РФ'!$E$4," %",", руб") -> Цена с учетом скидки 0 %, руб
A36: 1 ряд полок с кронштейнами и регулировкой наклона | C36: 1250 | D36: 1431.15 | E36: =D36*(100-'Содержание РФ'!$E$4)/100 -> 1431.15
C37: 1875 | D37: 2332.05 | E37: =D37*(100-'Содержание РФ'!$E$4)/100 -> 2332.05
C38: 2500 | D38: 2861.25 | E38: =D38*(100-'Содержание РФ'!$E$4)/100 -> 2861.25
C39: 3750 | D39: 4292.4 | E39: =D39*(100-'Содержание РФ'!$E$4)/100 -> 4292.4
A40: 1 полка с кронштейнами и регулировкой наклона | C40: 930 | D40: 1165.5 | E40: =D40*(100-'Содержание РФ'!$E$4)/100 -> 1165.5
C41: 1250 | D41: 1431.15 | E41: =D41*(100-'Содержание РФ'!$E$4)/100 -> 1431.15
A42: светодиодная подсветка 1 ряда | C42: 1250 | D42: 1851.15 | E42: =D42*(100-'Содержание РФ'!$E$4)/100 -> 1851.15
C43: 1875 | D43: 3033.45 | E43: =D43*(100-'Содержание РФ'!$E$4)/100 -> 3033.45
C44: 2500 | D44: 3702.3 | E44: =D44*(100-'Содержание РФ'!$E$4)/100 -> 3702.3
C45: 3750 | D45: 5553.45 | E45: =D45*(100-'Содержание РФ'!$E$4)/100 -> 5553.45
A46: светодиодная подсветка 4 рядов | C46: 1250 | D46: 7403.55 | E46: =D46*(100-'Содержание РФ'!$E$4)/100 -> 7403.55
C47: 1875 | D47: 12130.65 | E47: =D47*(100-'Содержание РФ'!$E$4)/100 -> 12130.65
C48: 2500 | D48: 14807.1 | E48: =D48*(100-'Содержание РФ'!$E$4)/100 -> 14807.1
C49: 3750 | D49: 22210.65 | E49: =D49*(100-'Содержание РФ'!$E$4)/100 -> 22210.65
A50: Фруктовый комплект (FV) | C50: 1250 | D50: 1500 | E50: =D50*(100-'Содержание РФ'!$E$4)/100 -> 1500
C51: 1875 | D51: 1700 | E51: =D51*(100-'Содержание РФ'!$E$4)/100 -> 1700
C52: 2500 | D52: 3000 | E52: =D52*(100-'Содержание РФ'!$E$4)/100 -> 3000
C53: 3750 | D53: 4500 | E53: =D53*(100-'Содержание РФ'!$E$4)/100 -> 4500
A54: Энергосберегающий вентилятор | C54: 1250 | D54: 5460 | E54: =D54*(100-'Содержание РФ'!$E$4)/100 -> 5460
C55: 1875 | D55: 8190 | E55: =D55*(100-'Содержание РФ'!$E$4)/100 -> 8190
C56: 2500 | D56: 10920 | E56: =D56*(100-'Содержание РФ'!$E$4)/100 -> 10920
C57: 3750 | D57: 16380 | E57: =D57*(100-'Содержание РФ'!$E$4)/100 -> 16380
A58: ЭРВ | D58: 18375 | E58: =D58*(100-'Содержание РФ'!$E$4)/100 -> 18375
...

Sheet M МS
C2: Содержание
A19: Стандартная комплектация | D19: Технические параметры
A20: * Вертикальная LED подсветка; | D20: * Параметры электропитания, В/Ф/Гц: 220-230/1/50
A21: * Фронтальное остекление Х1; | D21: * Температурный режим: -1…+7
A22: * 4 ряда полок по 450 мм с кронштейнами и регулировкой наклона; | D22: * Температура окружающей среды: +12…+25 (влажность не выше 60%)
A23: * Механический ТРВ Danfoss;
A24: * Электронный блок управления;
A25: * Комплект подключения к системе дренажа;
A26: * ТЭН оттайки;
A27: * Бампер RAL 9003.
A28: Цены указаны в рублях с учётом НДС
A29: Наименование | B29: Типоразмер | C29: Длина с боковинами | D29: Цена РРП, руб | E29: =CONCATENATE("Цена с учетом скидки ",'Содержание РФ'!$E$4," %",", руб") -> Цена с учетом скидки 0 %, руб
A30: MONTE Maxi S 1250 | B30: 1250 | C30: 1330 | D30: 142304.31 | E30: =D30*(100-'Содержание РФ'!$E$4)/100 -> 142304.31
A31: MONTE Maxi S 1875 | B31: 1875 | C31: 1955 | D31: 192055.82 | E31: =D31*(100-'Содержание РФ'!$E$4)/100 -> 192055.82
A32: MONTE Maxi S 2500 | B32: 2500 | C32: 2580 | D32: 248621.12 | E32: =D32*(100-'Содержание РФ'!$E$4)/100 -> 248621.12
A33: MONTE Maxi S 3750 | B33: 3750 | C33: 3830 | D33: 360663.27 | E33: =D33*(100-'Содержание РФ'!$E$4)/100 -> 360663.27
A35: Предложение действительно при заказе с основным модулем
A36: Опции | C36: Типоразмер | D36: Цена РРП, руб | E36: =CONCATENATE("Цена с учетом скидки ",'Содержание РФ'!$E$4," %",", руб") -> Цена с учетом скидки 0 %, руб
A37: 1 ряд полок с кронштейнами и регулировкой наклона | C37: 1250 | D37: 1431.15 | E37: =D37*(100-'Содержание РФ'!$E$4)/100 -> 1431.15
C38: 1875 | D38: 2332.05 | E38: =D38*(100-'Содержание РФ'!$E$4)/100 -> 2332.05
C39: 2500 | D39: 2861.25 | E39: =D39*(100-'Содержание РФ'!$E$4)/100 -> 2861.25
C40: 3750 | D40: 4292.4 | E40: =D40*(100-'Содержание РФ'!$E$4)/100 -> 4292.4
A41: 1 полка с кронштейнами и регулировкой наклона | C41: 930 | D41: 1165.5 | E41: =D41*(100-'Содержание РФ'!$E$4)/100 -> 1165.5
C42: 1250 | D42: 1431.15 | E42: =D42*(100-'Содержание РФ'!$E$4)/100 -> 1431.15
A43: светодиодная подсветка 1 ряда | C43: 1250 | D43: 1851.15 | E43: =D43*(100-'Содержание РФ'!$E$4)/100 -> 1851.15
C44: 1875 | D44: 3033.45 | E44: =D44*(100-'Содержание РФ'!$E$4)/100 -> 3033.45
C45: 2500 | D45: 3702.3 | E45: =D45*(100-'Содержание РФ'!$E$4)/100 -> 3702.3
C46: 3750 | D46: 5553.45 | E46: =D46*(100-'Содержание РФ'!$E$4)/100 -> 5553.45
A47: светодиодная подсветка 4 рядов | C47: 1250 | D47: 7403.55 | E47: =D47*(100-'Содержание РФ'!$E$4)/100 -> 7403.55
C48: 1875 | D48: 12130.65 | E48: =D48*(100-'Содержание РФ'!$E$4)/100 -> 12130.65
C49: 2500 | D49: 14807.1 | E49: =D49*(100-'Содержание РФ'!$E$4)/100 -> 14807.1
C50: 3750 | D50: 22210.65 | E50: =D50*(100-'Содержание РФ'!$E$4)/100 -> 22210.65
A51: Фруктовый комплект (FV) | C51: 1250 | D51: 1500 | E51: =D51*(100-'Содержание РФ'!$E$4)/100 -> 1500
C52: 1875 | D52: 1700 | E52: =D52*(100-'Содержание РФ'!$E$4)/100 -> 1700
C53: 2500 | D53: 3000 | E53: =D53*(100-'Содержание РФ'!$E$4)/100 -> 3000
C54: 3750 | D54: 4500 | E54: =D54*(100-'Содержание РФ'!$E$4)/100 -> 4500
A55: Энергосберегающий вентилятор | C55: 1250 | D55: 5460 | E55: =D55*(100-'Содержание РФ'!$E$4)/100 -> 5460
C56: 1875 | D56: 8190 | E56: =D56*(100-'Содержание РФ'!$E$4)/100 -> 8190
C57: 2500 | D57: 10920 | E57: =D57*(100-'Содержание РФ'!$E$4)/100 -> 10920
C58: 3750 | D58: 16380 | E58: =D58*(100-'Содержание РФ'!$E$4)/100 -> 16380
...

Sheet M SH
C2: Содержание
A19: Стандартная комплектация | D19: Технические параметры
A20: * Верхняя LED подсветка; | D20: * Параметры электропитания, В/Ф/Гц: 220-230/1/50
A21: * 5 рядов полок по 350 мм с кронштейнами и регулировкой наклона; | D21: * Температура окружающей среды: +12…+25 (влажность не выше 60%)
A22: * Механический ТРВ Danfoss; | D22: * Температурный режим без остекления: +1…+7
A23: * Электронный блок управления; | D23: * Температурный режим с остеклением: -1…+7
A24: * Комплект подключения к системе дренажа;
A25: * ТЭН оттайки;
A26: * Бампер RAL 9003.
A27: Цены указаны в рублях с учётом НДС
A28: Наименование | B28: Типоразмер | C28: Длина с боковинами | D28: Цена РРП, руб | E28: =CONCATENATE("Цена с учетом скидки ",'Содержание РФ'!$E$4," %",", руб") -> Цена с учетом скидки 0 %, руб
A29: MONTE SH 1250 | B29: 1250 | C29: 1330 | D29: 89456.85 | E29: =D29*(100-'Содержание РФ'!$E$4)/100 -> 89456.85
A30: MONTE SH 1875 | B30: 1875 | C30: 1955 | D30: 121580.55 | E30: =D30*(100-'Содержание РФ'!$E$4)/100 -> 121580.55
A31: MONTE SH 2500 | B31: 2500 | C31: 2580 | D31: 145947.9 | E31: =D31*(100-'Содержание РФ'!$E$4)/100 -> 145947.9
A32: MONTE SH 3750 | B32: 3750 | C32: 3830 | D32: 206422.65 | E32: =D32*(100-'Содержание РФ'!$E$4)/100 -> 206422.65
A34: Предложение действительно при заказе с основным модулем
A35: Опции | C35: Типоразмер | D35: Цена РРП, руб | E35: =CONCATENATE("Цена с учетом скидки ",'Содержание РФ'!$E$4," %",", руб") -> Цена с учетом скидки 0 %, руб
A36: 1 ряд полок с кронштейнами и регулировкой наклона | C36: 1250 | D36: 1431.15 | E36: =D36*(100-'Содержание РФ'!$E$4)/100 -> 1431.15
C37: 1875 | D37: 2332.05 | E37: =D37*(100-'Содержание РФ'!$E$4)/100 -> 2332.05
C38: 2500 | D38: 2861.25 | E38: =D38*(100-'Содержание РФ'!$E$4)/100 -> 2861.25
C39: 3750 | D39: 4292.4 | E39: =D39*(100-'Содержание РФ'!$E$4)/100 -> 4292.4
A40: 1 полка с кронштейнами и регулировкой наклона | C40: 930 | D40: 1165.5 | E40: =D40*(100-'Содержание РФ'!$E$4)/100 -> 1165.5
C41: 1250 | D41: 1431.15 | E41: =D41*(100-'Содержание РФ'!$E$4)/100 -> 1431.15
A42: светодиодная подсветка 1 ряда | C42: 1250 | D42: 1873.2 | E42: =D42*(100-'Содержание РФ'!$E$4)/100 -> 1873.2
C43: 1875 | D43: 3137.4 | E43: =D43*(100-'Содержание РФ'!$E$4)/100 -> 3137.4
C44: 2500 | D44: 3739.05 | E44: =D44*(100-'Содержание РФ'!$E$4)/100 -> 3739.05
C45: 3750 | D45: 5599.65 | E45: =D45*(100-'Содержание РФ'!$E$4)/100 -> 5599.65
A46: светодиодная подсветка 5 рядов | C46: 1250 | D46: 9364.95 | E46: =D46*(100-'Содержание РФ'!$E$4)/100 -> 9364.95
C47: 1875 | D47: 15682.8 | E47: =D47*(100-'Содержание РФ'!$E$4)/100 -> 15682.8
C48: 2500 | D48: 18695.25 | E48: =D48*(100-'Содержание РФ'!$E$4)/100 -> 18695.25
C49: 3750 | D49: 27997.2 | E49: =D49*(100-'Содержание РФ'!$E$4)/100 -> 27997.2
A50: Фруктовый комплект (FV) | C50: 1250 | D50: 1500 | E50: =D50*(100-'Содержание РФ'!$E$4)/100 -> 1500
C51: 1875 | D51: 1700 | E51: =D51*(100-'Содержание РФ'!$E$4)/100 -> 1700
C52: 2500 | D52: 3000 | E52: =D52*(100-'Содержание РФ'!$E$4)/100 -> 3000
C53: 3750 | D53: 4500 | E53: =D53*(100-'Содержание РФ'!$E$4)/100 -> 4500
A54: Энергосберегающий вентилятор | C54: 1250 | D54: 5460 | E54: =D54*(100-'Содержание РФ'!$E$4)/100 -> 5460
C55: 1875 | D55: 8190 | E55: =D55*(100-'Содержание РФ'!$E$4)/100 -> 8190
C56: 2500 | D56: 10920 | E56: =D56*(100-'Содержание РФ'!$E$4)/100 -> 10920
C57: 3750 | D57: 16380 | E57: =D57*(100-'Содержание РФ'!$E$4)/100 -> 16380
A58: ЭРВ | D58: 18375 | E58: =D58*(100-'Содержание РФ'!$E$4)/100 -> 18375
...

Sheet M MSH
C2: Содержание
A19: Стандартная комплектация | D19: Технические параметры
A20: * Вертикальная LED подсветка; | D20: * Параметры электропитания, В/Ф/Гц: 220-230/1/50
A21: * Фронтальное остекление Х1; | D21: * Температурный режим: -1…+7
A22: * 5 рядов полок по 450 мм с кронштейнами и регулировкой наклона; | D22: * Температура окружающей среды: +12…+25 (влажность не выше 60%)
A23: * Механический ТРВ Danfoss;
A24: * Электронный блок управления;
A25: * Комплект подключения к системе дренажа;
A26: * ТЭН оттайки;
A27: * Бампер RAL 9003.
A28: Цены указаны в рублях с учётом НДС
A29: Наименование | B29: Типоразмер | C29: Длина с боковинами | D29: Цена РРП, руб | E29: =CONCATENATE("Цена с учетом скидки ",'Содержание РФ'!$E$4," %",", руб") -> Цена с учетом скидки 0 %, руб
A30: MONTE Maxi SH 1250 | B30: 1250 | C30: 1330 | D30: 147560.44 | E30: =D30*(100-'Содержание РФ'!$E$4)/100 -> 147560.44
A31: MONTE Maxi SH 1875 | B31: 1875 | C31: 1955 | D31: 200261.11 | E31: =D31*(100-'Содержание РФ'!$E$4)/100 -> 200261.11
A32: MONTE Maxi SH 2500 | B32: 2500 | C32: 2580 | D32: 258858.49 | E32: =D32*(100-'Содержание РФ'!$E$4)/100 -> 258858.49
A33: MONTE Maxi SH 3750 | B33: 3750 | C33: 3830 | D33: 374538.62 | E33: =D33*(100-'Содержание РФ'!$E$4)/100 -> 374538.62
A35: Предложение действительно при заказе с основным модулем
A36: Опции | C36: Типоразмер | D36: Цена РРП, руб | E36: =CONCATENATE("Цена с учетом скидки ",'Содержание РФ'!$E$4," %",", руб") -> Цена с учетом скидки 0 %, руб
A37: 1 ряд полок с кронштейнами и регулировкой наклона | C37: 1250 | D37: 1431.15 | E37: =D37*(100-'Содержание РФ'!$E$4)/100 -> 1431.15
C38: 1875 | D38: 2332.05 | E38: =D38*(100-'Содержание РФ'!$E$4)/100 -> 2332.05
C39: 2500 | D39: 2861.25 | E39: =D39*(100-'Содержание РФ'!$E$4)/100 -> 2861.25
C40: 3750 | D40: 4292.4 | E40: =D40*(100-'Содержание РФ'!$E$4)/100 -> 4292.4
A41: 1 полка с кронштейнами и регулировкой наклона | C41: 930 | D41: 1165.5 | E41: =D41*(100-'Содержание РФ'!$E$4)/100 -> 1165.5
C42: 1250 | D42: 1431.15 | E42: =D42*(100-'Содержание РФ'!$E$4)/100 -> 1431.15
A43: светодиодная подсветка 1 ряда | C43: 1250 | D43: 1873.2 | E43: =D43*(100-'Содержание РФ'!$E$4)/100 -> 1873.2
C44: 1875 | D44: 3137.4 | E44: =D44*(100-'Содержание РФ'!$E$4)/100 -> 3137.4
C45: 2500 | D45: 3739.05 | E45: =D45*(100-'Содержание РФ'!$E$4)/100 -> 3739.05
C46: 3750 | D46: 5599.65 | E46: =D46*(100-'Содержание РФ'!$E$4)/100 -> 5599.65
A47: светодиодная подсветка 5 рядов | C47: 1250 | D47: 9364.95 | E47: =D47*(100-'Содержание РФ'!$E$4)/100 -> 9364.95
C48: 1875 | D48: 15682.8 | E48: =D48*(100-'Содержание РФ'!$E$4)/100 -> 15682.8
C49: 2500 | D49: 18695.25 | E49: =D49*(100-'Содержание РФ'!$E$4)/100 -> 18695.25
C50: 3750 | D50: 27997.2 | E50: =D50*(100-'Содержание РФ'!$E$4)/100 -> 27997.2
A51: Фруктовый комплект (FV) | C51: 1250 | D51: 1500 | E51: =D51*(100-'Содержание РФ'!$E$4)/100 -> 1500
C52: 1875 | D52: 1700 | E52: =D52*(100-'Содержание РФ'!$E$4)/100 -> 1700
C53: 2500 | D53: 3000 | E53: =D53*(100-'Содержание РФ'!$E$4)/100 -> 3000
C54: 3750 | D54: 4500 | E54: =D54*(100-'Содержание РФ'!$E$4)/100 -> 4500
A55: Энергосберегающий вентилятор | C55: 1250 | D55: 5460 | E55: =D55*(100-'Содержание РФ'!$E$4)/100 -> 5460
C56: 1875 | D56: 8190 | E56: =D56*(100-'Содержание РФ'!$E$4)/100 -> 8190
C57: 2500 | D57: 10920 | E57: =D57*(100-'Содержание РФ'!$E$4)/100 -> 10920
C58: 3750 | D58: 16380 | E58: =D58*(100-'Содержание РФ'!$E$4)/100 -> 16380
...

Sheet M M
C2: Содержание
A19: Стандартная комплектация | D19: Технические параметры
A20: * Верхняя LED подсветка; | D20: * Параметры электропитания, В/Ф/Гц: 220-230/1/50
A21: * 4 ряда полок по 500 мм с кронштейнами и регулировкой наклона; | D21: * Температура окружающей среды: +12…+25 (влажность не выше 60%)
A22: * Механический ТРВ Danfoss; | D22: * Температурный режим без остекления: +1…+7
A23: * Электронный блок управления; | D23: * Температурный режим с остеклением: -1…+7
A24: * Комплект подключения к системе дренажа;
A25: * ТЭН оттайки;
A26: * Бампер RAL 9003.
A27: Цены указаны в рублях с учётом НДС
A28: Наименование | B28: Типоразмер | C28: Длина с боковинами | D28: Цена РРП, руб | E28: =CONCATENATE("Цена с учетом скидки ",'Содержание РФ'!$E$4," %",", руб") -> Цена с учетом скидки 0 %, руб
A29: MONTE M 1250 | B29: 1250 | C29: 1330 | D29: 101990.7 | E29: =D29*(100-'Содержание РФ'!$E$4)/100 -> 101990.7
A30: MONTE M 1875 | B30: 1875 | C30: 1955 | D30: 136136.7 | E30: =D30*(100-'Содержание РФ'!$E$4)/100 -> 136136.7
A31: MONTE M 2500 | B31: 2500 | C31: 2580 | D31: 169970.85 | E31: =D31*(100-'Содержание РФ'!$E$4)/100 -> 169970.85
A32: MONTE M 3750 | B32: 3750 | C32: 3830 | D32: 230258.7 | E32: =D32*(100-'Содержание РФ'!$E$4)/100 -> 230258.7
A33: MONTE M TG | B33: 1875 | C33: 1955 | D33: 139531.35 | E33: =D33*(100-'Содержание РФ'!$E$4)/100 -> 139531.35
A35: Предложение действительно при заказе с основным модулем
A36: Опции | C36: Типоразмер | D36: Цена РРП, руб | E36: =CONCATENATE("Цена с учетом скидки ",'Содержание РФ'!$E$4," %",", руб") -> Цена с учетом скидки 0 %, руб
A37: 1 ряд полок с кронштейнами и регулировкой наклона | C37: 1250 | D37: 1431.15 | E37: =D37*(100-'Содержание РФ'!$E$4)/100 -> 1431.15
C38: 1875 | D38: 2332.05 | E38: =D38*(100-'Содержание РФ'!$E$4)/100 -> 2332.05
C39: 2500 | D39: 2861.25 | E39: =D39*(100-'Содержание РФ'!$E$4)/100 -> 2861.25
C40: 3750 | D40: 4292.4 | E40: =D40*(100-'Содержание РФ'!$E$4)/100 -> 4292.4
A41: 1 полка с кронштейнами и регулировкой наклона | C41: 930 | D41: 1165.5 | E41: =D41*(100-'Содержание РФ'!$E$4)/100 -> 1165.5
C42: 1250 | D42: 1431.15 | E42: =D42*(100-'Содержание РФ'!$E$4)/100 -> 1431.15
A43: светодиодная подсветка 1 ряда | C43: 1250 | D43: 1851.15 | E43: =D43*(100-'Содержание РФ'!$E$4)/100 -> 1851.15
C44: 1875 | D44: 3033.45 | E44: =D44*(100-'Содержание РФ'!$E$4)/100 -> 3033.45
C45: 2500 | D45: 3702.3 | E45: =D45*(100-'Содержание РФ'!$E$4)/100 -> 3702.3
C46: 3750 | D46: 5553.45 | E46: =D46*(100-'Содержание РФ'!$E$4)/100 -> 5553.45
A47: светодиодная подсветка 4 рядов | C47: 1250 | D47: 7403.55 | E47: =D47*(100-'Содержание РФ'!$E$4)/100 -> 7403.55
C48: 1875 | D48: 12130.65 | E48: =D48*(100-'Содержание РФ'!$E$4)/100 -> 12130.65
C49: 2500 | D49: 14807.1 | E49: =D49*(100-'Содержание РФ'!$E$4)/100 -> 14807.1
C50: 3750 | D50: 22210.65 | E50: =D50*(100-'Содержание РФ'!$E$4)/100 -> 22210.65
A51: Фруктовый комплект (FV) | C51: 1250 | D51: 1700 | E51: =D51*(100-'Содержание РФ'!$E$4)/100 -> 1700
C52: 1875 | D52: 1900 | E52: =D52*(100-'Содержание РФ'!$E$4)/100 -> 1900
C53: 2500 | D53: 3400 | E53: =D53*(100-'Содержание РФ'!$E$4)/100 -> 3400
C54: 3750 | D54: 5100 | E54: =D54*(100-'Содержание РФ'!$E$4)/100 -> 5100
A55: Энергосберегающий вентилятор | C55: 1250 | D55: 5460 | E55: =D55*(100-'Содержание РФ'!$E$4)/100 -> 5460
C56: 1875 | D56: 8190 | E56: =D56*(100-'Содержание РФ'!$E$4)/100 -> 8190
C57: 2500 | D57: 10920 | E57: =D57*(100-'Содержание РФ'!$E$4)/100 -> 10920
C58: 3750 | D58: 16380 | E58: =D58*(100-'Содержание РФ'!$E$4)/100 -> 16380
...

Sheet M MМ
C2: Содержание
A19: Стандартная комплектация | D19: Технические параметры
A20: * Вертикальная LED подсветка; | D20: * Параметры электропитания, В/Ф/Гц: 220-230/1/50
A21: * Фронтальное остекление Х1; | D21: * Температурный: -1…+7
A22: * 4 ряда полок по 600 мм с кронштейнами и регулировкой наклона; | D22: * Температура окружающей среды: +12…+25 (влажность не выше 60%)
A23: * Механический ТРВ Danfoss;
A24: * Электронный блок управления;
A25: * Комплект подключения к системе дренажа;
A26: * ТЭН оттайки;
A27: * Бампер RAL 9003.
A28: Цены указаны в рублях с учётом НДС
A29: Наименование | B29: Типоразмер | C29: Длина с боковинами | D29: Цена РРП, руб | E29: =CONCATENATE("Цена с учетом скидки ",'Содержание РФ'!$E$4," %",", руб") -> Цена с учетом скидки 0 %, руб
A30: Monte M Maxi 1250 | B30: 1250 | C30: 1330 | D30: 157091.77 | E30: =D30*(100-'Содержание РФ'!$E$4)/100 -> 157091.77
A31: Monte M Maxi 1875 | B31: 1875 | C31: 1955 | D31: 211355.87 | E31: =D31*(100-'Содержание РФ'!$E$4)/100 -> 211355.87
A32: Monte M Maxi 2500 | B32: 2500 | C32: 2580 | D32: 276771.94 | E32: =D32*(100-'Содержание РФ'!$E$4)/100 -> 276771.94
A33: Monte M Maxi 3750 | B33: 3750 | C33: 3830 | D33: 387990.57 | E33: =D33*(100-'Содержание РФ'!$E$4)/100 -> 387990.57
A34: MONTE M Maxi TG | B34: 1875 | C34: 1955 | D34: 215089.99 | E34: =D34*(100-'Содержание РФ'!$E$4)/100 -> 215089.98
A36: Предложение действительно при заказе с основным модулем
A37: Опции | C37: Типоразмер | D37: Цена РРП, руб | E37: =CONCATENATE("Цена с учетом скидки ",'Содержание РФ'!$E$4," %",", руб") -> Цена с учетом скидки 0 %, руб
A38: 1 ряд полок с кронштейнами и регулировкой наклона | C38: 1250 | D38: 1431.15 | E38: =D38*(100-'Содержание РФ'!$E$4)/100 -> 1431.15
C39: 1875 | D39: 2332.05 | E39: =D39*(100-'Содержание РФ'!$E$4)/100 -> 2332.05
C40: 2500 | D40: 2861.25 | E40: =D40*(100-'Содержание РФ'!$E$4)/100 -> 2861.25
C41: 3750 | D41: 4292.4 | E41: =D41*(100-'Содержание РФ'!$E$4)/100 -> 4292.4
A42: 1 полка с кронштейнами и регулировкой наклона | C42: 930 | D42: 1165.5 | E42: =D42*(100-'Содержание РФ'!$E$4)/100 -> 1165.5
C43: 1250 | D43: 1431.15 | E43: =D43*(100-'Содержание РФ'!$E$4)/100 -> 1431.15
A44: светодиодная подсветка 1 ряда | C44: 1250 | D44: 1851.15 | E44: =D44*(100-'Содержание РФ'!$E$4)/100 -> 1851.15
C45: 1875 | D45: 3033.45 | E45: =D45*(100-'Содержание РФ'!$E$4)/100 -> 3033.45
C46: 2500 | D46: 3702.3 | E46: =D46*(100-'Содержание РФ'!$E$4)/100 -> 3702.3
C47: 3750 | D47: 5553.45 | E47: =D47*(100-'Содержание РФ'!$E$4)/100 -> 5553.45
A48: светодиодная подсветка 4 рядов | C48: 1250 | D48: 7403.55 | E48: =D48*(100-'Содержание РФ'!$E$4)/100 -> 7403.55
C49: 1875 | D49: 12130.65 | E49: =D49*(100-'Содержание РФ'!$E$4)/100 -> 12130.65
C50: 2500 | D50: 14807.1 | E50: =D50*(100-'Содержание РФ'!$E$4)/100 -> 14807.1
C51: 3750 | D51: 22210.65 | E51: =D51*(100-'Содержание РФ'!$E$4)/100 -> 22210.65
A52: Фруктовый комплект (FV) | C52: 1250 | D52: 1700 | E52: =D52*(100-'Содержание РФ'!$E$4)/100 -> 1700
C53: 1875 | D53: 1900 | E53: =D53*(100-'Содержание РФ'!$E$4)/100 -> 1900
C54: 2500 | D54: 3400 | E54: =D54*(100-'Содержание РФ'!$E$4)/100 -> 3400
C55: 3750 | D55: 5100 | E55: =D55*(100-'Содержание РФ'!$E$4)/100 -> 5100
A56: Энергосберегающий вентилятор | C56: 1250 | D56: 5460 | E56: =D56*(100-'Содержание РФ'!$E$4)/100 -> 5460
C57: 1875 | D57: 8190 | E57: =D57*(100-'Содержание РФ'!$E$4)/100 -> 8190
C58: 2500 | D58: 10920 | E58: =D58*(100-'Содержание РФ'!$E$4)/100 -> 10920
...

Sheet M MH
C2: Содержание
A19: Стандартная комплектация | D19: Технические параметры
A20: * Верхняя LED подсветка; | D20: * Параметры электропитания, В/Ф/Гц: 220-230/1/50
A21: * 5 рядов полок по 500 мм с кронштейнами и регулировкой наклона; | D21: * Температура окружающей среды: +12…+25 (влажность не выше 60%)
A22: * Механический ТРВ Danfoss; | D22: * Температурный режим без остекления: +1…+7
A23: * Электронный блок управления; | D23: * Температурный режим с остеклением: -1…+7
A24: * Комплект подключения к системе дренажа;
A25: * ТЭН оттайки;
A26: * Бампер RAL 9003.
A27: Цены указаны в рублях с учётом НДС
A28: Наименование | B28: Типоразмер | C28: Длина с боковинами | D28: Цена РРП, руб | E28: =CONCATENATE("Цена с учетом скидки ",'Содержание РФ'!$E$4," %",", руб") -> Цена с учетом скидки 0 %, руб
A29: MONTE MH 1250 | B29: 1250 | C29: 1330 | D29: 103289.55 | E29: =D29*(100-'Содержание РФ'!$E$4)/100 -> 103289.55
A30: MONTE MH 1875 | B30: 1875 | C30: 1955 | D30: 139987.05 | E30: =D30*(100-'Содержание РФ'!$E$4)/100 -> 139987.05
A31: MONTE MH 2500 | B31: 2500 | C31: 2580 | D31: 173817 | E31: =D31*(100-'Содержание РФ'!$E$4)/100 -> 173817
A32: MONTE MH 3750 | B32: 3750 | C32: 3830 | D32: 234216.15 | E32: =D32*(100-'Содержание РФ'!$E$4)/100 -> 234216.15
A33: MONTE MH TG | B33: 1875 | C33: 1955 | D33: 147199.5 | E33: =D33*(100-'Содержание РФ'!$E$4)/100 -> 147199.5
A35: Предложение действительно при заказе с основным модулем
A36: Опции | C36: Типоразмер | D36: Цена РРП, руб | E36: =CONCATENATE("Цена с учетом скидки ",'Содержание РФ'!$E$4," %",", руб") -> Цена с учетом скидки 0 %, руб
A37: 1 ряд полок с кронштейнами и регулировкой наклона | C37: 1250 | D37: 1431.15 | E37: =D37*(100-'Содержание РФ'!$E$4)/100 -> 1431.15
C38: 1875 | D38: 2332.05 | E38: =D38*(100-'Содержание РФ'!$E$4)/100 -> 2332.05
C39: 2500 | D39: 2861.25 | E39: =D39*(100-'Содержание РФ'!$E$4)/100 -> 2861.25
C40: 3750 | D40: 4292.4 | E40: =D40*(100-'Содержание РФ'!$E$4)/100 -> 4292.4
A41: 1 полка с кронштейнами и регулировкой наклона | C41: 930 | D41: 1431.15 | E41: =D41*(100-'Содержание РФ'!$E$4)/100 -> 1431.15
C42: 1250 | D42: 1165.5 | E42: =D42*(100-'Содержание РФ'!$E$4)/100 -> 1165.5
A43: светодиодная подсветка 1 ряда | C43: 1250 | D43: 1431.15 | E43: =D43*(100-'Содержание РФ'!$E$4)/100 -> 1431.15
C44: 1875 | D44: 1431.15 | E44: =D44*(100-'Содержание РФ'!$E$4)/100 -> 1431.15
C45: 2500 | D45: 1165.5 | E45: =D45*(100-'Содержание РФ'!$E$4)/100 -> 1165.5
C46: 3750 | D46: 1431.15 | E46: =D46*(100-'Содержание РФ'!$E$4)/100 -> 1431.15
A47: светодиодная подсветка 5 рядов | C47: 1250 | D47: 9364.95 | E47: =D47*(100-'Содержание РФ'!$E$4)/100 -> 9364.95
C48: 1875 | D48: 15682.8 | E48: =D48*(100-'Содержание РФ'!$E$4)/100 -> 15682.8
C49: 2500 | D49: 18695.25 | E49: =D49*(100-'Содержание РФ'!$E$4)/100 -> 18695.25
C50: 3750 | D50: 27997.2 | E50: =D50*(100-'Содержание РФ'!$E$4)/100 -> 27997.2
A51: Фруктовый комплект (FV) | C51: 1250 | D51: 1700 | E51: =D51*(100-'Содержание РФ'!$E$4)/100 -> 1700
C52: 1875 | D52: 1900 | E52: =D52*(100-'Содержание РФ'!$E$4)/100 -> 1900
C53: 2500 | D53: 3400 | E53: =D53*(100-'Содержание РФ'!$E$4)/100 -> 3400
C54: 3750 | D54: 5100 | E54: =D54*(100-'Содержание РФ'!$E$4)/100 -> 5100
A55: Энергосберегающий вентилятор | C55: 1250 | D55: 5460 | E55: =D55*(100-'Содержание РФ'!$E$4)/100 -> 5460
C56: 1875 | D56: 8190 | E56: =D56*(100-'Содержание РФ'!$E$4)/100 -> 8190
C57: 2500 | D57: 10920 | E57: =D57*(100-'Содержание РФ'!$E$4)/100 -> 10920
C58: 3750 | D58: 16380 | E58: =D58*(100-'Содержание РФ'!$E$4)/100 -> 16380
...

Sheet M МMH
C2: Содержание
A19: Стандартная комплектация | D19: Технические параметры
A20: * Вертикальная LED подсветка; | D20: * Параметры электропитания, В/Ф/Гц: 220-230/1/50
A21: * Фронтальное остекление Х1; | D21: * Температурный режим: -1…+7
A22: * 5 рядов полок по 500 мм с кронштейнами и регулировкой наклона; | D22: * Температура окружающей среды: +12…+25 (влажность не выше 60%)
A23: * Механический ТРВ Danfoss;
A24: * Электронный блок управления;
A25: * Комплект подключения к системе дренажа;
A26: * ТЭН оттайки;
A27: * Бампер RAL 9003.
A28: Цены указаны в рублях с учётом НДС
A29: Наименование | B29: Типоразмер | C29: Длина с боковинами | D29: Цена РРП, руб | E29: =CONCATENATE("Цена с учетом скидки ",'Содержание РФ'!$E$4," %",", руб") -> Цена с учетом скидки 0 %, руб
A30: Monte MH Maxi 1250 | B30: 1250 | C30: 1330 | D30: 162776.4 | E30: =D30*(100-'Содержание РФ'!$E$4)/100 -> 162776.4
A31: Monte MH Maxi 1875 | B31: 1875 | C31: 1955 | D31: 220508.26 | E31: =D31*(100-'Содержание РФ'!$E$4)/100 -> 220508.26
A32: Monte MH Maxi 2500 | B32: 2500 | C32: 2580 | D32: 289514.5 | E32: =D32*(100-'Содержание РФ'!$E$4)/100 -> 289514.5
A33: Monte MH Maxi 3750 | B33: 3750 | C33: 3830 | D33: 405111.47 | E33: =D33*(100-'Содержание РФ'!$E$4)/100 -> 405111.47
A34: MONTE MH Maxi TG | B34: 1875 | C34: 1955 | D34: 228441.95 | E34: =D34*(100-'Содержание РФ'!$E$4)/100 -> 228441.95
A36: Предложение действительно при заказе с основным модулем
A37: Опции | C37: Типоразмер | D37: Цена РРП, руб | E37: =CONCATENATE("Цена с учетом скидки ",'Содержание РФ'!$E$4," %",", руб") -> Цена с учетом скидки 0 %, руб
A38: 1 ряд полок с кронштейнами и регулировкой наклона | C38: 1250 | D38: 1431.15 | E38: =D38*(100-'Содержание РФ'!$E$4)/100 -> 1431.15
C39: 1875 | D39: 2332.05 | E39: =D39*(100-'Содержание РФ'!$E$4)/100 -> 2332.05
C40: 2500 | D40: 2861.25 | E40: =D40*(100-'Содержание РФ'!$E$4)/100 -> 2861.25
C41: 3750 | D41: 4292.4 | E41: =D41*(100-'Содержание РФ'!$E$4)/100 -> 4292.4
A42: 1 полка с кронштейнами и регулировкой наклона | C42: 1250 | D42: 1431.15 | E42: =D42*(100-'Содержание РФ'!$E$4)/100 -> 1431.15
C43: 1875 | D43: 1165.5 | E43: =D43*(100-'Содержание РФ'!$E$4)/100 -> 1165.5
C44: 2500 | D44: 1431.15 | E44: =D44*(100-'Содержание РФ'!$E$4)/100 -> 1431.15
C45: 3750 | D45: 1431.15 | E45: =D45*(100-'Содержание РФ'!$E$4)/100 -> 1431.15
A46: 1 полка с кронштейнами и регулировкой наклона | C46: 930 | D46: 1165.5 | E46: =D46*(100-'Содержание РФ'!$E$4)/100 -> 1165.5
C47: 1250 | D47: 1431.15 | E47: =D47*(100-'Содержание РФ'!$E$4)/100 -> 1431.15
A48: светодиодная подсветка 5 рядов | C48: 1250 | D48: 9364.95 | E48: =D48*(100-'Содержание РФ'!$E$4)/100 -> 9364.95
C49: 1875 | D49: 15682.8 | E49: =D49*(100-'Содержание РФ'!$E$4)/100 -> 15682.8
C50: 2500 | D50: 18695.25 | E50: =D50*(100-'Содержание РФ'!$E$4)/100 -> 18695.25
C51: 3750 | D51: 27997.2 | E51: =D51*(100-'Содержание РФ'!$E$4)/100 -> 27997.2
A52: Фруктовый комплект (FV) | C52: 1250 | D52: 1700 | E52: =D52*(100-'Содержание РФ'!$E$4)/100 -> 1700
C53: 1875 | D53: 1900 | E53: =D53*(100-'Содержание РФ'!$E$4)/100 -> 1900
C54: 2500 | D54: 3400 | E54: =D54*(100-'Содержание РФ'!$E$4)/100 -> 3400
C55: 3750 | D55: 5100 | E55: =D55*(100-'Содержание РФ'!$E$4)/100 -> 5100
A56: Энергосберегающий вентилятор | C56: 1250 | D56: 5460 | E56: =D56*(100-'Содержание РФ'!$E$4)/100 -> 5460
C57: 1875 | D57: 8190 | E57: =D57*(100-'Содержание РФ'!$E$4)/100 -> 8190
C58: 2500 | D58: 10920 | E58: =D58*(100-'Содержание РФ'!$E$4)/100 -> 10920
...

Sheet M L
C2: Содержание
A19: Стандартная комплектация | D19: Технические параметры
A20: * Верхняя LED подсветка; | D20: * Параметры электропитания, В/Ф/Гц: 220-230/1/50
A21: * 4 ряда полок по 600 мм с кронштейнами и регулировкой наклона; | D21: * Температура окружающей среды: +12…+25 (влажность не выше 60%)
A22: * Механический ТРВ Danfoss; | D22: * Температурный режим без остекления: +1…+7
A23: * Электронный блок управления; | D23: * Температурный режим с остеклением: -1…+7
A24: * Комплект подключения к системе дренажа;
A25: * ТЭН оттайки;
A26: * Бампер RAL 9003.
A27: Цены указаны в рублях с учётом НДС
A28: Наименование | B28: Типоразмер | C28: Длина с боковинами | D28: Цена РРП, руб | E28: =CONCATENATE("Цена с учетом скидки ",'Содержание РФ'!$E$4," %",", руб") -> Цена с учетом скидки 0 %, руб
A29: MONTE L 1250 | B29: 1250 | C29: 1330 | D29: 108149.58 | E29: =D29*(100-'Содержание РФ'!$E$4)/100 -> 108149.58
A30: MONTE L 1875 | B30: 1875 | C30: 1955 | D30: 149512.44 | E30: =D30*(100-'Содержание РФ'!$E$4)/100 -> 149512.44
A31: MONTE L 2500 | B31: 2500 | C31: 2580 | D31: 186447.03 | E31: =D31*(100-'Содержание РФ'!$E$4)/100 -> 186447.03
A32: MONTE L 3750 | B32: 3750 | C32: 3830 | D32: 251806.17 | E32: =D32*(100-'Содержание РФ'!$E$4)/100 -> 251806.17
A33: MONTE L TG | B33: 2500 | C33: 2580 | D33: 186896.33 | E33: =D33*(100-'Содержание РФ'!$E$4)/100 -> 186896.33
A35: Предложение действительно при заказе с основным модулем
A36: Опции | C36: Типоразмер | D36: Цена РРП, руб | E36: =CONCATENATE("Цена с учетом скидки ",'Содержание РФ'!$E$4," %",", руб") -> Цена с учетом скидки 0 %, руб
A37: 1 ряд полок с кронштейнами и регулировкой наклона | C37: 1250 | D37: 1431.15 | E37: =D37*(100-'Содержание РФ'!$E$4)/100 -> 1431.15
C38: 1875 | D38: 2332.05 | E38: =D38*(100-'Содержание РФ'!$E$4)/100 -> 2332.05
C39: 2500 | D39: 2861.25 | E39: =D39*(100-'Содержание РФ'!$E$4)/100 -> 2861.25
C40: 3750 | D40: 4292.4 | E40: =D40*(100-'Содержание РФ'!$E$4)/100 -> 4292.4
A41: 1 полка с кронштейнами и регулировкой наклона | C41: 930 | D41: 1165.5 | E41: =D41*(100-'Содержание РФ'!$E$4)/100 -> 1165.5
C42: 1250 | D42: 1431.15 | E42: =D42*(100-'Содержание РФ'!$E$4)/100 -> 1431.15
A43: светодиодная подсветка 1 ряда | C43: 1250 | D43: 1851.15 | E43: =D43*(100-'Содержание РФ'!$E$4)/100 -> 1851.15
C44: 1875 | D44: 3033.45 | E44: =D44*(100-'Содержание РФ'!$E$4)/100 -> 3033.45
C45: 2500 | D45: 3702.3 | E45: =D45*(100-'Содержание РФ'!$E$4)/100 -> 3702.3
C46: 3750 | D46: 5553.45 | E46: =D46*(100-'Содержание РФ'!$E$4)/100 -> 5553.45
A47: светодиодная подсветка 4 рядов | C47: 1250 | D47: 7403.55 | E47: =D47*(100-'Содержание РФ'!$E$4)/100 -> 7403.55
C48: 1875 | D48: 12130.65 | E48: =D48*(100-'Содержание РФ'!$E$4)/100 -> 12130.65
C49: 2500 | D49: 14807.1 | E49: =D49*(100-'Содержание РФ'!$E$4)/100 -> 14807.1
C50: 3750 | D50: 22210.65 | E50: =D50*(100-'Содержание РФ'!$E$4)/100 -> 22210.65
A51: Фруктовый комплект (FV) | C51: 1250 | D51: 1900 | E51: =D51*(100-'Содержание РФ'!$E$4)/100 -> 1900
C52: 1875 | D52: 2100 | E52: =D52*(100-'Содержание РФ'!$E$4)/100 -> 2100
C53: 2500 | D53: 3800 | E53: =D53*(100-'Содержание РФ'!$E$4)/100 -> 3800
C54: 3750 | D54: 5700 | E54: =D54*(100-'Содержание РФ'!$E$4)/100 -> 5700
A55: Энергосберегающий вентилятор | C55: 1250 | D55: 5460 | E55: =D55*(100-'Содержание РФ'!$E$4)/100 -> 5460
C56: 1875 | D56: 8190 | E56: =D56*(100-'Содержание РФ'!$E$4)/100 -> 8190
C57: 2500 | D57: 10920 | E57: =D57*(100-'Содержание РФ'!$E$4)/100 -> 10920
C58: 3750 | D58: 16380 | E58: =D58*(100-'Содержание РФ'!$E$4)/100 -> 16380
...

Sheet M LH
C2: Содержание
A19: Стандартная комплектация | D19: Технические параметры
A20: * Верхняя LED подсветка; | D20: * Параметры электропитания, В/Ф/Гц: 220-230/1/50
A21: * 5 рядов полок по 600 мм с кронштейнами и регулировкой наклона; | D21: * Температура окружающей среды: +12…+25 (влажность не выше 60%)
A22: * Механический ТРВ Danfoss; | D22: * Температурный режим без остекления: +1…+7
A23: * Электронный блок управления; | D23: * Температурный режим с остеклением: -1…+7
A24: * Комплект подключения к системе дренажа;
A25: * ТЭН оттайки;
A26: * Бампер RAL 9003.
A27: Цены указаны в рублях с учётом НДС
A28: Наименование | B28: Типоразмер | C28: Длина с боковинами | D28: Цена РРП, руб | E28: =CONCATENATE("Цена с учетом скидки ",'Содержание РФ'!$E$4," %",", руб") -> Цена с учетом скидки 0 %, руб
A29: MONTE LH 1250 | B29: 1250 | C29: 1330 | D29: 109752.72 | E29: =D29*(100-'Содержание РФ'!$E$4)/100 -> 109752.72
A30: MONTE LH 1875 | B30: 1875 | C30: 1955 | D30: 154242.17 | E30: =D30*(100-'Содержание РФ'!$E$4)/100 -> 154242.17
A31: MONTE LH 2500 | B31: 2500 | C31: 2580 | D31: 190143.03 | E31: =D31*(100-'Содержание РФ'!$E$4)/100 -> 190143.03
A32: MONTE LH 3750 | B32: 3750 | C32: 3830 | D32: 256381.13 | E32: =D32*(100-'Содержание РФ'!$E$4)/100 -> 256381.13
A33: MONTE LH TG | B33: 2500 | C33: 2580 | D33: 190802.54 | E33: =D33*(100-'Содержание РФ'!$E$4)/100 -> 190802.54
A35: Предложение действительно при заказе с основным модулем
A36: Опции | C36: Типоразмер | D36: Цена РРП, руб | E36: =CONCATENATE("Цена с учетом скидки ",'Содержание РФ'!$E$4," %",", руб") -> Цена с учетом скидки 0 %, руб
A37: 1 ряд полок с кронштейнами и регулировкой наклона | C37: 1250 | D37: 1431.15 | E37: =D37*(100-'Содержание РФ'!$E$4)/100 -> 1431.15
C38: 1875 | D38: 2332.05 | E38: =D38*(100-'Содержание РФ'!$E$4)/100 -> 2332.05
C39: 2500 | D39: 2861.25 | E39: =D39*(100-'Содержание РФ'!$E$4)/100 -> 2861.25
C40: 3750 | D40: 4292.4 | E40: =D40*(100-'Содержание РФ'!$E$4)/100 -> 4292.4
A41: 1 полка с кронштейнами и регулировкой наклона | C41: 930 | D41: 1165.5 | E41: =D41*(100-'Содержание РФ'!$E$4)/100 -> 1165.5
C42: 1250 | D42: 1431.15 | E42: =D42*(100-'Содержание РФ'!$E$4)/100 -> 1431.15
A43: светодиодная подсветка 1 ряда | C43: 1250 | D43: 1873.2 | E43: =D43*(100-'Содержание РФ'!$E$4)/100 -> 1873.2
C44: 1875 | D44: 3137.4 | E44: =D44*(100-'Содержание РФ'!$E$4)/100 -> 3137.4
C45: 2500 | D45: 3739.05 | E45: =D45*(100-'Содержание РФ'!$E$4)/100 -> 3739.05
C46: 3750 | D46: 5599.65 | E46: =D46*(100-'Содержание РФ'!$E$4)/100 -> 5599.65
A47: светодиодная подсветка 5 рядов | C47: 1250 | D47: 9364.95 | E47: =D47*(100-'Содержание РФ'!$E$4)/100 -> 9364.95
C48: 1875 | D48: 15682.8 | E48: =D48*(100-'Содержание РФ'!$E$4)/100 -> 15682.8
C49: 2500 | D49: 18695.25 | E49: =D49*(100-'Содержание РФ'!$E$4)/100 -> 18695.25
C50: 3750 | D50: 27997.2 | E50: =D50*(100-'Содержание РФ'!$E$4)/100 -> 27997.2
A51: Фруктовый комплект (FV) | C51: 1250 | D51: 1900 | E51: =D51*(100-'Содержание РФ'!$E$4)/100 -> 1900
C52: 1875 | D52: 2100 | E52: =D52*(100-'Содержание РФ'!$E$4)/100 -> 2100
C53: 2500 | D53: 3800 | E53: =D53*(100-'Содержание РФ'!$E$4)/100 -> 3800
C54: 3750 | D54: 5700 | E54: =D54*(100-'Содержание РФ'!$E$4)/100 -> 5700
A55: Энергосберегающий вентилятор | C55: 1250 | D55: 5460 | E55: =D55*(100-'Содержание РФ'!$E$4)/100 -> 5460
C56: 1875 | D56: 8190 | E56: =D56*(100-'Содержание РФ'!$E$4)/100 -> 8190
C57: 2500 | D57: 10920 | E57: =D57*(100-'Содержание РФ'!$E$4)/100 -> 10920
C58: 3750 | D58: 16380 | E58: =D58*(100-'Содержание РФ'!$E$4)/100 -> 16380
...

Sheet R M
C2: Содержание
A19: Стандартная комплектация | D19: Технические параметры
A20: * Верхняя LED подсветка; | D20: * Параметры электропитания, В/Ф/Гц: 220-230/1/50
A21: * 3 ряда полок 300/400/500 мм с кронштейнами и регулировкой наклона; | D21: * Температура окружающей среды: +12…+25 (влажность не выше 60%)
A22: * Механический ТРВ Danfoss; | D22: * Температурный режим без остекления: +1…+7
A23: * Электронный блок управления;
A24: * Комплект подключения к системе дренажа;
A25: * ТЭН оттайки;
A26: * Бампер RAL 9003.
A27: Цены указаны в рублях с учётом НДС
A28: Наименование | B28: Типоразмер | C28: Длина с боковинами | D28: Цена РРП, руб | E28: =CONCATENATE("Цена с учетом скидки ",'Содержание РФ'!$E$4," %",", руб") -> Цена с учетом скидки 0 %, руб
A29: POLAIR Ritto 1250 | B29: 1250 | C29: 1330 | D29: 91098 | E29: =D29*(100-'Содержание РФ'!$E$4)/100 -> 91098
A30: POLAIR Ritto 1875 | B30: 1875 | C30: 1955 | D30: 116605.44 | E30: =D30*(100-'Содержание РФ'!$E$4)/100 -> 116605.44
A31: POLAIR Ritto 2500 | B31: 2500 | C31: 2580 | D31: 149254.96 | E31: =D31*(100-'Содержание РФ'!$E$4)/100 -> 149254.96
A32: POLAIR Ritto 3750 | B32: 3750 | C32: 3830 | D32: 191046.35 | E32: =D32*(100-'Содержание РФ'!$E$4)/100 -> 191046.35
A33: POLAIR Ritto TG | B33: 1875 | C33: 1955 | D33: 143934.84 | E33: =D33*(100-'Содержание РФ'!$E$4)/100 -> 143934.84
A34: Предложение действительно при заказе с основным модулем
A35: Опции | C35: Типоразмер | D35: Цена РРП, руб | E35: =CONCATENATE("Цена с учетом скидки ",'Содержание РФ'!$E$4," %",", руб") -> Цена с учетом скидки 0 %, руб
A36: 1 полка с кронштейнами и регулировкой наклона | C36: 1250 | D36: 1431.15 | E36: =D36*(100-'Содержание РФ'!$E$4)/100 -> 1431.15
C37: 1875 | D37: 1165.5 | E37: =D37*(100-'Содержание РФ'!$E$4)/100 -> 1165.5
C38: 2500 | D38: 1431.15 | E38: =D38*(100-'Содержание РФ'!$E$4)/100 -> 1431.15
C39: 3750 | D39: 1431.15 | E39: =D39*(100-'Содержание РФ'!$E$4)/100 -> 1431.15
A40: светодиодная подсветка 1 ряда | C40: 1250 | D40: 1873.2 | E40: =D40*(100-'Содержание РФ'!$E$4)/100 -> 1873.2
C41: 1875 | D41: 3137.4 | E41: =D41*(100-'Содержание РФ'!$E$4)/100 -> 3137.4
C42: 2500 | D42: 3739.05 | E42: =D42*(100-'Содержание РФ'!$E$4)/100 -> 3739.05
C43: 3750 | D43: 5599.65 | E43: =D43*(100-'Содержание РФ'!$E$4)/100 -> 5599.65
A44: Энергосберегающий вентилятор | C44: 1250 | D44: 5460 | E44: =D44*(100-'Содержание РФ'!$E$4)/100 -> 5460
C45: 1875 | D45: 8190 | E45: =D45*(100-'Содержание РФ'!$E$4)/100 -> 8190
C46: 2500 | D46: 10920 | E46: =D46*(100-'Содержание РФ'!$E$4)/100 -> 10920
C47: 3750 | D47: 16380 | E47: =D47*(100-'Содержание РФ'!$E$4)/100 -> 16380
A48: ЭРВ | D48: 18375 | E48: =D48*(100-'Содержание РФ'!$E$4)/100 -> 18375
A49: Покраска в нестандартный цвет | D49: 15225 | E49: =D49*(100-'Содержание РФ'!$E$4)/100 -> 15225
A50: Сетевая карта | D50: 6825 | E50: =D50*(100-'Содержание РФ'!$E$4)/100 -> 6825
A51: Комплект для стыковки в линию | D51: 367.5 | E51: =D51*(100-'Содержание РФ'!$E$4)/100 -> 367.5
A52: Шторка
A53: Ночная шторка | C53: 1250 | D53: 9417.45 | E53: =D53*(100-'Содержание РФ'!$E$4)/100 -> 9417.45
C54: 1875 | D54: 10952.55 | E54: =D54*(100-'Содержание РФ'!$E$4)/100 -> 10952.55
C55: 2500 | D55: 18835.95 | E55: =D55*(100-'Содержание РФ'!$E$4)/100 -> 18835.95
C56: 3750 | D56: 28253.4 | E56: =D56*(100-'Содержание РФ'!$E$4)/100 -> 28253.4
A57: Боковая панель
...

Sheet G MH
C2: Содержание
A20: Стандартная комплектация: | D20: Технические параметры
A21: * Стеклянный фронт с обогревом рамы и створок X5L | D21: * Параметры электропитания, В/Ф/Гц: 220-230/1/50
A22: * 5 рядов полок глубиной 600 мм с кронштейнами с регулировкой наклона | D22: * Температура окружающей среды: +12…+25 (влажность не выше 60%)
A23: * Термореле | D23: * Температурный режим: -22...-18
A24: * Вертикальная LED подсветка
A25: * Механический ТРВ
A26: * Электронный блок управления
A27: * Комплект подключения к системе дренажа
A28: * Режим автоматической оттайки
A29: * Бампер
A30: Цены указаны в рублях с учётом НДС
A31: Наименование | B31: Типоразмер | C31: Длина с боковинами | D31: Цена РРП, руб | E31: =CONCATENATE("Цена с учетом скидки ",'Содержание РФ'!$E$4," %",", руб") -> Цена с учетом скидки 0 %, руб
A32: GELO MH 1250 - 3 кл | B32: 1250 | C32: 2580 | D32: 288500 | E32: =D32*(100-'Содержание РФ'!$E$4)/100 -> 288500
A33: GELO MH 1875 - 3 кл | B33: 1875 | C33: 1995 | D33: 375050 | E33: =D33*(100-'Содержание РФ'!$E$4)/100 -> 375050
A34: GELO MH 2500 - 3 кл | B34: 2500 | C34: 2580 | D34: 443572.5 | E34: =D34*(100-'Содержание РФ'!$E$4)/100 -> 443572.5
A35: GELO MH 3750 - 3 кл | B35: 3750 | C35: 3830 | D35: 621075 | E35: =D35*(100-'Содержание РФ'!$E$4)/100 -> 621075
A36: GELO MH 1250 - 6 кл | B36: 1250 | C36: 2580 | D36: 302000 | E36: =D36*(100-'Содержание РФ'!$E$4)/100 -> 302000
A37: GELO MH 1875 - 6 кл | B37: 1875 | C37: 1995 | D37: 422800 | E37: =D37*(100-'Содержание РФ'!$E$4)/100 -> 422800
A38: GELO MH 2500 - 6 кл | B38: 2500 | C38: 2580 | D38: 500850 | E38: =D38*(100-'Содержание РФ'!$E$4)/100 -> 500850
A39: GELO MH 3750 - 6 кл | B39: 3750 | C39: 3830 | D39: 684600 | E39: =D39*(100-'Содержание РФ'!$E$4)/100 -> 684600
A40: Опции
A41: Сетевая карта | D41: 6825 | E41: =D41*(100-'Содержание РФ'!$E$4)/100 -> 6825
A42: Энергосберегающий эл/двиг. AL 1544/28-iQ3608-310250-W9.0 | D42: 4116 | E42: =D42*(100-'Содержание РФ'!$E$4)/100 -> 4116
A43: Полка решетчатая нижняя ВПН без покрытия (600*670)(корзина) | D43: 1648.5 | E43: =D43*(100-'Содержание РФ'!$E$4)/100 -> 1648.5
A44: Ценникодержатель КЕ L=930 мм. | D44: 181 | E44: =D44*(100-'Содержание РФ'!$E$4)/100 -> 181
A45: Ценникодержатель КЕ L=1250 мм. | D45: 207.9 | E45: =D45*(100-'Содержание РФ'!$E$4)/100 -> 207.9
A46: Покраска в нестандартный цвет | D46: 15225 | E46: =D46*(100-'Содержание РФ'!$E$4)/100 -> 15225
A47: Упаковка для оборудования, поставляемого в разобранном виде
A48: Ящик для упаковки охлаждаемого стеллажа (обязателен для горок в разобранном виде) | C48: 1250 | D48: 2103.15 | E48: =D48*(100-'Содержание РФ'!$E$4)/100 -> 2103.15
C49: 1875 | D49: 2103.15 | E49: =D49*(100-'Содержание РФ'!$E$4)/100 -> 2103.15
C50: 2500 | D50: 2313.15 | E50: =D50*(100-'Содержание РФ'!$E$4)/100 -> 2313.15
C51: 3750 | D51: 3712.8 | E51: =D51*(100-'Содержание РФ'!$E$4)/100 -> 3712.8
A52: Ящик для упаковки комплекта (2 боковины) боковин | D52: 2983.05 | E52: =D52*(100-'Содержание РФ'!$E$4)/100 -> 2983.05

Sheet G DB
C2: Содержание
A20: Стандартная комплектация: | D20: Технические параметры
A21: * Стеклянный фронт с обогревом рамы и створок X5L | D21: * Параметры электропитания, В/Ф/Гц: 220-230/1/50
A22: * 3 рядов полок глубиной 600 мм с кронштейнами с регулировкой наклона | D22: * Температура окружающей среды: +12…+25 (влажность не выше 60%)
A23: * 1 ряд полок глубиной 420 мм с кронштейнами с регулировкой наклона | D23: * Температурный режим: -22...-18
A24: * Термореле
A25: * Вертикальная LED подсветка
A26: * Механический ТРВ
A27: * Электронный блок управления
A28: * Комплект подключения к системе дренажа
A29: * Режим автоматической оттайки
A30: * Бампер
A31: Цены указаны в рублях с учётом НДС
A32: Наименование | B32: Типоразмер | C32: Длина с боковинами | D32: Цена РРП, руб | E32: =CONCATENATE("Цена с учетом скидки ",'Содержание РФ'!$E$4," %",", руб") -> Цена с учетом скидки 0 %, руб
A33: GELO SB 2500 - 3 кл | B33: 2500 | C33: 2580 | D33: 548572.5 | E33: =D33*(100-'Содержание РФ'!$E$4)/100 -> 548572.5
A34: GELO SB 3750 - 3 кл | B34: 3750 | C34: 3830 | D34: 726075 | E34: =D34*(100-'Содержание РФ'!$E$4)/100 -> 726075
A35: GELO SB 2500 - 6 кл | B35: 2500 | C35: 2580 | D35: 605850 | E35: =D35*(100-'Содержание РФ'!$E$4)/100 -> 605850
A36: GELO SB 3750 - 6 кл | B36: 3750 | C36: 3830 | D36: 789600 | E36: =D36*(100-'Содержание РФ'!$E$4)/100 -> 789600
A37: Опции
A38: Сетевая карта | D38: 6825 | E38: =D38*(100-'Содержание РФ'!$E$4)/100 -> 6825
A39: Энергосберегающий эл/двиг. AL 1544/28-iQ3608-310250-W9.0 | D39: 4116 | E39: =D39*(100-'Содержание РФ'!$E$4)/100 -> 4116
A40: Полка решетчатая нижняя ВПН без покрытия (600*670)(корзина) | D40: 1648.5 | E40: =D40*(100-'Содержание РФ'!$E$4)/100 -> 1648.5
A41: Ценникодержатель КЕ L=1250 мм. | D41: 207.9 | E41: =D41*(100-'Содержание РФ'!$E$4)/100 -> 207.9
A42: Покраска в нестандартный цвет | D42: 15225 | E42: =D42*(100-'Содержание РФ'!$E$4)/100 -> 15225
A43: Упаковка для оборудования, поставляемого в разобранном виде
A44: Ящик для упаковки охлаждаемого стеллажа (обязателен для горок в разобранном виде) | C44: 2500 | D44: 2313.15 | E44: =D44*(100-'Содержание РФ'!$E$4)/100 -> 2313.15
C45: 3750 | D45: 3712.8 | E45: =D45*(100-'Содержание РФ'!$E$4)/100 -> 3712.8
A46: Ящик для упаковки комплекта (2 боковины) боковин | D46: 2983.05 | E46: =D46*(100-'Содержание РФ'!$E$4)/100 -> 2983.05

Sheet C
C2: Содержание
A23: Стандартная комплектация | D23: Технические параметры
A24: * Электронный блок управления | D24: * Параметры электропитания, В/Ф/Гц: 220-230/1/50
A25: * Ночная шторка (для витрин пристенных без остекления) | D25: * Температура окружающей среды: +12…+25 (влажность не выше 60%)
A26: * 4 ряда полок глубиной 400 мм | D26: * Температурный режим без остекления: 0...+7
A27: * Боковая LED подсветка
A28: * Защитный бампер
A29: * Выпариватель конденсата
A30: * Способ оттаивания - естественными теплопритоками
A31: Цены указаны в рублях с учётом НДС
A32: Наименование | B32: Типоразмер | C32: Длина с боковинами | D32: Цена РРП, руб | E32: =CONCATENATE("Цена с учетом скидки ",'Содержание РФ'!$E$4," %",", руб") -> Цена с учетом скидки 0 %, руб
A33: CUBE 520 М Plug-In | B33: 520 | C33: 600 | D33: 65310 | E33: =D33*(100-'Содержание РФ'!$E$4)/100 -> 65310
A34: CUBE 660 М Plug-In | B34: 660 | C34: 740 | D34: 68985 | E34: =D34*(100-'Содержание РФ'!$E$4)/100 -> 68985
A35: CUBE 980 М Plug-In | B35: 980 | C35: 1060 | D35: 81165 | E35: =D35*(100-'Содержание РФ'!$E$4)/100 -> 81165
A36: CUBE 1250 М Plug-In | B36: 1250 | C36: 1330 | D36: 95655 | E36: =D36*(100-'Содержание РФ'!$E$4)/100 -> 95655
A37: CUBE 1875 М Plug-In | B37: 1875 | C37: 1955 | D37: 127155 | E37: =D37*(100-'Содержание РФ'!$E$4)/100 -> 127155
A38: CUBE 2500 М Plug-In | B38: 2500 | C38: 2580 | D38: 196140 | E38: =D38*(100-'Содержание РФ'!$E$4)/100 -> 196140
A40: Предложение действительно при заказе с основным модулем
A41: Опции | C41: Типоразмер | D41: Цена РРП, руб | E41: =CONCATENATE("Цена с учетом скидки ",'Содержание РФ'!$E$4," %",", руб") -> Цена с учетом скидки 0 %, руб
A42: Боковые панели (1 ед.):
A43: -- со стеклопакетом | D43: 6090 | E43: =D43*(100-'Содержание РФ'!$E$4)/100 -> 6090
A44: -- глухая | D44: 7455 | E44: =D44*(100-'Содержание РФ'!$E$4)/100 -> 7455
A45: -- глухая-зеркало | D45: 9345 | E45: =D45*(100-'Содержание РФ'!$E$4)/100 -> 9345
A46: Разделители межсекционные (1 ед.):
A47: -- разделитель оргстекло | D47: 8884.05 | E47: =D47*(100-'Содержание РФ'!$E$4)/100 -> 8884.05
A48: -- со стеклопакетом | D48: 8820 | E48: =D48*(100-'Содержание РФ'!$E$4)/100 -> 8820
A49: -- глухой | D49: 6195 | E49: =D49*(100-'Содержание РФ'!$E$4)/100 -> 6195
A50: -- глухая-зеркало | D50: 9345 | E50: =D50*(100-'Содержание РФ'!$E$4)/100 -> 9345
A51: -- зеркало-зеркало | D51: 10920 | E51: =D51*(100-'Содержание РФ'!$E$4)/100 -> 10920
A52: Энергосберегающая светодиодная подсветка полок (1 ряд):
A53: Светодиодная подсветка | C53: 520 | D53: 703.5 | E53: =D53*(100-'Содержание РФ'!$E$4)/100 -> 703.5
C54: 660 | D54: 997.5 | E54: =D54*(100-'Содержание РФ'!$E$4)/100 -> 997.5
C55: 980 | D55: 1365 | E55: =D55*(100-'Содержание РФ'!$E$4)/100 -> 1365
C56: 1250 | D56: 3150 | E56: =D56*(100-'Содержание РФ'!$E$4)/100 -> 3150
C57: 1875 | D57: 5250 | E57: =D57*(100-'Содержание РФ'!$E$4)/100 -> 5250
C58: 2500 | D58: 5985 | E58: =D58*(100-'Содержание РФ'!$E$4)/100 -> 5985
A59: Дополнительные металлические полки с кронштейнами
A60: Полка с кронштейнами | C60: 660 | D60: 535.5 | E60: =D60*(100-'Содержание РФ'!$E$4)/100 -> 535.5
C61: 980 | D61: 619.5 | E61: =D61*(100-'Содержание РФ'!$E$4)/100 -> 619.5
C62: 1250 | D62: 695.1 | E62: =D62*(100-'Содержание РФ'!$E$4)/100 -> 695.1
...

Sheet C MG
C2: Содержание
A23: Стандартная комплектация: | D23: Технические параметры
A24: * Электронный блок управления | D24: * Параметры электропитания, В/Ф/Гц: 220-230/1/50
A25: * Фронтальное остекление Х1 | D25: * Температура окружающей среды: +12…+25 (влажность не выше 60%)
A26: * 4 ряда полок глубиной 400 мм | D26: * Температурный режим с остеклением: -5…+7
A27: * Боковая LED подсветка
A28: * Защитный бампер
A29: * Выпариватель конденсата
A30: * Способ оттаивания - естественными теплопритоками
A31: Цены указаны в рублях с учётом НДС
A32: Наименование | B32: Типоразмер | C32: Длина с боковинами | D32: Цена РРП, руб | E32: =CONCATENATE("Цена с учетом скидки ",'Содержание РФ'!$E$4," %",", руб") -> Цена с учетом скидки 0 %, руб
A33: CUBE 660-07 MG Plug-In | B33: 660 | C33: 740 | D33: 88305 | E33: =D33*(100-'Содержание РФ'!$E$4)/100 -> 88305
A34: CUBE 980-07 MG Plug-In | B34: 980 | C34: 1060 | D34: 101430 | E34: =D34*(100-'Содержание РФ'!$E$4)/100 -> 101430
A35: CUBE 1250-07 MG Plug-In | B35: 1250 | C35: 1330 | D35: 121590 | E35: =D35*(100-'Содержание РФ'!$E$4)/100 -> 121590
A36: CUBE 1875-07 MG Plug-In | B36: 1875 | C36: 1955 | D36: 156030 | E36: =D36*(100-'Содержание РФ'!$E$4)/100 -> 156030
A37: CUBE 2500-07 MG Plug-In | B37: 2500 | C37: 2580 | D37: 279890 | E37: =D37*(100-'Содержание РФ'!$E$4)/100 -> 279890
A38: Предложение действительно при заказе с основным модулем
A39: Опции | C39: Типоразмер | D39: Цена РРП, руб | E39: =CONCATENATE("Цена с учетом скидки ",'Содержание РФ'!$E$4," %",", руб") -> Цена с учетом скидки 0 %, руб
A40: Боковые панели (1 ед.):
A41: -- со стеклопакетом | D41: 6090 | E41: =D41*(100-'Содержание РФ'!$E$4)/100 -> 6090
A42: -- глухая | D42: 7455 | E42: =D42*(100-'Содержание РФ'!$E$4)/100 -> 7455
A43: -- глухая-зеркало | D43: 9345 | E43: =D43*(100-'Содержание РФ'!$E$4)/100 -> 9345
A44: Разделители межсекционные (1 ед.):
A45: -- разделитель оргстекло | D45: 6090 | E45: =D45*(100-'Содержание РФ'!$E$4)/100 -> 6090
A46: -- со стеклопакетом | D46: 8820 | E46: =D46*(100-'Содержание РФ'!$E$4)/100 -> 8820
A47: -- глухой | D47: 6195 | E47: =D47*(100-'Содержание РФ'!$E$4)/100 -> 6195
A48: -- глухая-зеркало | D48: 9345 | E48: =D48*(100-'Содержание РФ'!$E$4)/100 -> 9345
A49: -- зеркало-зеркало | D49: 10920 | E49: =D49*(100-'Содержание РФ'!$E$4)/100 -> 10920
A50: Фронтальное остекление
A51: Х1 | C51: 660 | D51: 0 | E51: =D51*(100-'Содержание РФ'!$E$4)/100 -> 0
C52: 980 | D52: 0 | E52: =D52*(100-'Содержание РФ'!$E$4)/100 -> 0
C53: 1250 | D53: 0 | E53: =D53*(100-'Содержание РФ'!$E$4)/100 -> 0
C54: 1875 | D54: 0 | E54: =D54*(100-'Содержание РФ'!$E$4)/100 -> 0
C55: 2500 | D55: 0 | E55: =D55*(100-'Содержание РФ'!$E$4)/100 -> 0
A56: Х3 | C56: 660 | D56: 2900 | E56: =D56*(100-'Содержание РФ'!$E$4)/100 -> 2900
C57: 980 | D57: 3100 | E57: =D57*(100-'Содержание РФ'!$E$4)/100 -> 3100
C58: 1250 | D58: 3259 | E58: =D58*(100-'Содержание РФ'!$E$4)/100 -> 3259
C59: 1875 | D59: 4612 | E59: =D59*(100-'Содержание РФ'!$E$4)/100 -> 4612
C60: 2500 | D60: 6517 | E60: =D60*(100-'Содержание РФ'!$E$4)/100 -> 6517
A61: Энергосберегающая светодиодная подсветка полок (1 ряд):
...

Sheet S M
C2: Содержание
A23: Стандартная комплектация | D23: Технические параметры
A24: * Электронный блок управления | D24: * Параметры электропитания, В/Ф/Гц: 220-230/1/50
A25: * Ночная шторка (для витрин пристенных без остекления) | D25: * Температура окружающей среды: +12…+25 (влажность не выше 60%)
A26: * 5 рядов полок глубиной 400 мм | D26: * Температурный режим без остекления: +1...+7
A27: * Боковая LED подсветка
A28: * Защитный бампер
A29: * Выпариватель конденсата
A30: * Способ оттаивания - естественными теплопритоками
A31: Цены указаны в рублях с учётом НДС
A32: Наименование | B32: Типоразмер | C32: Длина с боковинами | D32: Цена РРП, руб | E32: =CONCATENATE("Цена с учетом скидки ",'Содержание РФ'!$E$4," %",", руб") -> Цена с учетом скидки 0 %, руб
A33: STRETTO 1250 М Plug-In | B33: 1250 | C33: 1330 | D33: 113116.5 | E33: =D33*(100-'Содержание РФ'!$E$4)/100 -> 113116.5
A34: STRETTO 1875 М Plug-In | B34: 1875 | C34: 1955 | D34: 149829.75 | E34: =D34*(100-'Содержание РФ'!$E$4)/100 -> 149829.75
A35: STRETTO 2500 М Plug-In | B35: 2500 | C35: 2580 | D35: 230202 | E35: =D35*(100-'Содержание РФ'!$E$4)/100 -> 230202
A37: Предложение действительно при заказе с основным модулем
A38: Опции | C38: Типоразмер | D38: Цена РРП, руб | E38: =CONCATENATE("Цена с учетом скидки ",'Содержание РФ'!$E$4," %",", руб") -> Цена с учетом скидки 0 %, руб
A39: Боковые панели (1 ед.):
A40: -- со стеклопакетом | D40: 6090 | E40: =D40*(100-'Содержание РФ'!$E$4)/100 -> 6090
A41: -- глухая | D41: 7455 | E41: =D41*(100-'Содержание РФ'!$E$4)/100 -> 7455
A42: -- глухая-зеркало | D42: 9345 | E42: =D42*(100-'Содержание РФ'!$E$4)/100 -> 9345
A43: Разделители межсекционные (1 ед.):
A44: -- со стеклопакетом | D44: - | E44: -
A45: -- глухой | D45: - | E45: -
A46: -- глухая-зеркало | D46: - | E46: -
A47: -- зеркало-зеркало | D47: - | E47: -
A48: Энергосберегающая светодиодная подсветка полок (1 ряд):
A49: Светодиодная подсветка | C49: 1250 | D49: 3150 | E49: =D49*(100-'Содержание РФ'!$E$4)/100 -> 3150
C50: 1875 | D50: 5250 | E50: =D50*(100-'Содержание РФ'!$E$4)/100 -> 5250
C51: 2500 | D51: 5985 | E51: =D51*(100-'Содержание РФ'!$E$4)/100 -> 5985
A52: Дополнительные металлические полки с кронштейнами
A53: Полка с кронштейнами | C53: 930 | D53: 619.5 | E53: =D53*(100-'Содержание РФ'!$E$4)/100 -> 619.5
C54: 1250 | D54: 695.1 | E54: =D54*(100-'Содержание РФ'!$E$4)/100 -> 695.1
A55: Ценникодержатели на полках (1 рядов):
A56: Ценникодержатели на полках | C56: 1250 | D56: 407.4 | E56: =D56*(100-'Содержание РФ'!$E$4)/100 -> 407.4
C57: 1875 | D57: 812.7 | E57: =D57*(100-'Содержание РФ'!$E$4)/100 -> 812.7
C58: 2500 | D58: 812.7 | E58: =D58*(100-'Содержание РФ'!$E$4)/100 -> 812.7
A59: Ограничители высотой 39 мм (1 ряд):
A60: Ограничители высотой 39 мм (1 ряд) | C60: 1250 | D60: 342.3 | E60: =D60*(100-'Содержание РФ'!$E$4)/100 -> 342.3
C61: 1875 | D61: 598.5 | E61: =D61*(100-'Содержание РФ'!$E$4)/100 -> 598.5
C62: 2500 | D62: 684.6 | E62: =D62*(100-'Содержание РФ'!$E$4)/100 -> 684.6
...

Sheet S MG
C2: Содержание
A23: Стандартная комплектация: | D23: Технические параметры
A24: * Электронный блок управления | D24: * Параметры электропитания, В/Ф/Гц: 220-230/1/50
A25: * Фронтальное остекление Х1 | D25: * Температура окружающей среды: +12…+25 (влажность не выше 60%)
A26: * 5 рядов полок глубиной 400 мм | D26: * Температурный режим с остеклением: -5…+7
A27: * Боковая LED подсветка
A28: * Защитный бампер
A29: * Выпариватель конденсата
A30: * Способ оттаивания - естественными теплопритоками
A31: Цены указаны в рублях с учётом НДС
A32: Наименование | B32: Типоразмер | C32: Длина с боковинами | D32: Цена РРП, руб | E32: =CONCATENATE("Цена с учетом скидки ",'Содержание РФ'!$E$4," %",", руб") -> Цена с учетом скидки 0 %, руб
A33: STRETTO 1250 МG Plug-In | B33: 1250 | C33: 1330 | D33: 136500 | E33: =D33*(100-'Содержание РФ'!$E$4)/100 -> 136500
A34: STRETTO 1875 МG Plug-In | B34: 1875 | C34: 1955 | D34: 174720 | E34: =D34*(100-'Содержание РФ'!$E$4)/100 -> 174720
A35: STRETTO 2500 МG Plug-In | B35: 2500 | C35: 2580 | D35: 255360 | E35: =D35*(100-'Содержание РФ'!$E$4)/100 -> 255360
A37: Предложение действительно при заказе с основным модулем
A38: Опции | C38: Типоразмер | D38: Цена РРП, руб | E38: =CONCATENATE("Цена с учетом скидки ",'Содержание РФ'!$E$4," %",", руб") -> Цена с учетом скидки 0 %, руб
A39: Боковые панели (1 ед.):
A40: -- со стеклопакетом | D40: 6090 | E40: =D40*(100-'Содержание РФ'!$E$4)/100 -> 6090
A41: -- глухая | D41: 7455 | E41: =D41*(100-'Содержание РФ'!$E$4)/100 -> 7455
A42: -- глухая-зеркало | D42: 9345 | E42: =D42*(100-'Содержание РФ'!$E$4)/100 -> 9345
A43: Разделители межсекционные (1 ед.):
A44: -- со стеклопакетом | D44: - | E44: -
A45: -- глухой | D45: - | E45: -
A46: -- глухая-зеркало | D46: - | E46: -
A47: -- зеркало-зеркало | D47: - | E47: -
A48: Фронтальное остекление
A49: Х1 | C49: 660 | D49: 0 | E49: =D49*(100-'Содержание РФ'!$E$4)/100 -> 0
C50: 980 | D50: 0 | E50: =D50*(100-'Содержание РФ'!$E$4)/100 -> 0
C51: 1250 | D51: 0 | E51: =D51*(100-'Содержание РФ'!$E$4)/100 -> 0
A52: Х3 | C52: 1250 | D52: 3259 | E52: =D52*(100-'Содержание РФ'!$E$4)/100 -> 3259
C53: 187 | D53: 4612 | E53: =D53*(100-'Содержание РФ'!$E$4)/100 -> 4612
C54: 2500 | D54: 6517 | E54: =D54*(100-'Содержание РФ'!$E$4)/100 -> 6517
A55: Энергосберегающая светодиодная подсветка полок (1 ряд):
A56: Светодиодная подсветка | C56: 1250 | D56: 3150 | E56: =D56*(100-'Содержание РФ'!$E$4)/100 -> 3150
C57: 1875 | D57: 5250 | E57: =D57*(100-'Содержание РФ'!$E$4)/100 -> 5250
C58: 2500 | D58: 5985 | E58: =D58*(100-'Содержание РФ'!$E$4)/100 -> 5985
A59: Дополнительные металлические полки с кронштейнами
A60: Полка с кронштейнами | C60: 930 | D60: 619.5 | E60: =D60*(100-'Содержание РФ'!$E$4)/100 -> 619.5
C61: 1250 | D61: 695.1 | E61: =D61*(100-'Содержание РФ'!$E$4)/100 -> 695.1
A62: Ценникодержатели на полках (1 рядов):
...

Sheet M Pi
C2: Содержание
A23: Стандартная комплектация: | D23: Технические параметры
A24: * Верхняя LED подсветка; | D24: * Параметры электропитания, В/Ф/Гц: 220-230/1/50
A25: * 5 рядов полок по 500 мм с кронштейнами и регулировкой наклона; | D25: * Температура окружающей среды: +12…+25 (влажность не выше 60%)
A26: * Холодильный агрегат; | D26: * Температурный режим: -1…+7
A27: * Фронтальное остекление Х1;
A28: * Механический ТРВ Danfoss;
A29: * Электронный блок управления;
A30: * Комплект подключения к системе дренажа;
A31: * ТЭН оттайки;
A32: * Бампер RAL 9003.
A33: Цены указаны в рублях с учётом НДС
