Workbook
Name А30: #REF!
Name А30: #REF!
Name А30: #REF!
Name А30: #REF!
Name А30: #REF!
Name А30: #REF!
Name А30: #REF!
Name А30: #REF!
Name А30: #REF!
Name А30: #REF!
Name А30: #REF!
Name А30: #REF!
Name А30: #REF!
Name А30: #REF!
Name А30: #REF!
Name А30: #REF!
Name А30: #REF!
Name А30: #REF!

Sheet Содержание РФ
B1: Оборудование для магазиностроения РФ
C3: Актуальность: | E3: 44025
C4: Ваша скидка: | E4: 0 | F4: %
A6: Пристенные охлаждаемые стеллажи | B6: глубина, мм | C6: высота, мм | D6: бланк согласования | E6: технический лист
A8: MONTE S | B8: 775 | C8: 2040 | D8: бланк | E8: Техн. характеристики S SH
A9: MONTE Maxi S | C9: 2040 | E9: Техн. хар. S SH М
A10: MONTE SH | C10: 2210 | E10: Техн. характеристики S SH
A11: MONTE Maxi SН | C11: 2210 | E11: Техн. хар. S SH М
A13: MONTE M | B13: 975 | C13: 2040 | D13: бланк | E13: Техн. характеристики M MH
A14: MONTE Maxi М | C14: 2040 | E14: Техн. характерист M MH М
A15: MONTE MH | C15: 2210 | E15: Техн. характеристики M MH
A16: MONTE Maxi МН | C16: 2210 | E16: Техн. характерист M MH М
A18: MONTE L | B18: 1075 | C18: 2040 | D18: бланк | E18: Техн. характеристики L LH
A19: MONTE LH | C19: 2210
A20: Ritto M | B20: 975 | C20: 1540 | D20: бланк | E20: Техн. характеристики R M
A22: Пристенные морозильные стеллажи | B22: глубина, мм | C22: высота, мм | E22: технический лист
A23: GELO MH | B23: 995 | C23: 2210 | D23: бланк | E23: Техн. характеристики G MH
A24: GELO Solid Bottom (GELO SB) | B24: 995 | C24: 2210 | D24: бланк | E24: Техн. характеристики G SB
A26: Решения со встроенным агрегатом | B26: глубина, мм | C26: высота, мм | E26: технический лист
A27: CUBE M Plug-In | B27: 710 | C27: 1930 | D27: бланк | E27: Техн. характеристики С
A28: CUBE MG Plug-In
A29: STRETTO M Plug-In | B29: 710 | C29: 1930 | D29: бланк | E29: Техн. характеристики S SG
A30: STRETTO MG Plug-In
A31: MONTE Plug-In | B31: 975 | C31: 2600 | D31: бланк | E31: Техн.хар. M MН Plug-in
A32: GELO Plug-In | B32: 1000 | E32: Техн. хар.ВПН M Plug-in
A33: Carino Plug-In | B33: 987 | C33: 1030 | D33: бланк

Sheet Сравнение M

Sheet Стандартные цвета
A1: Стандартные цвета
A3: Окраска внешних элементов (верхняя и нижняя фронтальные панели, боковые панели - внешние обшивки) | B3: Окраска внутренних элементов (задняя панель, панели "потолка", полки, ограничители, внешние обшивки боковых панелей)
A5: Стандартные цвета
A6: 3020
A7: 6018 | B7: 6018
A8: 6019
A9: 5019
A10: 5015
A11: 1021
A12: 7011 | B12: 7011
A13: 7035
A14: 9005 | B14: 9005
A15: 9003 | B15: 9003

Sheet БС M&G
A1: Бланк согласования технических элементов | B1: Содержание
A3: Поз.1- Верхняя декоративная панель | B3: RAL __________
A5: Поз.2-Боковая панель | B5: RAL __________
A7: Поз.3- Вставка фронтальная в боковую панель | B7: RAL __________
A9: Поз.4- Нижняя декоративная панель | B9: RAL __________
A11: Поз.5- Внутренние элементы горки | B11: RAL __________
A13: Поз.6- Профиль бордюр пластиковый | B13: RAL 9003( белый) RAL 7035(светло серый)
A15: Поз.7- Нижний фартук | B15: RAL __________
A17: Вывод холодильных трубок: | B17: Вверх на крышу Назад вниз Вперед вниз
A20: Согласовано от Заказчика | B20: ____________________________

Sheet БС C
S1: Содержание

Sheet БС R
Q1: Содержание

Sheet БС S
Q1: Содержание

Sheet БС Ca
R1: Содержание

Sheet M S
C2: Содержание
A19: Стандартная комплектация | D19: Технические параметры
A20: * Верхняя LED подсветка; | D20: * Параметры электропитания, В/Ф/Гц: 220-230/1/50
A21: * 4 ряда полок по 350 мм с кронштейнами и регулировкой наклона; | D21: * Температура окружающей среды: +12…+25 (влажность не выше 60%)
A22: * Механический ТРВ Danfoss; | D22: * Температурный режим без остекления: +1…+7
A23: * Электронный блок управления; | D23: * Температурный режим с остеклением: -1…+7
A24: * Комплект подключения к системе дренажа;
A25: * ТЭН оттайки;
A26: * Бампер RAL 9003.
A27: Цены указаны в рублях с учётом НДС
A28: Наименование | B28: Типоразмер | C28: Длина с боковинами | D28: Цена РРП, руб | E28: =CONCATENATE("Цена с учетом скидки ",'Содержание РФ'!$E$4," %",", руб") -> Цена с учетом скидки 0 %, руб
A29: MONTE S 1250 | B29: 1250 | C29: 1330 | D29: 88547.55 | E29: =D29*(100-'Содержание РФ'!$E$4)/100 -> 88547.55
A30: MONTE S 1875 | B30: 1875 | C30: 1955 | D30: 118591.2 | E30: =D30*(100-'Содержание РФ'!$E$4)/100 -> 118591.2
A31: MONTE S 2500 | B31: 2500 | C31: 2580 | D31: 144379.2 | E31: =D31*(100-'Содержание РФ'!$E$4)/100 -> 144379.2
A32: MONTE S 3750 | B32: 3750 | C32: 3830 | D32: 205415.7 | E32: =D32*(100-'Содержание РФ'!$E$4)/100 -> 205415.7
A34: Предложение действительно при заказе с основным модулем
A35: Опции | C35: Типоразмер | D35: Цена РРП, руб | E35: =CONCATENATE("Цена с учетом скидки ",'Содержание РФ'!$E$4," %",", руб") -> Цена с учетом скидки 0 %, руб
A36: 1 ряд полок с кронштейнами и регулировкой наклона | C36: 1250 | D36: 1431.15 | E36: =D36*(100-'Содержание РФ'!$E$4)/100 -> 1431.15
C37: 1875 | D37: 2332.05 | E37: =D37*(100-'Содержание РФ'!$E$4)/100 -> 2332.05
C38: 2500 | D38: 2861.25 | E38: =D38*(100-'Содержание РФ'!$E$4)/100 -> 2861.25
C39: 3750 | D39: 4292.4 | E39: =D39*(100-'Содержание РФ'!$E$4)/100 -> 4292.4
A40: 1 полка с кронштейнами и регулировкой наклона | C40: 930 | D40: 1165.5 | E40: =D40*(100-'Содержание РФ'!$E$4)/100 -> 1165.5
C41: 1250 | D41: 1431.15 | E41: =D41*(100-'Содержание РФ'!$E$4)/100 -> 1431.15
A42: светодиодная подсветка 1 ряда | C42: 1250 | D42: 1851.15 | E42: =D42*(100-'Содержание РФ'!$E$4)/100 -> 1851.15
C43: 1875 | D43: 3033.45 | E43: =D43*(100-'Содержание РФ'!$E$4)/100 -> 3033.45
C44: 2500 | D44: 3702.3 | E44: =D44*(100-'Содержание РФ'!$E$4)/100 -> 3702.3
C45: 3750 | D45: 5553.45 | E45: =D45*(100-'Содержание РФ'!$E$4)/100 -> 5553.45
A46: светодиодная подсветка 4 рядов | C46: 1250 | D46: 7403.55 | E46: =D46*(100-'Содержание РФ'!$E$4)/100 -> 7403.55
C47: 1875 | D47: 12130.65 | E47: =D47*(100-'Содержание РФ'!$E$4)/100 -> 12130.65
C48: 2500 | D48: 14807.1 | E48: =D48*(100-'Содержание РФ'!$E$4)/100 -> 14807.1
C49: 3750 | D49: 22210.65 | E49: =D49*(100-'Содержание РФ'!$E$4)/100 -> 22210.65
A50: Фруктовый комплект (FV) | C50: 1250 | D50: 1500 | E50: =D50*(100-'Содержание РФ'!$E$4)/100 -> 1500
C51: 1875 | D51: 1700 | E51: =D51*(100-'Содержание РФ'!$E$4)/100 -> 1700
C52: 2500 | D52: 3000 | E52: =D52*(100-'Содержание РФ'!$E$4)/100 -> 3000
C53: 3750 | D53: 4500 | E53: =D53*(100-'Содержание РФ'!$E$4)/100 -> 4500
A54: Энергосберегающий вентилятор | C54: 1250 | D54: 5460 | E54: =D54*(100-'Содержание РФ'!$E$4)/100 -> 5460
C55: 1875 | D55: 8190 | E55: =D55*(100-'Содержание РФ'!$E$4)/100 -> 8190
C56: 2500 | D56: 10920 | E56: =D56*(100-'Содержание РФ'!$E$4)/100 -> 10920
C57: 3750 | D57: 16380 | E57: =D57*(100-'Содержание РФ'!$E$4)/100 -> 16380
A58: ЭРВ | D58: 18375 | E58: =D58*(100-'Содержание РФ'!$E$4)/100 -> 18375
A59: Сетевая карта | D59: 6825 | E59: =D59*(100-'Содержание РФ'!$E$4)/100 -> 6825
A60: Покраска в нестандартный цвет | D60: 15225 | E60: =D60*(100-'Содержание РФ'!$E$4)/100 -> 15225
A61: Комплект для стыковки в линию | D61: 367.5 | E61: =D61*(100-'Содержание РФ'!$E$4)/100 -> 367.5
A62: Шторка/остекление
A63: Ночная шторка | C63: 1250 | D63: 9417.45 | E63: =D63*(100-'Содержание РФ'!$E$4)/100 -> 9417.45
C64: 1875 | D64: 10952.55 | E64: =D64*(100-'Содержание РФ'!$E$4)/100 -> 10952.55
C65: 2500 | D65: 18835.95 | E65: =D65*(100-'Содержание РФ'!$E$4)/100 -> 18835.95
C66: 3750 | D66: 28253.4 | E66: =D66*(100-'Содержание РФ'!$E$4)/100 -> 28253.4
A67: Фронтальное остекление Х1 (стеклопакет 4-12-4, закаленное стекло, торсионный механизм, магнитные уплотнители) | C67: 1250 | D67: 40820 | E67: =D67*(100-'Содержание РФ'!$E$4)/100 -> 40820
C68: 1875 | D68: 56005 | E68: =D68*(100-'Содержание РФ'!$E$4)/100 -> 56005
C69: 2500 | D69: 81640 | E69: =D69*(100-'Содержание РФ'!$E$4)/100 -> 81640
C70: 3750 | D70: 122460 | E70: =D70*(100-'Содержание РФ'!$E$4)/100 -> 122460
A71: Фронтальное остекление Х3 (безрамочный стеклопакет 4-12-4, закаленное стекло, торсионный механизм, магнитные уплотнители) | C71: 1250 | D71: 43984 | E71: =D71*(100-'Содержание РФ'!$E$4)/100 -> 43984
C72: 1875 | D72: 60482 | E72: =D72*(100-'Содержание РФ'!$E$4)/100 -> 60482
C73: 2500 | D73: 87968 | E73: =D73*(100-'Содержание РФ'!$E$4)/100 -> 87968
C74: 3750 | D74: 131952 | E74: =D74*(100-'Содержание РФ'!$E$4)/100 -> 131952
A75: Боковая панель
A76: Глухая левая | D76: 7535.85 | E76: =D76*(100-'Содержание РФ'!$E$4)/100 -> 7535.85
A77: Глухая правая | D77: 7535.85 | E77: =D77*(100-'Содержание РФ'!$E$4)/100 -> 7535.85
A78: Глухая с зеркалом левая | D78: 9359.7 | E78: =D78*(100-'Содержание РФ'!$E$4)/100 -> 9359.7
A79: Глухая с зеркалом правая | D79: 9359.7 | E79: =D79*(100-'Содержание РФ'!$E$4)/100 -> 9359.7
A80: Со стеклопакетом левая | D80: 6003.9 | E80: =D80*(100-'Содержание РФ'!$E$4)/100 -> 6003.9
A81: Со стеклопакетом правая | D81: 6003.9 | E81: =D81*(100-'Содержание РФ'!$E$4)/100 -> 6003.9
A82: Делитель
A83: Разделитель оргстекло | D83: 8884.05 | E83: =D83*(100-'Содержание РФ'!$E$4)/100 -> 8884.05
A84: Делитель глухой | D84: 6245.4 | E84: =D84*(100-'Содержание РФ'!$E$4)/100 -> 6245.4
A85: Делитель ГЗ (лев.глухая + прав. зеркало) | D85: 9416.4 | E85: =D85*(100-'Содержание РФ'!$E$4)/100 -> 9416.4
A86: Делитель ЗГ (прав. зеркало + лев.глухая) | D86: 9416.4 | E86: =D86*(100-'Содержание РФ'!$E$4)/100 -> 9416.4
A87: Делитель ЗЗ (с 2-х стор. зеркалом) | D87: 10998.75 | E87: =D87*(100-'Содержание РФ'!$E$4)/100 -> 10998.75
A88: Пространство на полке
A89: Ценникодержатели для полок (1250) | D89: 160.65 | E89: =D89*(100-'Содержание РФ'!$E$4)/100 -> 160.65
A90: Ценникодержатели для полок (937) | D90: 119.7 | E90: =D90*(100-'Содержание РФ'!$E$4)/100 -> 119.7
A91: Ограничитель проволочный для полки (1250) | D91: 225.75 | E91: =D91*(100-'Содержание РФ'!$E$4)/100 -> 225.75
A92: Ограничитель проволочный для полки (937) | D92: 182.7 | E92: =D92*(100-'Содержание РФ'!$E$4)/100 -> 182.7
A93: Разделитель полки пластиковый (для полки 350 мм) | D93: 497.7 | E93: =D93*(100-'Содержание РФ'!$E$4)/100 -> 497.7
A94: Разделитель базовой полки пластиковый (для полки 500 мм) | D94: 341.25 | E94: =D94*(100-'Содержание РФ'!$E$4)/100 -> 341.25
A95: Подвес для колбас проволочный (RAL 9003) | D95: 444.15 | E95: =D95*(100-'Содержание РФ'!$E$4)/100 -> 444.15
A96: Планка для размещения подвеса для колбас (1250) | D96: 1276.8 | E96: =D96*(100-'Содержание РФ'!$E$4)/100 -> 1276.8
A97: Планка для размещения подвеса для колбас (937) (2 шт для 1875 мм) | D97: 820.05 | E97: =D97*(100-'Содержание РФ'!$E$4)/100 -> 820.05
A98: Упаковка для оборудования, поставляемого в разобранном виде
A99: Ящик для упаковки охлаждаемого стеллажа (обязателен для горок в разобранном виде) | C99: 1250 | D99: 2103.15 | E99: =D99*(100-'Содержание РФ'!$E$4)/100 -> 2103.15
C100: 1875 | D100: 2103.15 | E100: =D100*(100-'Содержание РФ'!$E$4)/100 -> 2103.15
C101: 2500 | D101: 2313.15 | E101: =D101*(100-'Содержание РФ'!$E$4)/100 -> 2313.15
C102: 3750 | D102: 3712.8 | E102: =D102*(100-'Содержание РФ'!$E$4)/100 -> 3712.8
A103: Ящик для упаковки комплекта (2 боковины) боковин | D103: 2983.05 | E103: =D103*(100-'Содержание РФ'!$E$4)/100 -> 2983.05

Sheet M МS
C2: Содержание
A19: Стандартная комплектация | D19: Технические параметры
A20: * Вертикальная LED подсветка; | D20: * Параметры электропитания, В/Ф/Гц: 220-230/1/50
A21: * Фронтальное остекление Х1; | D21: * Температурный режим: -1…+7
A22: * 4 ряда полок по 450 мм с кронштейнами и регулировкой наклона; | D22: * Температура окружающей среды: +12…+25 (влажность не выше 60%)
A23: * Механический ТРВ Danfoss;
A24: * Электронный блок управления;
A25: * Комплект подключения к системе дренажа;
A26: * ТЭН оттайки;
A27: * Бампер RAL 9003.
A28: Цены указаны в рублях с учётом НДС
A29: Наименование | B29: Типоразмер | C29: Длина с боковинами | D29: Цена РРП, руб | E29: =CONCATENATE("Цена с учетом скидки ",'Содержание РФ'!$E$4," %",", руб") -> Цена с учетом скидки 0 %, руб
A30: MONTE Maxi S 1250 | B30: 1250 | C30: 1330 | D30: 142304.31 | E30: =D30*(100-'Содержание РФ'!$E$4)/100 -> 142304.31
A31: MONTE Maxi S 1875 | B31: 1875 | C31: 1955 | D31: 192055.82 | E31: =D31*(100-'Содержание РФ'!$E$4)/100 -> 192055.82
A32: MONTE Maxi S 2500 | B32: 2500 | C32: 2580 | D32: 248621.12 | E32: =D32*(100-'Содержание РФ'!$E$4)/100 -> 248621.12
A33: MONTE Maxi S 3750 | B33: 3750 | C33: 3830 | D33: 360663.27 | E33: =D33*(100-'Содержание РФ'!$E$4)/100 -> 360663.27
A35: Предложение действительно при заказе с основным модулем
A36: Опции | C36: Типоразмер | D36: Цена РРП, руб | E36: =CONCATENATE("Цена с учетом скидки ",'Содержание РФ'!$E$4," %",", руб") -> Цена с учетом скидки 0 %, руб
A37: 1 ряд полок с кронштейнами и регулировкой наклона | C37: 1250 | D37: 1431.15 | E37: =D37*(100-'Содержание РФ'!$E$4)/100 -> 1431.15
C38: 1875 | D38: 2332.05 | E38: =D38*(100-'Содержание РФ'!$E$4)/100 -> 2332.05
C39: 2500 | D39: 2861.25 | E39: =D39*(100-'Содержание РФ'!$E$4)/100 -> 2861.25
C40: 3750 | D40: 4292.4 | E40: =D40*(100-'Содержание РФ'!$E$4)/100 -> 4292.4
A41: 1 полка с кронштейнами и регулировкой наклона | C41: 930 | D41: 1165.5 | E41: =D41*(100-'Содержание РФ'!$E$4)/100 -> 1165.5
C42: 1250 | D42: 1431.15 | E42: =D42*(100-'Содержание РФ'!$E$4)/100 -> 1431.15
A43: светодиодная подсветка 1 ряда | C43: 1250 | D43: 1851.15 | E43: =D43*(100-'Содержание РФ'!$E$4)/100 -> 1851.15
C44: 1875 | D44: 3033.45 | E44: =D44*(100-'Содержание РФ'!$E$4)/100 -> 3033.45
C45: 2500 | D45: 3702.3 | E45: =D45*(100-'Содержание РФ'!$E$4)/100 -> 3702.3
C46: 3750 | D46: 5553.45 | E46: =D46*(100-'Содержание РФ'!$E$4)/100 -> 5553.45
A47: светодиодная подсветка 4 рядов | C47: 1250 | D47: 7403.55 | E47: =D47*(100-'Содержание РФ'!$E$4)/100 -> 7403.55
C48: 1875 | D48: 12130.65 | E48: =D48*(100-'Содержание РФ'!$E$4)/100 -> 12130.65
C49: 2500 | D49: 14807.1 | E49: =D49*(100-'Содержание РФ'!$E$4)/100 -> 14807.1
C50: 3750 | D50: 22210.65 | E50: =D50*(100-'Содержание РФ'!$E$4)/100 -> 22210.65
A51: Фруктовый комплект (FV) | C51: 1250 | D51: 1500 | E51: =D51*(100-'Содержание РФ'!$E$4)/100 -> 1500
C52: 1875 | D52: 1700 | E52: =D52*(100-'Содержание РФ'!$E$4)/100 -> 1700
C53: 2500 | D53: 3000 | E53: =D53*(100-'Содержание РФ'!$E$4)/100 -> 3000
C54: 3750 | D54: 4500 | E54: =D54*(100-'Содержание РФ'!$E$4)/100 -> 4500
A55: Энергосберегающий вентилятор | C55: 1250 | D55: 5460 | E55: =D55*(100-'Содержание РФ'!$E$4)/100 -> 5460
C56: 1875 | D56: 8190 | E56: =D56*(100-'Содержание РФ'!$E$4)/100 -> 8190
C57: 2500 | D57: 10920 | E57: =D57*(100-'Содержание РФ'!$E$4)/100 -> 10920
C58: 3750 | D58: 16380 | E58: =D58*(100-'Содержание РФ'!$E$4)/100 -> 16380
A59: ЭРВ | D59: 18375 | E59: =D59*(100-'Содержание РФ'!$E$4)/100 -> 18375
A60: Сетевая карта | D60: 6825 | E60: =D60*(100-'Содержание РФ'!$E$4)/100 -> 6825
A61: Покраска в нестандартный цвет | D61: 15225 | E61: =D61*(100-'Содержание РФ'!$E$4)/100 -> 15225
A62: Комплект для стыковки в линию | D62: 367.5 | E62: =D62*(100-'Содержание РФ'!$E$4)/100 -> 367.5
A63: Остекление
A64: Фронтальное остекление Х3 (безрамочный стеклопакет 4-12-4, закаленное стекло, торсионный механизм, магнитные уплотнители) | C64: 1250 | D64: 3164 | E64: =D64*(100-'Содержание РФ'!$E$4)/100 -> 3164
C65: 1875 | D65: 4477 | E65: =D65*(100-'Содержание РФ'!$E$4)/100 -> 4477
C66: 2500 | D66: 4376 | E66: =D66*(100-'Содержание РФ'!$E$4)/100 -> 4376
C67: 3750 | D67: 9492 | E67: =D67*(100-'Содержание РФ'!$E$4)/100 -> 9492
A68: Боковая панель
A69: Глухая левая | D69: 7535.85 | E69: =D69*(100-'Содержание РФ'!$E$4)/100 -> 7535.85
A70: Глухая правая | D70: 7535.85 | E70: =D70*(100-'Содержание РФ'!$E$4)/100 -> 7535.85
A71: Глухая с зеркалом левая | D71: 9359.7 | E71: =D71*(100-'Содержание РФ'!$E$4)/100 -> 9359.7
A72: Глухая с зеркалом правая | D72: 9359.7 | E72: =D72*(100-'Содержание РФ'!$E$4)/100 -> 9359.7
A73: Со стеклопакетом левая | D73: 6003.9 | E73: =D73*(100-'Содержание РФ'!$E$4)/100 -> 6003.9
A74: Со стеклопакетом правая | D74: 6003.9 | E74: =D74*(100-'Содержание РФ'!$E$4)/100 -> 6003.9
A75: Делитель
A76: Разделитель оргстекло | D76: 8884.05 | E76: =D76*(100-'Содержание РФ'!$E$4)/100 -> 8884.05
A77: Делитель глухой | D77: 6245.4 | E77: =D77*(100-'Содержание РФ'!$E$4)/100 -> 6245.4
A78: Делитель ГЗ (лев.глухая + прав. зеркало) | D78: 9416.4 | E78: =D78*(100-'Содержание РФ'!$E$4)/100 -> 9416.4
A79: Делитель ЗГ (прав. зеркало + лев.глухая) | D79: 9416.4 | E79: =D79*(100-'Содержание РФ'!$E$4)/100 -> 9416.4
A80: Делитель ЗЗ (с 2-х стор. зеркалом) | D80: 10998.75 | E80: =D80*(100-'Содержание РФ'!$E$4)/100 -> 10998.75
A81: Пространство на полке
A82: Ценникодержатели для полок (1250) | D82: 160.65 | E82: =D82*(100-'Содержание РФ'!$E$4)/100 -> 160.65
A83: Ценникодержатели для полок (937) | D83: 119.7 | E83: =D83*(100-'Содержание РФ'!$E$4)/100 -> 119.7
A84: Ограничитель проволочный для полки (1250) | D84: 225.75 | E84: =D84*(100-'Содержание РФ'!$E$4)/100 -> 225.75
A85: Ограничитель проволочный для полки (937) | D85: 182.7 | E85: =D85*(100-'Содержание РФ'!$E$4)/100 -> 182.7
A86: Разделитель полки пластиковый (для полки 350 мм) | D86: 497.7 | E86: =D86*(100-'Содержание РФ'!$E$4)/100 -> 497.7
A87: Разделитель базовой полки пластиковый (для полки 500 мм) | D87: 341.25 | E87: =D87*(100-'Содержание РФ'!$E$4)/100 -> 341.25
A88: Подвес для колбас проволочный (RAL 9003) | D88: 444.15 | E88: =D88*(100-'Содержание РФ'!$E$4)/100 -> 444.15
A89: Планка для размещения подвеса для колбас (1250) | D89: 1276.8 | E89: =D89*(100-'Содержание РФ'!$E$4)/100 -> 1276.8
A90: Планка для размещения подвеса для колбас (937) (2 шт для 1875 мм) | D90: 820.05 | E90: =D90*(100-'Содержание РФ'!$E$4)/100 -> 820.05
A91: Упаковка для оборудования, поставляемого в разобранном виде
A92: Ящик для упаковки охлаждаемого стеллажа (обязателен для горок в разобранном виде) | C92: 1250 | D92: 2103.15 | E92: =D92*(100-'Содержание РФ'!$E$4)/100 -> 2103.15
C93: 1875 | D93: 2103.15 | E93: =D93*(100-'Содержание РФ'!$E$4)/100 -> 2103.15
C94: 2500 | D94: 2313.15 | E94: =D94*(100-'Содержание РФ'!$E$4)/100 -> 2313.15
C95: 3750 | D95: 3712.8 | E95: =D95*(100-'Содержание РФ'!$E$4)/100 -> 3712.8
A96: Ящик для упаковки комплекта (2 боковины) боковин | D96: 2983.05 | E96: =D96*(100-'Содержание РФ'!$E$4)/100 -> 2983.05

Sheet M SH
C2: Содержание
A19: Стандартная комплектация | D19: Технические параметры
A20: * Верхняя LED подсветка; | D20: * Параметры электропитания, В/Ф/Гц: 220-230/1/50
A21: * 5 рядов полок по 350 мм с кронштейнами и регулировкой наклона; | D21: * Температура окружающей среды: +12…+25 (влажность не выше 60%)
A22: * Механический ТРВ Danfoss; | D22: * Температурный режим без остекления: +1…+7
A23: * Электронный блок управления; | D23: * Температурный режим с остеклением: -1…+7
A24: * Комплект подключения к системе дренажа;
A25: * ТЭН оттайки;
A26: * Бампер RAL 9003.
A27: Цены указаны в рублях с учётом НДС
A28: Наименование | B28: Типоразмер | C28: Длина с боковинами | D28: Цена РРП, руб | E28: =CONCATENATE("Цена с учетом скидки ",'Содержание РФ'!$E$4," %",", руб") -> Цена с учетом скидки 0 %, руб
A29: MONTE SH 1250 | B29: 1250 | C29: 1330 | D29: 89456.85 | E29: =D29*(100-'Содержание РФ'!$E$4)/100 -> 89456.85
A30: MONTE SH 1875 | B30: 1875 | C30: 1955 | D30: 121580.55 | E30: =D30*(100-'Содержание РФ'!$E$4)/100 -> 121580.55
A31: MONTE SH 2500 | B31: 2500 | C31: 2580 | D31: 145947.9 | E31: =D31*(100-'Содержание РФ'!$E$4)/100 -> 145947.9
A32: MONTE SH 3750 | B32: 3750 | C32: 3830 | D32: 206422.65 | E32: =D32*(100-'Содержание РФ'!$E$4)/100 -> 206422.65
A34: Предложение действительно при заказе с основным модулем
A35: Опции | C35: Типоразмер | D35: Цена РРП, руб | E35: =CONCATENATE("Цена с учетом скидки ",'Содержание РФ'!$E$4," %",", руб") -> Цена с учетом скидки 0 %, руб
A36: 1 ряд полок с кронштейнами и регулировкой наклона | C36: 1250 | D36: 1431.15 | E36: =D36*(100-'Содержание РФ'!$E$4)/100 -> 1431.15
C37: 1875 | D37: 2332.05 | E37: =D37*(100-'Содержание РФ'!$E$4)/100 -> 2332.05
C38: 2500 | D38: 2861.25 | E38: =D38*(100-'Содержание РФ'!$E$4)/100 -> 2861.25
C39: 3750 | D39: 4292.4 | E39: =D39*(100-'Содержание РФ'!$E$4)/100 -> 4292.4
A40: 1 полка с кронштейнами и регулировкой наклона | C40: 930 | D40: 1165.5 | E40: =D40*(100-'Содержание РФ'!$E$4)/100 -> 1165.5
C41: 1250 | D41: 1431.15 | E41: =D41*(100-'Содержание РФ'!$E$4)/100 -> 1431.15
A42: светодиодная подсветка 1 ряда | C42: 1250 | D42: 1873.2 | E42: =D42*(100-'Содержание РФ'!$E$4)/100 -> 1873.2
C43: 1875 | D43: 3137.4 | E43: =D43*(100-'Содержание РФ'!$E$4)/100 -> 3137.4
C44: 2500 | D44: 3739.05 | E44: =D44*(100-'Содержание РФ'!$E$4)/100 -> 3739.05
C45: 3750 | D45: 5599.65 | E45: =D45*(100-'Содержание РФ'!$E$4)/100 -> 5599.65
A46: светодиодная подсветка 5 рядов | C46: 1250 | D46: 9364.95 | E46: =D46*(100-'Содержание РФ'!$E$4)/100 -> 9364.95
C47: 1875 | D47: 15682.8 | E47: =D47*(100-'Содержание РФ'!$E$4)/100 -> 15682.8
C48: 2500 | D48: 18695.25 | E48: =D48*(100-'Содержание РФ'!$E$4)/100 -> 18695.25
C49: 3750 | D49: 27997.2 | E49: =D49*(100-'Содержание РФ'!$E$4)/100 -> 27997.2
A50: Фруктовый комплект (FV) | C50: 1250 | D50: 1500 | E50: =D50*(100-'Содержание РФ'!$E$4)/100 -> 1500
C51: 1875 | D51: 1700 | E51: =D51*(100-'Содержание РФ'!$E$4)/100 -> 1700
C52: 2500 | D52: 3000 | E52: =D52*(100-'Содержание РФ'!$E$4)/100 -> 3000
C53: 3750 | D53: 4500 | E53: =D53*(100-'Содержание РФ'!$E$4)/100 -> 4500
A54: Энергосберегающий вентилятор | C54: 1250 | D54: 5460 | E54: =D54*(100-'Содержание РФ'!$E$4)/100 -> 5460
C55: 1875 | D55: 8190 | E55: =D55*(100-'Содержание РФ'!$E$4)/100 -> 8190
C56: 2500 | D56: 10920 | E56: =D56*(100-'Содержание РФ'!$E$4)/100 -> 10920
C57: 3750 | D57: 16380 | E57: =D57*(100-'Содержание РФ'!$E$4)/100 -> 16380
A58: ЭРВ | D58: 18375 | E58: =D58*(100-'Содержание РФ'!$E$4)/100 -> 18375
A59: Сетевая карта | D59: 6825 | E59: =D59*(100-'Содержание РФ'!$E$4)/100 -> 6825
A60: Покраска в нестандартный цвет | D60: 15225 | E60: =D60*(100-'Содержание РФ'!$E$4)/100 -> 15225
A61: Комплект для стыковки в линию | D61: 367.5 | E61: =D61*(100-'Содержание РФ'!$E$4)/100 -> 367.5
A62: Шторка/остекление
A63: Ночная шторка | C63: 1250 | D63: 9417.45 | E63: =D63*(100-'Содержание РФ'!$E$4)/100 -> 9417.45
C64: 1875 | D64: 10952.55 | E64: =D64*(100-'Содержание РФ'!$E$4)/100 -> 10952.55
C65: 2500 | D65: 18835.95 | E65: =D65*(100-'Содержание РФ'!$E$4)/100 -> 18835.95
C66: 3750 | D66: 28253.4 | E66: =D66*(100-'Содержание РФ'!$E$4)/100 -> 28253.4
A67: Фронтальное остекление Х1 (стеклопакет 4-12-4, закаленное стекло, торсионный механизм, магнитные уплотнители) | C67: 1250 | D67: 44689 | E67: =D67*(100-'Содержание РФ'!$E$4)/100 -> 44689
C68: 1875 | D68: 60475 | E68: =D68*(100-'Содержание РФ'!$E$4)/100 -> 60475
C69: 2500 | D69: 89378 | E69: =D69*(100-'Содержание РФ'!$E$4)/100 -> 89378
C70: 3750 | D70: 134067 | E70: =D70*(100-'Содержание РФ'!$E$4)/100 -> 134067
A71: Фронтальное остекление Х3 (безрамочный стеклопакет 4-12-4, закаленное стекло, торсионный механизм, магнитные уплотнители) | C71: 1250 | D71: 47948 | E71: =D71*(100-'Содержание РФ'!$E$4)/100 -> 47948
C72: 1875 | D72: 65087 | E72: =D72*(100-'Содержание РФ'!$E$4)/100 -> 65087
C73: 2500 | D73: 95896 | E73: =D73*(100-'Содержание РФ'!$E$4)/100 -> 95896
C74: 3750 | D74: 143844 | E74: =D74*(100-'Содержание РФ'!$E$4)/100 -> 143844
A75: Боковая панель
A76: Глухая левая | D76: 8180.55 | E76: =D76*(100-'Содержание РФ'!$E$4)/100 -> 8180.55
A77: Глухая правая | D77: 8180.55 | E77: =D77*(100-'Содержание РФ'!$E$4)/100 -> 8180.55
A78: Глухая с зеркалом левая | D78: 10206 | E78: =D78*(100-'Содержание РФ'!$E$4)/100 -> 10206
A79: Глухая с зеркалом правая | D79: 10206 | E79: =D79*(100-'Содержание РФ'!$E$4)/100 -> 10206
A80: Со стеклопакетом левая | D80: 6387.15 | E80: =D80*(100-'Содержание РФ'!$E$4)/100 -> 6387.15
A81: Со стеклопакетом правая | D81: 6387.15 | E81: =D81*(100-'Содержание РФ'!$E$4)/100 -> 6387.15
A82: Делитель
A83: Разделитель оргстекло | D83: 9716.7 | E83: =D83*(100-'Содержание РФ'!$E$4)/100 -> 9716.7
A84: Делитель глухой | D84: 6695.85 | E84: =D84*(100-'Содержание РФ'!$E$4)/100 -> 6695.85
A85: Делитель ГЗ (лев.глухая + прав. зеркало) | D85: 10334.1 | E85: =D85*(100-'Содержание РФ'!$E$4)/100 -> 10334.1
A86: Делитель ЗГ (прав. зеркало + лев.глухая) | D86: 10334.1 | E86: =D86*(100-'Содержание РФ'!$E$4)/100 -> 10334.1
A87: Делитель ЗЗ (с 2-х стор. зеркалом) | D87: 11883.9 | E87: =D87*(100-'Содержание РФ'!$E$4)/100 -> 11883.9
A88: Пространство на полке
A89: Ценникодержатели для полок (1250) | D89: 160.65 | E89: =D89*(100-'Содержание РФ'!$E$4)/100 -> 160.65
A90: Ценникодержатели для полок (937) | D90: 119.7 | E90: =D90*(100-'Содержание РФ'!$E$4)/100 -> 119.7
A91: Ограничитель проволочный для полки (1250) | D91: 225.75 | E91: =D91*(100-'Содержание РФ'!$E$4)/100 -> 225.75
A92: Ограничитель проволочный для полки (937) | D92: 182.7 | E92: =D92*(100-'Содержание РФ'!$E$4)/100 -> 182.7
A93: Разделитель полки пластиковый (для полки 350 мм) | D93: 341.25 | E93: =D93*(100-'Содержание РФ'!$E$4)/100 -> 341.25
A94: Разделитель базовой полки пластиковый (для полки 500 мм) | D94: 444.15 | E94: =D94*(100-'Содержание РФ'!$E$4)/100 -> 444.15
A95: Подвес для колбас проволочный (RAL 9003) | D95: 622.65 | E95: =D95*(100-'Содержание РФ'!$E$4)/100 -> 622.65
A96: Планка для размещения подвеса для колбас (1250) | D96: 1276.8 | E96: =D96*(100-'Содержание РФ'!$E$4)/100 -> 1276.8
A97: Планка для размещения подвеса для колбас (937) (2 шт для 1875 мм) | D97: 820.05 | E97: =D97*(100-'Содержание РФ'!$E$4)/100 -> 820.05
A98: Упаковка для оборудования, поставляемого в разобранном виде
A99: Ящик для упаковки охлаждаемого стеллажа (обязателен для горок в разобранном виде) | C99: 1250 | D99: 2103.15 | E99: =D99*(100-'Содержание РФ'!$E$4)/100 -> 2103.15
C100: 1875 | D100: 2103.15 | E100: =D100*(100-'Содержание РФ'!$E$4)/100 -> 2103.15
C101: 2500 | D101: 2313.15 | E101: =D101*(100-'Содержание РФ'!$E$4)/100 -> 2313.15
C102: 3750 | D102: 3712.8 | E102: =D102*(100-'Содержание РФ'!$E$4)/100 -> 3712.8
A103: Ящик для упаковки комплекта (2 боковины) боковин | D103: 2983.05 | E103: =D103*(100-'Содержание РФ'!$E$4)/100 -> 2983.05

Sheet M MSH
C2: Содержание
A19: Стандартная комплектация | D19: Технические параметры
A20: * Вертикальная LED подсветка; | D20: * Параметры электропитания, В/Ф/Гц: 220-230/1/50
A21: * Фронтальное остекление Х1; | D21: * Температурный режим: -1…+7
A22: * 5 рядов полок по 450 мм с кронштейнами и регулировкой наклона; | D22: * Температура окружающей среды: +12…+25 (влажность не выше 60%)
A23: * Механический ТРВ Danfoss;
A24: * Электронный блок управления;
A25: * Комплект подключения к системе дренажа;
A26: * ТЭН оттайки;
A27: * Бампер RAL 9003.
A28: Цены указаны в рублях с учётом НДС
A29: Наименование | B29: Типоразмер | C29: Длина с боковинами | D29: Цена РРП, руб | E29: =CONCATENATE("Цена с учетом скидки ",'Содержание РФ'!$E$4," %",", руб") -> Цена с учетом скидки 0 %, руб
A30: MONTE Maxi SH 1250 | B30: 1250 | C30: 1330 | D30: 147560.44 | E30: =D30*(100-'Содержание РФ'!$E$4)/100 -> 147560.44
A31: MONTE Maxi SH 1875 | B31: 1875 | C31: 1955 | D31: 200261.11 | E31: =D31*(100-'Содержание РФ'!$E$4)/100 -> 200261.11
A32: MONTE Maxi SH 2500 | B32: 2500 | C32: 2580 | D32: 258858.49 | E32: =D32*(100-'Содержание РФ'!$E$4)/100 -> 258858.49
A33: MONTE Maxi SH 3750 | B33: 3750 | C33: 3830 | D33: 374538.62 | E33: =D33*(100-'Содержание РФ'!$E$4)/100 -> 374538.62
A35: Предложение действительно при заказе с основным модулем
A36: Опции | C36: Типоразмер | D36: Цена РРП, руб | E36: =CONCATENATE("Цена с учетом скидки ",'Содержание РФ'!$E$4," %",", руб") -> Цена с учетом скидки 0 %, руб
A37: 1 ряд полок с кронштейнами и регулировкой наклона | C37: 1250 | D37: 1431.15 | E37: =D37*(100-'Содержание РФ'!$E$4)/100 -> 1431.15
C38: 1875 | D38: 2332.05 | E38: =D38*(100-'Содержание РФ'!$E$4)/100 -> 2332.05
C39: 2500 | D39: 2861.25 | E39: =D39*(100-'Содержание РФ'!$E$4)/100 -> 2861.25
C40: 3750 | D40: 4292.4 | E40: =D40*(100-'Содержание РФ'!$E$4)/100 -> 4292.4
A41: 1 полка с кронштейнами и регулировкой наклона | C41: 930 | D41: 1165.5 | E41: =D41*(100-'Содержание РФ'!$E$4)/100 -> 1165.5
C42: 1250 | D42: 1431.15 | E42: =D42*(100-'Содержание РФ'!$E$4)/100 -> 1431.15
A43: светодиодная подсветка 1 ряда | C43: 1250 | D43: 1873.2 | E43: =D43*(100-'Содержание РФ'!$E$4)/100 -> 1873.2
C44: 1875 | D44: 3137.4 | E44: =D44*(100-'Содержание РФ'!$E$4)/100 -> 3137.4
C45: 2500 | D45: 3739.05 | E45: =D45*(100-'Содержание РФ'!$E$4)/100 -> 3739.05
C46: 3750 | D46: 5599.65 | E46: =D46*(100-'Содержание РФ'!$E$4)/100 -> 5599.65
A47: светодиодная подсветка 5 рядов | C47: 1250 | D47: 9364.95 | E47: =D47*(100-'Содержание РФ'!$E$4)/100 -> 9364.95
C48: 1875 | D48: 15682.8 | E48: =D48*(100-'Содержание РФ'!$E$4)/100 -> 15682.8
C49: 2500 | D49: 18695.25 | E49: =D49*(100-'Содержание РФ'!$E$4)/100 -> 18695.25
C50: 3750 | D50: 27997.2 | E50: =D50*(100-'Содержание РФ'!$E$4)/100 -> 27997.2
A51: Фруктовый комплект (FV) | C51: 1250 | D51: 1500 | E51: =D51*(100-'Содержание РФ'!$E$4)/100 -> 1500
C52: 1875 | D52: 1700 | E52: =D52*(100-'Содержание РФ'!$E$4)/100 -> 1700
C53: 2500 | D53: 3000 | E53: =D53*(100-'Содержание РФ'!$E$4)/100 -> 3000
C54: 3750 | D54: 4500 | E54: =D54*(100-'Содержание РФ'!$E$4)/100 -> 4500
A55: Энергосберегающий вентилятор | C55: 1250 | D55: 5460 | E55: =D55*(100-'Содержание РФ'!$E$4)/100 -> 5460
C56: 1875 | D56: 8190 | E56: =D56*(100-'Содержание РФ'!$E$4)/100 -> 8190
C57: 2500 | D57: 10920 | E57: =D57*(100-'Содержание РФ'!$E$4)/100 -> 10920
C58: 3750 | D58: 16380 | E58: =D58*(100-'Содержание РФ'!$E$4)/100 -> 16380
A59: ЭРВ | D59: 18375 | E59: =D59*(100-'Содержание РФ'!$E$4)/100 -> 18375
A60: Сетевая карта | D60: 6825 | E60: =D60*(100-'Содержание РФ'!$E$4)/100 -> 6825
A61: Покраска в нестандартный цвет | D61: 15225 | E61: =D61*(100-'Содержание РФ'!$E$4)/100 -> 15225
A62: Комплект для стыковки в линию | D62: 367.5 | E62: =D62*(100-'Содержание РФ'!$E$4)/100 -> 367.5
A63: Остекление
A64: Фронтальное остекление Х3 (безрамочный стеклопакет 4-12-4, закаленное стекло, торсионный механизм, магнитные уплотнители) | C64: 1250 | D64: 3259 | E64: =D64*(100-'Содержание РФ'!$E$4)/100 -> 3259
C65: 1875 | D65: 4612 | E65: =D65*(100-'Содержание РФ'!$E$4)/100 -> 4612
C66: 2500 | D66: 6518 | E66: =D66*(100-'Содержание РФ'!$E$4)/100 -> 6518
C67: 3750 | D67: 9777 | E67: =D67*(100-'Содержание РФ'!$E$4)/100 -> 9777
A68: Боковая панель
A69: Глухая левая | D69: 8180.55 | E69: =D69*(100-'Содержание РФ'!$E$4)/100 -> 8180.55
A70: Глухая правая | D70: 8180.55 | E70: =D70*(100-'Содержание РФ'!$E$4)/100 -> 8180.55
A71: Глухая с зеркалом левая | D71: 10206 | E71: =D71*(100-'Содержание РФ'!$E$4)/100 -> 10206
A72: Глухая с зеркалом правая | D72: 10206 | E72: =D72*(100-'Содержание РФ'!$E$4)/100 -> 10206
A73: Со стеклопакетом левая | D73: 6387.15 | E73: =D73*(100-'Содержание РФ'!$E$4)/100 -> 6387.15
A74: Со стеклопакетом правая | D74: 6387.15 | E74: =D74*(100-'Содержание РФ'!$E$4)/100 -> 6387.15
A75: Делитель
A76: Разделитель оргстекло | D76: 9716.7 | E76: =D76*(100-'Содержание РФ'!$E$4)/100 -> 9716.7
A77: Делитель глухой | D77: 6695.85 | E77: =D77*(100-'Содержание РФ'!$E$4)/100 -> 6695.85
A78: Делитель ГЗ (лев.глухая + прав. зеркало) | D78: 10334.1 | E78: =D78*(100-'Содержание РФ'!$E$4)/100 -> 10334.1
A79: Делитель ЗГ (прав. зеркало + лев.глухая) | D79: 10334.1 | E79: =D79*(100-'Содержание РФ'!$E$4)/100 -> 10334.1
A80: Делитель ЗЗ (с 2-х стор. зеркалом) | D80: 11883.9 | E80: =D80*(100-'Содержание РФ'!$E$4)/100 -> 11883.9
A81: Пространство на полке
A82: Ценникодержатели для полок (1250) | D82: 160.65 | E82: =D82*(100-'Содержание РФ'!$E$4)/100 -> 160.65
A83: Ценникодержатели для полок (937) | D83: 119.7 | E83: =D83*(100-'Содержание РФ'!$E$4)/100 -> 119.7
A84: Ограничитель проволочный для полки (1250) | D84: 225.75 | E84: =D84*(100-'Содержание РФ'!$E$4)/100 -> 225.75
A85: Ограничитель проволочный для полки (937) | D85: 182.7 | E85: =D85*(100-'Содержание РФ'!$E$4)/100 -> 182.7
A86: Разделитель полки пластиковый (для полки 350 мм) | D86: 341.25 | E86: =D86*(100-'Содержание РФ'!$E$4)/100 -> 341.25
A87: Разделитель базовой полки пластиковый (для полки 500 мм) | D87: 444.15 | E87: =D87*(100-'Содержание РФ'!$E$4)/100 -> 444.15
A88: Подвес для колбас проволочный (RAL 9003) | D88: 622.65 | E88: =D88*(100-'Содержание РФ'!$E$4)/100 -> 622.65
A89: Планка для размещения подвеса для колбас (1250) | D89: 1276.8 | E89: =D89*(100-'Содержание РФ'!$E$4)/100 -> 1276.8
A90: Планка для размещения подвеса для колбас (937) (2 шт для 1875 мм) | D90: 820.05 | E90: =D90*(100-'Содержание РФ'!$E$4)/100 -> 820.05
A91: Упаковка для оборудования, поставляемого в разобранном виде
A92: Ящик для упаковки охлаждаемого стеллажа (обязателен для горок в разобранном виде) | C92: 1250 | D92: 2103.15 | E92: =D92*(100-'Содержание РФ'!$E$4)/100 -> 2103.15
C93: 1875 | D93: 2103.15 | E93: =D93*(100-'Содержание РФ'!$E$4)/100 -> 2103.15
C94: 2500 | D94: 2313.15 | E94: =D94*(100-'Содержание РФ'!$E$4)/100 -> 2313.15
C95: 3750 | D95: 3712.8 | E95: =D95*(100-'Содержание РФ'!$E$4)/100 -> 3712.8
A96: Ящик для упаковки комплекта (2 боковины) боковин | D96: 2983.05 | E96: =D96*(100-'Содержание РФ'!$E$4)/100 -> 2983.05

Sheet M M
C2: Содержание
A19: Стандартная комплектация | D19: Технические параметры
A20: * Верхняя LED подсветка; | D20: * Параметры электропитания, В/Ф/Гц: 220-230/1/50
A21: * 4 ряда полок по 500 мм с кронштейнами и регулировкой наклона; | D21: * Температура окружающей среды: +12…+25 (влажность не выше 60%)
A22: * Механический ТРВ Danfoss; | D22: * Температурный режим без остекления: +1…+7
A23: * Электронный блок управления; | D23: * Температурный режим с остеклением: -1…+7
A24: * Комплект подключения к системе дренажа;
A25: * ТЭН оттайки;
A26: * Бампер RAL 9003.
A27: Цены указаны в рублях с учётом НДС
A28: Наименование | B28: Типоразмер | C28: Длина с боковинами | D28: Цена РРП, руб | E28: =CONCATENATE("Цена с учетом скидки ",'Содержание РФ'!$E$4," %",", руб") -> Цена с учетом скидки 0 %, руб
A29: MONTE M 1250 | B29: 1250 | C29: 1330 | D29: 101990.7 | E29: =D29*(100-'Содержание РФ'!$E$4)/100 -> 101990.7
A30: MONTE M 1875 | B30: 1875 | C30: 1955 | D30: 136136.7 | E30: =D30*(100-'Содержание РФ'!$E$4)/100 -> 136136.7
A31: MONTE M 2500 | B31: 2500 | C31: 2580 | D31: 169970.85 | E31: =D31*(100-'Содержание РФ'!$E$4)/100 -> 169970.85
A32: MONTE M 3750 | B32: 3750 | C32: 3830 | D32: 230258.7 | E32: =D32*(100-'Содержание РФ'!$E$4)/100 -> 230258.7
A33: MONTE M TG | B33: 1875 | C33: 1955 | D33: 139531.35 | E33: =D33*(100-'Содержание РФ'!$E$4)/100 -> 139531.35
A35: Предложение действительно при заказе с основным модулем
A36: Опции | C36: Типоразмер | D36: Цена РРП, руб | E36: =CONCATENATE("Цена с учетом скидки ",'Содержание РФ'!$E$4," %",", руб") -> Цена с учетом скидки 0 %, руб
A37: 1 ряд полок с кронштейнами и регулировкой наклона | C37: 1250 | D37: 1431.15 | E37: =D37*(100-'Содержание РФ'!$E$4)/100 -> 1431.15
C38: 1875 | D38: 2332.05 | E38: =D38*(100-'Содержание РФ'!$E$4)/100 -> 2332.05
C39: 2500 | D39: 2861.25 | E39: =D39*(100-'Содержание РФ'!$E$4)/100 -> 2861.25
C40: 3750 | D40: 4292.4 | E40: =D40*(100-'Содержание РФ'!$E$4)/100 -> 4292.4
A41: 1 полка с кронштейнами и регулировкой наклона | C41: 930 | D41: 1165.5 | E41: =D41*(100-'Содержание РФ'!$E$4)/100 -> 1165.5
C42: 1250 | D42: 1431.15 | E42: =D42*(100-'Содержание РФ'!$E$4)/100 -> 1431.15
A43: светодиодная подсветка 1 ряда | C43: 1250 | D43: 1851.15 | E43: =D43*(100-'Содержание РФ'!$E$4)/100 -> 1851.15
C44: 1875 | D44: 3033.45 | E44: =D44*(100-'Содержание РФ'!$E$4)/100 -> 3033.45
C45: 2500 | D45: 3702.3 | E45: =D45*(100-'Содержание РФ'!$E$4)/100 -> 3702.3
C46: 3750 | D46: 5553.45 | E46: =D46*(100-'Содержание РФ'!$E$4)/100 -> 5553.45
A47: светодиодная подсветка 4 рядов | C47: 1250 | D47: 7403.55 | E47: =D47*(100-'Содержание РФ'!$E$4)/100 -> 7403.55
C48: 1875 | D48: 12130.65 | E48: =D48*(100-'Содержание РФ'!$E$4)/100 -> 12130.65
C49: 2500 | D49: 14807.1 | E49: =D49*(100-'Содержание РФ'!$E$4)/100 -> 14807.1
C50: 3750 | D50: 22210.65 | E50: =D50*(100-'Содержание РФ'!$E$4)/100 -> 22210.65
A51: Фруктовый комплект (FV) | C51: 1250 | D51: 1700 | E51: =D51*(100-'Содержание РФ'!$E$4)/100 -> 1700
C52: 1875 | D52: 1900 | E52: =D52*(100-'Содержание РФ'!$E$4)/100 -> 1900
C53: 2500 | D53: 3400 | E53: =D53*(100-'Содержание РФ'!$E$4)/100 -> 3400
C54: 3750 | D54: 5100 | E54: =D54*(100-'Содержание РФ'!$E$4)/100 -> 5100
A55: Энергосберегающий вентилятор | C55: 1250 | D55: 5460 | E55: =D55*(100-'Содержание РФ'!$E$4)/100 -> 5460
C56: 1875 | D56: 8190 | E56: =D56*(100-'Содержание РФ'!$E$4)/100 -> 8190
C57: 2500 | D57: 10920 | E57: =D57*(100-'Содержание РФ'!$E$4)/100 -> 10920
C58: 3750 | D58: 16380 | E58: =D58*(100-'Содержание РФ'!$E$4)/100 -> 16380
A59: ЭРВ | D59: 18375 | E59: =D59*(100-'Содержание РФ'!$E$4)/100 -> 18375
A60: Покраска в нестандартный цвет | D60: 15225 | E60: =D60*(100-'Содержание РФ'!$E$4)/100 -> 15225
A61: Сетевая карта | D61: 6825 | E61: =D61*(100-'Содержание РФ'!$E$4)/100 -> 6825
A62: Комплект для стыковки в линию | D62: 367.5 | E62: =D62*(100-'Содержание РФ'!$E$4)/100 -> 367.5
A63: Шторка/остекление
A64: Ночная шторка | C64: 1250 | D64: 9417.45 | E64: =D64*(100-'Содержание РФ'!$E$4)/100 -> 9417.45
C65: 1875 | D65: 10952.55 | E65: =D65*(100-'Содержание РФ'!$E$4)/100 -> 10952.55
C66: 2500 | D66: 18835.95 | E66: =D66*(100-'Содержание РФ'!$E$4)/100 -> 18835.95
C67: 3750 | D67: 28253.4 | E67: =D67*(100-'Содержание РФ'!$E$4)/100 -> 28253.4
A68: Фронтальное остекление Х1 (стеклопакет 4-12-4, закаленное стекло, торсионный механизм, магнитные уплотнители) | C68: 1250 | D68: 40820 | E68: =D68*(100-'Содержание РФ'!$E$4)/100 -> 40820
C69: 1875 | D69: 56005 | E69: =D69*(100-'Содержание РФ'!$E$4)/100 -> 56005
C70: 2500 | D70: 81640 | E70: =D70*(100-'Содержание РФ'!$E$4)/100 -> 81640
C71: 3750 | D71: 122460 | E71: =D71*(100-'Содержание РФ'!$E$4)/100 -> 122460
A72: Фронтальное остекление Х3 (безрамочный стеклопакет 4-12-4, закаленное стекло, торсионный механизм, магнитные уплотнители) | C72: 1250 | D72: 43984 | E72: =D72*(100-'Содержание РФ'!$E$4)/100 -> 43984
C73: 1875 | D73: 60482 | E73: =D73*(100-'Содержание РФ'!$E$4)/100 -> 60482
C74: 2500 | D74: 87968 | E74: =D74*(100-'Содержание РФ'!$E$4)/100 -> 87968
C75: 3750 | D75: 131952 | E75: =D75*(100-'Содержание РФ'!$E$4)/100 -> 131952
A76: Боковая панель
A77: Глухая левая | D77: 9015.3 | E77: =D77*(100-'Содержание РФ'!$E$4)/100 -> 9015.3
A78: Глухая правая | D78: 9015.3 | E78: =D78*(100-'Содержание РФ'!$E$4)/100 -> 9015.3
A79: Глухая с зеркалом левая | D79: 11350.5 | E79: =D79*(100-'Содержание РФ'!$E$4)/100 -> 11350.5
A80: Глухая с зеркалом правая | D80: 11350.5 | E80: =D80*(100-'Содержание РФ'!$E$4)/100 -> 11350.5
A81: Со стеклопакетом левая | D81: 7405.65 | E81: =D81*(100-'Содержание РФ'!$E$4)/100 -> 7405.65
A82: Со стеклопакетом правая | D82: 7405.65 | E82: =D82*(100-'Содержание РФ'!$E$4)/100 -> 7405.65
A83: Делитель
A84: Разделитель оргстекло | D84: 12298.65 | E84: =D84*(100-'Содержание РФ'!$E$4)/100 -> 12298.65
A85: Делитель глухой | D85: 7425.6 | E85: =D85*(100-'Содержание РФ'!$E$4)/100 -> 7425.6
A86: Делитель ГЗ (лев.глухая + прав. зеркало) | D86: 11349.45 | E86: =D86*(100-'Содержание РФ'!$E$4)/100 -> 11349.45
A87: Делитель ЗГ (прав. зеркало + лев.глухая) | D87: 11349.45 | E87: =D87*(100-'Содержание РФ'!$E$4)/100 -> 11349.45
A88: Делитель ЗЗ (с 2-х стор. зеркалом) | D88: 13045.2 | E88: =D88*(100-'Содержание РФ'!$E$4)/100 -> 13045.2
A89: Пространство на полке
A90: Ценникодержатели для полок (1250) | D90: 160.65 | E90: =D90*(100-'Содержание РФ'!$E$4)/100 -> 160.65
A91: Ценникодержатели для полок (937) | D91: 119.7 | E91: =D91*(100-'Содержание РФ'!$E$4)/100 -> 119.7
A92: Ограничитель проволочный для полки (1250) | D92: 225.75 | E92: =D92*(100-'Содержание РФ'!$E$4)/100 -> 225.75
A93: Ограничитель проволочный для полки (937) | D93: 182.7 | E93: =D93*(100-'Содержание РФ'!$E$4)/100 -> 182.7
A94: Разделитель полки пластиковый (для полки 500 мм) | D94: 497.7 | E94: =D94*(100-'Содержание РФ'!$E$4)/100 -> 497.7
A95: Разделитель базовой полки пластиковый (для полки 700 мм) | D95: 341.25 | E95: =D95*(100-'Содержание РФ'!$E$4)/100 -> 341.25
A96: Подвес для колбас проволочный (RAL 9003) | D96: 444.15 | E96: =D96*(100-'Содержание РФ'!$E$4)/100 -> 444.15
A97: Планка для размещения подвеса для колбас (1250) | D97: 1276.8 | E97: =D97*(100-'Содержание РФ'!$E$4)/100 -> 1276.8
A98: Планка для размещения подвеса для колбас (937) (2 шт для 1875 мм) | D98: 820.05 | E98: =D98*(100-'Содержание РФ'!$E$4)/100 -> 820.05
A99: Упаковка для оборудования, поставляемого в разобранном виде
A100: Ящик для упаковки охлаждаемого стеллажа (обязателен для горок в разобранном виде) | C100: 1250 | D100: 2103.15 | E100: =D100*(100-'Содержание РФ'!$E$4)/100 -> 2103.15
C101: 1875 | D101: 2103.15 | E101: =D101*(100-'Содержание РФ'!$E$4)/100 -> 2103.15
C102: 2500 | D102: 2313.15 | E102: =D102*(100-'Содержание РФ'!$E$4)/100 -> 2313.15
C103: 3750 | D103: 3712.8 | E103: =D103*(100-'Содержание РФ'!$E$4)/100 -> 3712.8
A104: Ящик для упаковки комплекта (2 боковины) боковин | D104: 2983.05 | E104: =D104*(100-'Содержание РФ'!$E$4)/100 -> 2983.05

Sheet M MМ
C2: Содержание
A19: Стандартная комплектация | D19: Технические параметры
A20: * Вертикальная LED подсветка; | D20: * Параметры электропитания, В/Ф/Гц: 220-230/1/50
A21: * Фронтальное остекление Х1; | D21: * Температурный: -1…+7
A22: * 4 ряда полок по 600 мм с кронштейнами и регулировкой наклона; | D22: * Температура окружающей среды: +12…+25 (влажность не выше 60%)
A23: * Механический ТРВ Danfoss;
A24: * Электронный блок управления;
A25: * Комплект подключения к системе дренажа;
A26: * ТЭН оттайки;
A27: * Бампер RAL 9003.
A28: Цены указаны в рублях с учётом НДС
A29: Наименование | B29: Типоразмер | C29: Длина с боковинами | D29: Цена РРП, руб | E29: =CONCATENATE("Цена с учетом скидки ",'Содержание РФ'!$E$4," %",", руб") -> Цена с учетом скидки 0 %, руб
A30: Monte M Maxi 1250 | B30: 1250 | C30: 1330 | D30: 157091.77 | E30: =D30*(100-'Содержание РФ'!$E$4)/100 -> 157091.77
A31: Monte M Maxi 1875 | B31: 1875 | C31: 1955 | D31: 211355.87 | E31: =D31*(100-'Содержание РФ'!$E$4)/100 -> 211355.87
A32: Monte M Maxi 2500 | B32: 2500 | C32: 2580 | D32: 276771.94 | E32: =D32*(100-'Содержание РФ'!$E$4)/100 -> 276771.94
A33: Monte M Maxi 3750 | B33: 3750 | C33: 3830 | D33: 387990.57 | E33: =D33*(100-'Содержание РФ'!$E$4)/100 -> 387990.57
A34: MONTE M Maxi TG | B34: 1875 | C34: 1955 | D34: 215089.99 | E34: =D34*(100-'Содержание РФ'!$E$4)/100 -> 215089.98
A36: Предложение действительно при заказе с основным модулем
A37: Опции | C37: Типоразмер | D37: Цена РРП, руб | E37: =CONCATENATE("Цена с учетом скидки ",'Содержание РФ'!$E$4," %",", руб") -> Цена с учетом скидки 0 %, руб
A38: 1 ряд полок с кронштейнами и регулировкой наклона | C38: 1250 | D38: 1431.15 | E38: =D38*(100-'Содержание РФ'!$E$4)/100 -> 1431.15
C39: 1875 | D39: 2332.05 | E39: =D39*(100-'Содержание РФ'!$E$4)/100 -> 2332.05
C40: 2500 | D40: 2861.25 | E40: =D40*(100-'Содержание РФ'!$E$4)/100 -> 2861.25
C41: 3750 | D41: 4292.4 | E41: =D41*(100-'Содержание РФ'!$E$4)/100 -> 4292.4
A42: 1 полка с кронштейнами и регулировкой наклона | C42: 930 | D42: 1165.5 | E42: =D42*(100-'Содержание РФ'!$E$4)/100 -> 1165.5
C43: 1250 | D43: 1431.15 | E43: =D43*(100-'Содержание РФ'!$E$4)/100 -> 1431.15
A44: светодиодная подсветка 1 ряда | C44: 1250 | D44: 1851.15 | E44: =D44*(100-'Содержание РФ'!$E$4)/100 -> 1851.15
C45: 1875 | D45: 3033.45 | E45: =D45*(100-'Содержание РФ'!$E$4)/100 -> 3033.45
C46: 2500 | D46: 3702.3 | E46: =D46*(100-'Содержание РФ'!$E$4)/100 -> 3702.3
C47: 3750 | D47: 5553.45 | E47: =D47*(100-'Содержание РФ'!$E$4)/100 -> 5553.45
A48: светодиодная подсветка 4 рядов | C48: 1250 | D48: 7403.55 | E48: =D48*(100-'Содержание РФ'!$E$4)/100 -> 7403.55
C49: 1875 | D49: 12130.65 | E49: =D49*(100-'Содержание РФ'!$E$4)/100 -> 12130.65
C50: 2500 | D50: 14807.1 | E50: =D50*(100-'Содержание РФ'!$E$4)/100 -> 14807.1
C51: 3750 | D51: 22210.65 | E51: =D51*(100-'Содержание РФ'!$E$4)/100 -> 22210.65
A52: Фруктовый комплект (FV) | C52: 1250 | D52: 1700 | E52: =D52*(100-'Содержание РФ'!$E$4)/100 -> 1700
C53: 1875 | D53: 1900 | E53: =D53*(100-'Содержание РФ'!$E$4)/100 -> 1900
C54: 2500 | D54: 3400 | E54: =D54*(100-'Содержание РФ'!$E$4)/100 -> 3400
C55: 3750 | D55: 5100 | E55: =D55*(100-'Содержание РФ'!$E$4)/100 -> 5100
A56: Энергосберегающий вентилятор | C56: 1250 | D56: 5460 | E56: =D56*(100-'Содержание РФ'!$E$4)/100 -> 5460
C57: 1875 | D57: 8190 | E57: =D57*(100-'Содержание РФ'!$E$4)/100 -> 8190
C58: 2500 | D58: 10920 | E58: =D58*(100-'Содержание РФ'!$E$4)/100 -> 10920
C59: 3750 | D59: 16380 | E59: =D59*(100-'Содержание РФ'!$E$4)/100 -> 16380
A60: ЭРВ | D60: 18375 | E60: =D60*(100-'Содержание РФ'!$E$4)/100 -> 18375
A61: Покраска в нестандартный цвет | D61: 15225 | E61: =D61*(100-'Содержание РФ'!$E$4)/100 -> 15225
A62: Сетевая карта | D62: 6825 | E62: =D62*(100-'Содержание РФ'!$E$4)/100 -> 6825
A63: Комплект для стыковки в линию | D63: 367.5 | E63: =D63*(100-'Содержание РФ'!$E$4)/100 -> 367.5
A64: Остекление
A65: Фронтальное остекление Х3 (безрамочный стеклопакет 4-12-4, закаленное стекло, торсионный механизм, магнитные уплотнители) | C65: 1250 | D65: 3164 | E65: =D65*(100-'Содержание РФ'!$E$4)/100 -> 3164
C66: 1875 | D66: 4477 | E66: =D66*(100-'Содержание РФ'!$E$4)/100 -> 4477
C67: 2500 | D67: 6328 | E67: =D67*(100-'Содержание РФ'!$E$4)/100 -> 6328
C68: 3750 | D68: 9492 | E68: =D68*(100-'Содержание РФ'!$E$4)/100 -> 9492
A69: Боковая панель
A70: Глухая левая | D70: 9015.3 | E70: =D70*(100-'Содержание РФ'!$E$4)/100 -> 9015.3
A71: Глухая правая | D71: 9015.3 | E71: =D71*(100-'Содержание РФ'!$E$4)/100 -> 9015.3
A72: Глухая с зеркалом левая | D72: 11350.5 | E72: =D72*(100-'Содержание РФ'!$E$4)/100 -> 11350.5
A73: Глухая с зеркалом правая | D73: 11350.5 | E73: =D73*(100-'Содержание РФ'!$E$4)/100 -> 11350.5
A74: Со стеклопакетом левая | D74: 7405.65 | E74: =D74*(100-'Содержание РФ'!$E$4)/100 -> 7405.65
A75: Со стеклопакетом правая | D75: 7405.65 | E75: =D75*(100-'Содержание РФ'!$E$4)/100 -> 7405.65
A76: Делитель
A77: Разделитель оргстекло | D77: 12298.65 | E77: =D77*(100-'Содержание РФ'!$E$4)/100 -> 12298.65
A78: Делитель глухой | D78: 7425.6 | E78: =D78*(100-'Содержание РФ'!$E$4)/100 -> 7425.6
A79: Делитель ГЗ (лев.глухая + прав. зеркало) | D79: 11349.45 | E79: =D79*(100-'Содержание РФ'!$E$4)/100 -> 11349.45
A80: Делитель ЗГ (прав. зеркало + лев.глухая) | D80: 11349.45 | E80: =D80*(100-'Содержание РФ'!$E$4)/100 -> 11349.45
A81: Делитель ЗЗ (с 2-х стор. зеркалом) | D81: 13045.2 | E81: =D81*(100-'Содержание РФ'!$E$4)/100 -> 13045.2
A82: Пространство на полке
A83: Ценникодержатели для полок (1250) | D83: 160.65 | E83: =D83*(100-'Содержание РФ'!$E$4)/100 -> 160.65
A84: Ценникодержатели для полок (937) | D84: 119.7 | E84: =D84*(100-'Содержание РФ'!$E$4)/100 -> 119.7
A85: Ограничитель проволочный для полки (1250) | D85: 225.75 | E85: =D85*(100-'Содержание РФ'!$E$4)/100 -> 225.75
A86: Ограничитель проволочный для полки (937) | D86: 182.7 | E86: =D86*(100-'Содержание РФ'!$E$4)/100 -> 182.7
A87: Разделитель полки пластиковый (для полки 500 мм) | D87: 497.7 | E87: =D87*(100-'Содержание РФ'!$E$4)/100 -> 497.7
A88: Разделитель базовой полки пластиковый (для полки 700 мм) | D88: 341.25 | E88: =D88*(100-'Содержание РФ'!$E$4)/100 -> 341.25
A89: Подвес для колбас проволочный (RAL 9003) | D89: 444.15 | E89: =D89*(100-'Содержание РФ'!$E$4)/100 -> 444.15
A90: Планка для размещения подвеса для колбас (1250) | D90: 1276.8 | E90: =D90*(100-'Содержание РФ'!$E$4)/100 -> 1276.8
A91: Планка для размещения подвеса для колбас (937) (2 шт для 1875 мм) | D91: 820.05 | E91: =D91*(100-'Содержание РФ'!$E$4)/100 -> 820.05
A92: Упаковка для оборудования, поставляемого в разобранном виде
A93: Ящик для упаковки охлаждаемого стеллажа (обязателен для горок в разобранном виде) | C93: 1250 | D93: 2103.15 | E93: =D93*(100-'Содержание РФ'!$E$4)/100 -> 2103.15
C94: 1875 | D94: 2103.15 | E94: =D94*(100-'Содержание РФ'!$E$4)/100 -> 2103.15
C95: 2500 | D95: 2313.15 | E95: =D95*(100-'Содержание РФ'!$E$4)/100 -> 2313.15
C96: 3750 | D96: 3712.8 | E96: =D96*(100-'Содержание РФ'!$E$4)/100 -> 3712.8
A97: Ящик для упаковки комплекта (2 боковины) боковин | D97: 2983.05 | E97: =D97*(100-'Содержание РФ'!$E$4)/100 -> 2983.05

Sheet M MH
C2: Содержание
A19: Стандартная комплектация | D19: Технические параметры
A20: * Верхняя LED подсветка; | D20: * Параметры электропитания, В/Ф/Гц: 220-230/1/50
A21: * 5 рядов полок по 500 мм с кронштейнами и регулировкой наклона; | D21: * Температура окружающей среды: +12…+25 (влажность не выше 60%)
A22: * Механический ТРВ Danfoss; | D22: * Температурный режим без остекления: +1…+7
A23: * Электронный блок управления; | D23: * Температурный режим с остеклением: -1…+7
A24: * Комплект подключения к системе дренажа;
A25: * ТЭН оттайки;
A26: * Бампер RAL 9003.
A27: Цены указаны в рублях с учётом НДС
A28: Наименование | B28: Типоразмер | C28: Длина с боковинами | D28: Цена РРП, руб | E28: =CONCATENATE("Цена с учетом скидки ",'Содержание РФ'!$E$4," %",", руб") -> Цена с учетом скидки 0 %, руб
A29: MONTE MH 1250 | B29: 1250 | C29: 1330 | D29: 103289.55 | E29: =D29*(100-'Содержание РФ'!$E$4)/100 -> 103289.55
A30: MONTE MH 1875 | B30: 1875 | C30: 1955 | D30: 139987.05 | E30: =D30*(100-'Содержание РФ'!$E$4)/100 -> 139987.05
A31: MONTE MH 2500 | B31: 2500 | C31: 2580 | D31: 173817 | E31: =D31*(100-'Содержание РФ'!$E$4)/100 -> 173817
A32: MONTE MH 3750 | B32: 3750 | C32: 3830 | D32: 234216.15 | E32: =D32*(100-'Содержание РФ'!$E$4)/100 -> 234216.15
A33: MONTE MH TG | B33: 1875 | C33: 1955 | D33: 147199.5 | E33: =D33*(100-'Содержание РФ'!$E$4)/100 -> 147199.5
A35: Предложение действительно при заказе с основным модулем
A36: Опции | C36: Типоразмер | D36: Цена РРП, руб | E36: =CONCATENATE("Цена с учетом скидки ",'Содержание РФ'!$E$4," %",", руб") -> Цена с учетом скидки 0 %, руб
A37: 1 ряд полок с кронштейнами и регулировкой наклона | C37: 1250 | D37: 1431.15 | E37: =D37*(100-'Содержание РФ'!$E$4)/100 -> 1431.15
C38: 1875 | D38: 2332.05 | E38: =D38*(100-'Содержание РФ'!$E$4)/100 -> 2332.05
C39: 2500 | D39: 2861.25 | E39: =D39*(100-'Содержание РФ'!$E$4)/100 -> 2861.25
C40: 3750 | D40: 4292.4 | E40: =D40*(100-'Содержание РФ'!$E$4)/100 -> 4292.4
A41: 1 полка с кронштейнами и регулировкой наклона | C41: 930 | D41: 1431.15 | E41: =D41*(100-'Содержание РФ'!$E$4)/100 -> 1431.15
C42: 1250 | D42: 1165.5 | E42: =D42*(100-'Содержание РФ'!$E$4)/100 -> 1165.5
A43: светодиодная подсветка 1 ряда | C43: 1250 | D43: 1431.15 | E43: =D43*(100-'Содержание РФ'!$E$4)/100 -> 1431.15
C44: 1875 | D44: 1431.15 | E44: =D44*(100-'Содержание РФ'!$E$4)/100 -> 1431.15
C45: 2500 | D45: 1165.5 | E45: =D45*(100-'Содержание РФ'!$E$4)/100 -> 1165.5
C46: 3750 | D46: 1431.15 | E46: =D46*(100-'Содержание РФ'!$E$4)/100 -> 1431.15
A47: светодиодная подсветка 5 рядов | C47: 1250 | D47: 9364.95 | E47: =D47*(100-'Содержание РФ'!$E$4)/100 -> 9364.95
C48: 1875 | D48: 15682.8 | E48: =D48*(100-'Содержание РФ'!$E$4)/100 -> 15682.8
C49: 2500 | D49: 18695.25 | E49: =D49*(100-'Содержание РФ'!$E$4)/100 -> 18695.25
C50: 3750 | D50: 27997.2 | E50: =D50*(100-'Содержание РФ'!$E$4)/100 -> 27997.2
A51: Фруктовый комплект (FV) | C51: 1250 | D51: 1700 | E51: =D51*(100-'Содержание РФ'!$E$4)/100 -> 1700
C52: 1875 | D52: 1900 | E52: =D52*(100-'Содержание РФ'!$E$4)/100 -> 1900
C53: 2500 | D53: 3400 | E53: =D53*(100-'Содержание РФ'!$E$4)/100 -> 3400
C54: 3750 | D54: 5100 | E54: =D54*(100-'Содержание РФ'!$E$4)/100 -> 5100
A55: Энергосберегающий вентилятор | C55: 1250 | D55: 5460 | E55: =D55*(100-'Содержание РФ'!$E$4)/100 -> 5460
C56: 1875 | D56: 8190 | E56: =D56*(100-'Содержание РФ'!$E$4)/100 -> 8190
C57: 2500 | D57: 10920 | E57: =D57*(100-'Содержание РФ'!$E$4)/100 -> 10920
C58: 3750 | D58: 16380 | E58: =D58*(100-'Содержание РФ'!$E$4)/100 -> 16380
A59: ЭРВ | D59: 18375 | E59: =D59*(100-'Содержание РФ'!$E$4)/100 -> 18375
A60: Покраска в нестандартный цвет | D60: 15225 | E60: =D60*(100-'Содержание РФ'!$E$4)/100 -> 15225
A61: Сетевая карта | D61: 6825 | E61: =D61*(100-'Содержание РФ'!$E$4)/100 -> 6825
A62: Комплект для стыковки в линию | D62: 367.5 | E62: =D62*(100-'Содержание РФ'!$E$4)/100 -> 367.5
A63: Шторка/остекление
A64: Ночная шторка | C64: 1250 | D64: 9417.45 | E64: =D64*(100-'Содержание РФ'!$E$4)/100 -> 9417.45
C65: 1875 | D65: 10952.55 | E65: =D65*(100-'Содержание РФ'!$E$4)/100 -> 10952.55
C66: 2500 | D66: 18835.95 | E66: =D66*(100-'Содержание РФ'!$E$4)/100 -> 18835.95
C67: 3750 | D67: 28253.4 | E67: =D67*(100-'Содержание РФ'!$E$4)/100 -> 28253.4
A68: Фронтальное остекление Х1 (стеклопакет 4-12-4, закаленное стекло, торсионный механизм, магнитные уплотнители) | C68: 1250 | D68: 44689 | E68: =D68*(100-'Содержание РФ'!$E$4)/100 -> 44689
C69: 1875 | D69: 60475 | E69: =D69*(100-'Содержание РФ'!$E$4)/100 -> 60475
C70: 2500 | D70: 89378 | E70: =D70*(100-'Содержание РФ'!$E$4)/100 -> 89378
C71: 3750 | D71: 134067 | E71: =D71*(100-'Содержание РФ'!$E$4)/100 -> 134067
A72: Фронтальное остекление Х3 (безрамочный стеклопакет 4-12-4, закаленное стекло, торсионный механизм, магнитные уплотнители) | C72: 1250 | D72: 47948 | E72: =D72*(100-'Содержание РФ'!$E$4)/100 -> 47948
C73: 1875 | D73: 65087 | E73: =D73*(100-'Содержание РФ'!$E$4)/100 -> 65087
C74: 2500 | D74: 95896 | E74: =D74*(100-'Содержание РФ'!$E$4)/100 -> 95896
C75: 3750 | D75: 143844 | E75: =D75*(100-'Содержание РФ'!$E$4)/100 -> 143844
A76: Боковая панель
A77: Глухая левая | D77: 10042.2 | E77: =D77*(100-'Содержание РФ'!$E$4)/100 -> 10042.2
A78: Глухая правая | D78: 10042.2 | E78: =D78*(100-'Содержание РФ'!$E$4)/100 -> 10042.2
A79: Глухая с зеркалом левая | D79: 12514.95 | E79: =D79*(100-'Содержание РФ'!$E$4)/100 -> 12514.95
A80: Глухая с зеркалом правая | D80: 12514.95 | E80: =D80*(100-'Содержание РФ'!$E$4)/100 -> 12514.95
A81: Со стеклопакетом левая | D81: 7586.25 | E81: =D81*(100-'Содержание РФ'!$E$4)/100 -> 7586.25
A82: Со стеклопакетом правая | D82: 7586.25 | E82: =D82*(100-'Содержание РФ'!$E$4)/100 -> 7586.25
A83: Делитель
A84: Разделитель оргстекло | D84: 13436.85 | E84: =D84*(100-'Содержание РФ'!$E$4)/100 -> 13436.85
A85: Делитель глухой | D85: 8193.15 | E85: =D85*(100-'Содержание РФ'!$E$4)/100 -> 8193.15
A86: Делитель ГЗ (лев.глухая + прав. зеркало) | D86: 12387.9 | E86: =D86*(100-'Содержание РФ'!$E$4)/100 -> 12387.9
A87: Делитель ЗГ (прав. зеркало + лев.глухая) | D87: 12387.9 | E87: =D87*(100-'Содержание РФ'!$E$4)/100 -> 12387.9
A88: Делитель ЗЗ (с 2-х стор. зеркалом) | D88: 14108.85 | E88: =D88*(100-'Содержание РФ'!$E$4)/100 -> 14108.85
A89: Пространство на полке
A90: Ценникодержатели для полок (1250) | D90: 160.65 | E90: =D90*(100-'Содержание РФ'!$E$4)/100 -> 160.65
A91: Ценникодержатели для полок (937) | D91: 119.7 | E91: =D91*(100-'Содержание РФ'!$E$4)/100 -> 119.7
A92: Ограничитель проволочный для полки (1250) | D92: 225.75 | E92: =D92*(100-'Содержание РФ'!$E$4)/100 -> 225.75
A93: Ограничитель проволочный для полки (937) | D93: 182.7 | E93: =D93*(100-'Содержание РФ'!$E$4)/100 -> 182.7
A94: Разделитель полки пластиковый (для полки 500 мм) | D94: 341.25 | E94: =D94*(100-'Содержание РФ'!$E$4)/100 -> 341.25
A95: Разделитель базовой полки пластиковый (для полки 700 мм) | D95: 444.15 | E95: =D95*(100-'Содержание РФ'!$E$4)/100 -> 444.15
A96: Подвес для колбас проволочный (RAL 9003) | D96: 622.65 | E96: =D96*(100-'Содержание РФ'!$E$4)/100 -> 622.65
A97: Планка для размещения подвеса для колбас (1250) | D97: 1276.8 | E97: =D97*(100-'Содержание РФ'!$E$4)/100 -> 1276.8
A98: Планка для размещения подвеса для колбас (937) (2 шт для 1875 мм) | D98: 820.05 | E98: =D98*(100-'Содержание РФ'!$E$4)/100 -> 820.05
A99: Упаковка для оборудования, поставляемого в разобранном виде
A100: Ящик для упаковки охлаждаемого стеллажа (обязателен для горок в разобранном виде) | C100: 1250 | D100: 2103.15 | E100: =D100*(100-'Содержание РФ'!$E$4)/100 -> 2103.15
C101: 1875 | D101: 2103.15 | E101: =D101*(100-'Содержание РФ'!$E$4)/100 -> 2103.15
C102: 2500 | D102: 2313.15 | E102: =D102*(100-'Содержание РФ'!$E$4)/100 -> 2313.15
C103: 3750 | D103: 3712.8 | E103: =D103*(100-'Содержание РФ'!$E$4)/100 -> 3712.8
A104: Ящик для упаковки комплекта (2 боковины) боковин | D104: 2983.05 | E104: =D104*(100-'Содержание РФ'!$E$4)/100 -> 2983.05

Sheet M МMH
C2: Содержание
A19: Стандартная комплектация | D19: Технические параметры
A20: * Вертикальная LED подсветка; | D20: * Параметры электропитания, В/Ф/Гц: 220-230/1/50
A21: * Фронтальное остекление Х1; | D21: * Температурный режим: -1…+7
A22: * 5 рядов полок по 500 мм с кронштейнами и регулировкой наклона; | D22: * Температура окружающей среды: +12…+25 (влажность не выше 60%)
A23: * Механический ТРВ Danfoss;
A24: * Электронный блок управления;
A25: * Комплект подключения к системе дренажа;
A26: * ТЭН оттайки;
A27: * Бампер RAL 9003.
A28: Цены указаны в рублях с учётом НДС
A29: Наименование | B29: Типоразмер | C29: Длина с боковинами | D29: Цена РРП, руб | E29: =CONCATENATE("Цена с учетом скидки ",'Содержание РФ'!$E$4," %",", руб") -> Цена с учетом скидки 0 %, руб
A30: Monte MH Maxi 1250 | B30: 1250 | C30: 1330 | D30: 162776.4 | E30: =D30*(100-'Содержание РФ'!$E$4)/100 -> 162776.4
A31: Monte MH Maxi 1875 | B31: 1875 | C31: 1955 | D31: 220508.26 | E31: =D31*(100-'Содержание РФ'!$E$4)/100 -> 220508.26
A32: Monte MH Maxi 2500 | B32: 2500 | C32: 2580 | D32: 289514.5 | E32: =D32*(100-'Содержание РФ'!$E$4)/100 -> 289514.5
A33: Monte MH Maxi 3750 | B33: 3750 | C33: 3830 | D33: 405111.47 | E33: =D33*(100-'Содержание РФ'!$E$4)/100 -> 405111.47
A34: MONTE MH Maxi TG | B34: 1875 | C34: 1955 | D34: 228441.95 | E34: =D34*(100-'Содержание РФ'!$E$4)/100 -> 228441.95
A36: Предложение действительно при заказе с основным модулем
A37: Опции | C37: Типоразмер | D37: Цена РРП, руб | E37: =CONCATENATE("Цена с учетом скидки ",'Содержание РФ'!$E$4," %",", руб") -> Цена с учетом скидки 0 %, руб
A38: 1 ряд полок с кронштейнами и регулировкой наклона | C38: 1250 | D38: 1431.15 | E38: =D38*(100-'Содержание РФ'!$E$4)/100 -> 1431.15
C39: 1875 | D39: 2332.05 | E39: =D39*(100-'Содержание РФ'!$E$4)/100 -> 2332.05
C40: 2500 | D40: 2861.25 | E40: =D40*(100-'Содержание РФ'!$E$4)/100 -> 2861.25
C41: 3750 | D41: 4292.4 | E41: =D41*(100-'Содержание РФ'!$E$4)/100 -> 4292.4
A42: 1 полка с кронштейнами и регулировкой наклона | C42: 1250 | D42: 1431.15 | E42: =D42*(100-'Содержание РФ'!$E$4)/100 -> 1431.15
C43: 1875 | D43: 1165.5 | E43: =D43*(100-'Содержание РФ'!$E$4)/100 -> 1165.5
C44: 2500 | D44: 1431.15 | E44: =D44*(100-'Содержание РФ'!$E$4)/100 -> 1431.15
C45: 3750 | D45: 1431.15 | E45: =D45*(100-'Содержание РФ'!$E$4)/100 -> 1431.15
A46: 1 полка с кронштейнами и регулировкой наклона | C46: 930 | D46: 1165.5 | E46: =D46*(100-'Содержание РФ'!$E$4)/100 -> 1165.5
C47: 1250 | D47: 1431.15 | E47: =D47*(100-'Содержание РФ'!$E$4)/100 -> 1431.15
A48: светодиодная подсветка 5 рядов | C48: 1250 | D48: 9364.95 | E48: =D48*(100-'Содержание РФ'!$E$4)/100 -> 9364.95
C49: 1875 | D49: 15682.8 | E49: =D49*(100-'Содержание РФ'!$E$4)/100 -> 15682.8
C50: 2500 | D50: 18695.25 | E50: =D50*(100-'Содержание РФ'!$E$4)/100 -> 18695.25
C51: 3750 | D51: 27997.2 | E51: =D51*(100-'Содержание РФ'!$E$4)/100 -> 27997.2
A52: Фруктовый комплект (FV) | C52: 1250 | D52: 1700 | E52: =D52*(100-'Содержание РФ'!$E$4)/100 -> 1700
C53: 1875 | D53: 1900 | E53: =D53*(100-'Содержание РФ'!$E$4)/100 -> 1900
C54: 2500 | D54: 3400 | E54: =D54*(100-'Содержание РФ'!$E$4)/100 -> 3400
C55: 3750 | D55: 5100 | E55: =D55*(100-'Содержание РФ'!$E$4)/100 -> 5100
A56: Энергосберегающий вентилятор | C56: 1250 | D56: 5460 | E56: =D56*(100-'Содержание РФ'!$E$4)/100 -> 5460
C57: 1875 | D57: 8190 | E57: =D57*(100-'Содержание РФ'!$E$4)/100 -> 8190
C58: 2500 | D58: 10920 | E58: =D58*(100-'Содержание РФ'!$E$4)/100 -> 10920
C59: 3750 | D59: 16380 | E59: =D59*(100-'Содержание РФ'!$E$4)/100 -> 16380
A60: ЭРВ | D60: 18375 | E60: =D60*(100-'Содержание РФ'!$E$4)/100 -> 18375
A61: Покраска в нестандартный цвет | D61: 15225 | E61: =D61*(100-'Содержание РФ'!$E$4)/100 -> 15225
A62: Сетевая карта | D62: 6825 | E62: =D62*(100-'Содержание РФ'!$E$4)/100 -> 6825
A63: Комплект для стыковки в линию | D63: 367.5 | E63: =D63*(100-'Содержание РФ'!$E$4)/100 -> 367.5
A64: Остекление
A65: Фронтальное остекление Х3 (безрамочный стеклопакет 4-12-4, закаленное стекло, торсионный механизм, магнитные уплотнители) | C65: 1250 | D65: 3259 | E65: =D65*(100-'Содержание РФ'!$E$4)/100 -> 3259
C66: 1875 | D66: 4612 | E66: =D66*(100-'Содержание РФ'!$E$4)/100 -> 4612
C67: 2500 | D67: 6518 | E67: =D67*(100-'Содержание РФ'!$E$4)/100 -> 6518
C68: 3750 | D68: 9777 | E68: =D68*(100-'Содержание РФ'!$E$4)/100 -> 9777
A69: Боковая панель
A70: Глухая левая | D70: 10042.2 | E70: =D70*(100-'Содержание РФ'!$E$4)/100 -> 10042.2
A71: Глухая правая | D71: 10042.2 | E71: =D71*(100-'Содержание РФ'!$E$4)/100 -> 10042.2
A72: Глухая с зеркалом левая | D72: 12514.95 | E72: =D72*(100-'Содержание РФ'!$E$4)/100 -> 12514.95
A73: Глухая с зеркалом правая | D73: 12514.95 | E73: =D73*(100-'Содержание РФ'!$E$4)/100 -> 12514.95
A74: Со стеклопакетом левая | D74: 7586.25 | E74: =D74*(100-'Содержание РФ'!$E$4)/100 -> 7586.25
A75: Со стеклопакетом правая | D75: 7586.25 | E75: =D75*(100-'Содержание РФ'!$E$4)/100 -> 7586.25
A76: Делитель
A77: Разделитель оргстекло | D77: 13436.85 | E77: =D77*(100-'Содержание РФ'!$E$4)/100 -> 13436.85
A78: Делитель глухой | D78: 8193.15 | E78: =D78*(100-'Содержание РФ'!$E$4)/100 -> 8193.15
A79: Делитель ГЗ (лев.глухая + прав. зеркало) | D79: 12387.9 | E79: =D79*(100-'Содержание РФ'!$E$4)/100 -> 12387.9
A80: Делитель ЗГ (прав. зеркало + лев.глухая) | D80: 12387.9 | E80: =D80*(100-'Содержание РФ'!$E$4)/100 -> 12387.9
A81: Делитель ЗЗ (с 2-х стор. зеркалом) | D81: 14108.85 | E81: =D81*(100-'Содержание РФ'!$E$4)/100 -> 14108.85
A82: Пространство на полке
A83: Ценникодержатели для полок (1250) | D83: 160.65 | E83: =D83*(100-'Содержание РФ'!$E$4)/100 -> 160.65
A84: Ценникодержатели для полок (937) | D84: 119.7 | E84: =D84*(100-'Содержание РФ'!$E$4)/100 -> 119.7
A85: Ограничитель проволочный для полки (1250) | D85: 225.75 | E85: =D85*(100-'Содержание РФ'!$E$4)/100 -> 225.75
A86: Ограничитель проволочный для полки (937) | D86: 182.7 | E86: =D86*(100-'Содержание РФ'!$E$4)/100 -> 182.7
A87: Разделитель полки пластиковый (для полки 500 мм) | D87: 341.25 | E87: =D87*(100-'Содержание РФ'!$E$4)/100 -> 341.25
A88: Разделитель базовой полки пластиковый (для полки 700 мм) | D88: 444.15 | E88: =D88*(100-'Содержание РФ'!$E$4)/100 -> 444.15
A89: Подвес для колбас проволочный (RAL 9003) | D89: 622.65 | E89: =D89*(100-'Содержание РФ'!$E$4)/100 -> 622.65
A90: Планка для размещения подвеса для колбас (1250) | D90: 1276.8 | E90: =D90*(100-'Содержание РФ'!$E$4)/100 -> 1276.8
A91: Планка для размещения подвеса для колбас (937) (2 шт для 1875 мм) | D91: 820.05 | E91: =D91*(100-'Содержание РФ'!$E$4)/100 -> 820.05
A92: Упаковка для оборудования, поставляемого в разобранном виде
A93: Ящик для упаковки охлаждаемого стеллажа (обязателен для горок в разобранном виде) | C93: 1250 | D93: 2103.15 | E93: =D93*(100-'Содержание РФ'!$E$4)/100 -> 2103.15
C94: 1875 | D94: 2103.15 | E94: =D94*(100-'Содержание РФ'!$E$4)/100 -> 2103.15
C95: 2500 | D95: 2313.15 | E95: =D95*(100-'Содержание РФ'!$E$4)/100 -> 2313.15
C96: 3750 | D96: 3712.8 | E96: =D96*(100-'Содержание РФ'!$E$4)/100 -> 3712.8
A97: Ящик для упаковки комплекта (2 боковины) боковин | D97: 2983.05 | E97: =D97*(100-'Содержание РФ'!$E$4)/100 -> 2983.05

Sheet M L
C2: Содержание
A19: Стандартная комплектация | D19: Технические параметры
A20: * Верхняя LED подсветка; | D20: * Параметры электропитания, В/Ф/Гц: 220-230/1/50
A21: * 4 ряда полок по 600 мм с кронштейнами и регулировкой наклона; | D21: * Температура окружающей среды: +12…+25 (влажность не выше 60%)
A22: * Механический ТРВ Danfoss; | D22: * Температурный режим без остекления: +1…+7
A23: * Электронный блок управления; | D23: * Температурный режим с остеклением: -1…+7
A24: * Комплект подключения к системе дренажа;
A25: * ТЭН оттайки;
A26: * Бампер RAL 9003.
A27: Цены указаны в рублях с учётом НДС
A28: Наименование | B28: Типоразмер | C28: Длина с боковинами | D28: Цена РРП, руб | E28: =CONCATENATE("Цена с учетом скидки ",'Содержание РФ'!$E$4," %",", руб") -> Цена с учетом скидки 0 %, руб
A29: MONTE L 1250 | B29: 1250 | C29: 1330 | D29: 108149.58 | E29: =D29*(100-'Содержание РФ'!$E$4)/100 -> 108149.58
A30: MONTE L 1875 | B30: 1875 | C30: 1955 | D30: 149512.44 | E30: =D30*(100-'Содержание РФ'!$E$4)/100 -> 149512.44
A31: MONTE L 2500 | B31: 2500 | C31: 2580 | D31: 186447.03 | E31: =D31*(100-'Содержание РФ'!$E$4)/100 -> 186447.03
A32: MONTE L 3750 | B32: 3750 | C32: 3830 | D32: 251806.17 | E32: =D32*(100-'Содержание РФ'!$E$4)/100 -> 251806.17
A33: MONTE L TG | B33: 2500 | C33: 2580 | D33: 186896.33 | E33: =D33*(100-'Содержание РФ'!$E$4)/100 -> 186896.33
A35: Предложение действительно при заказе с основным модулем
A36: Опции | C36: Типоразмер | D36: Цена РРП, руб | E36: =CONCATENATE("Цена с учетом скидки ",'Содержание РФ'!$E$4," %",", руб") -> Цена с учетом скидки 0 %, руб
A37: 1 ряд полок с кронштейнами и регулировкой наклона | C37: 1250 | D37: 1431.15 | E37: =D37*(100-'Содержание РФ'!$E$4)/100 -> 1431.15
C38: 1875 | D38: 2332.05 | E38: =D38*(100-'Содержание РФ'!$E$4)/100 -> 2332.05
C39: 2500 | D39: 2861.25 | E39: =D39*(100-'Содержание РФ'!$E$4)/100 -> 2861.25
C40: 3750 | D40: 4292.4 | E40: =D40*(100-'Содержание РФ'!$E$4)/100 -> 4292.4
A41: 1 полка с кронштейнами и регулировкой наклона | C41: 930 | D41: 1165.5 | E41: =D41*(100-'Содержание РФ'!$E$4)/100 -> 1165.5
C42: 1250 | D42: 1431.15 | E42: =D42*(100-'Содержание РФ'!$E$4)/100 -> 1431.15
A43: светодиодная подсветка 1 ряда | C43: 1250 | D43: 1851.15 | E43: =D43*(100-'Содержание РФ'!$E$4)/100 -> 1851.15
C44: 1875 | D44: 3033.45 | E44: =D44*(100-'Содержание РФ'!$E$4)/100 -> 3033.45
C45: 2500 | D45: 3702.3 | E45: =D45*(100-'Содержание РФ'!$E$4)/100 -> 3702.3
C46: 3750 | D46: 5553.45 | E46: =D46*(100-'Содержание РФ'!$E$4)/100 -> 5553.45
A47: светодиодная подсветка 4 рядов | C47: 1250 | D47: 7403.55 | E47: =D47*(100-'Содержание РФ'!$E$4)/100 -> 7403.55
C48: 1875 | D48: 12130.65 | E48: =D48*(100-'Содержание РФ'!$E$4)/100 -> 12130.65
C49: 2500 | D49: 14807.1 | E49: =D49*(100-'Содержание РФ'!$E$4)/100 -> 14807.1
C50: 3750 | D50: 22210.65 | E50: =D50*(100-'Содержание РФ'!$E$4)/100 -> 22210.65
A51: Фруктовый комплект (FV) | C51: 1250 | D51: 1900 | E51: =D51*(100-'Содержание РФ'!$E$4)/100 -> 1900
C52: 1875 | D52: 2100 | E52: =D52*(100-'Содержание РФ'!$E$4)/100 -> 2100
C53: 2500 | D53: 3800 | E53: =D53*(100-'Содержание РФ'!$E$4)/100 -> 3800
C54: 3750 | D54: 5700 | E54: =D54*(100-'Содержание РФ'!$E$4)/100 -> 5700
A55: Энергосберегающий вентилятор | C55: 1250 | D55: 5460 | E55: =D55*(100-'Содержание РФ'!$E$4)/100 -> 5460
C56: 1875 | D56: 8190 | E56: =D56*(100-'Содержание РФ'!$E$4)/100 -> 8190
C57: 2500 | D57: 10920 | E57: =D57*(100-'Содержание РФ'!$E$4)/100 -> 10920
C58: 3750 | D58: 16380 | E58: =D58*(100-'Содержание РФ'!$E$4)/100 -> 16380
A59: ЭРВ | D59: 18375 | E59: =D59*(100-'Содержание РФ'!$E$4)/100 -> 18375
A60: Покраска в нестандартный цвет | D60: 15225 | E60: =D60*(100-'Содержание РФ'!$E$4)/100 -> 15225
A61: Сетевая карта | D61: 6825 | E61: =D61*(100-'Содержание РФ'!$E$4)/100 -> 6825
A62: Комплект для стыковки в линию | D62: 367.5 | E62: =D62*(100-'Содержание РФ'!$E$4)/100 -> 367.5
A63: Шторка/остекление
A64: Ночная шторка | C64: 1250 | D64: 9417.45 | E64: =D64*(100-'Содержание РФ'!$E$4)/100 -> 9417.45
C65: 1875 | D65: 10952.55 | E65: =D65*(100-'Содержание РФ'!$E$4)/100 -> 10952.55
C66: 2500 | D66: 18835.95 | E66: =D66*(100-'Содержание РФ'!$E$4)/100 -> 18835.95
C67: 3750 | D67: 28253.4 | E67: =D67*(100-'Содержание РФ'!$E$4)/100 -> 28253.4
A68: Фронтальное остекление Х1 (стеклопакет 4-12-4, закаленное стекло, торсионный механизм, магнитные уплотнители) | C68: 1250 | D68: 40820 | E68: =D68*(100-'Содержание РФ'!$E$4)/100 -> 40820
C69: 1875 | D69: 56005 | E69: =D69*(100-'Содержание РФ'!$E$4)/100 -> 56005
C70: 2500 | D70: 81640 | E70: =D70*(100-'Содержание РФ'!$E$4)/100 -> 81640
C71: 3750 | D71: 122460 | E71: =D71*(100-'Содержание РФ'!$E$4)/100 -> 122460
A72: Фронтальное остекление Х3 (безрамочный стеклопакет 4-12-4, закаленное стекло, торсионный механизм, магнитные уплотнители) | C72: 1250 | D72: 43984 | E72: =D72*(100-'Содержание РФ'!$E$4)/100 -> 43984
C73: 1875 | D73: 60482 | E73: =D73*(100-'Содержание РФ'!$E$4)/100 -> 60482
C74: 2500 | D74: 87968 | E74: =D74*(100-'Содержание РФ'!$E$4)/100 -> 87968
C75: 3750 | D75: 131952 | E75: =D75*(100-'Содержание РФ'!$E$4)/100 -> 131952
A76: Боковая панель
A77: Глухая левая | D77: 10103.1 | E77: =D77*(100-'Содержание РФ'!$E$4)/100 -> 10103.1
A78: Глухая правая | D78: 10103.1 | E78: =D78*(100-'Содержание РФ'!$E$4)/100 -> 10103.1
A79: Глухая с зеркалом левая | D79: 12916.05 | E79: =D79*(100-'Содержание РФ'!$E$4)/100 -> 12916.05
A80: Глухая с зеркалом правая | D80: 12916.05 | E80: =D80*(100-'Содержание РФ'!$E$4)/100 -> 12916.05
A81: Со стеклопакетом левая | D81: 8096.55 | E81: =D81*(100-'Содержание РФ'!$E$4)/100 -> 8096.55
A82: Со стеклопакетом правая | D82: 8096.55 | E82: =D82*(100-'Содержание РФ'!$E$4)/100 -> 8096.55
A83: Делитель
A84: Разделитель оргстекло | D84: 13992.3 | E84: =D84*(100-'Содержание РФ'!$E$4)/100 -> 13992.3
A85: Делитель глухой | D85: 8279.25 | E85: =D85*(100-'Содержание РФ'!$E$4)/100 -> 8279.25
A86: Делитель ГЗ (лев.глухая + прав. зеркало) | D86: 12492.9 | E86: =D86*(100-'Содержание РФ'!$E$4)/100 -> 12492.9
A87: Делитель ЗГ (прав. зеркало + лев.глухая) | D87: 12492.9 | E87: =D87*(100-'Содержание РФ'!$E$4)/100 -> 12492.9
A88: Делитель ЗЗ (с 2-х стор. зеркалом) | D88: 13491.45 | E88: =D88*(100-'Содержание РФ'!$E$4)/100 -> 13491.45
A89: Пространство на полке
A90: Ценникодержатели для полок (1250) | D90: 160.65 | E90: =D90*(100-'Содержание РФ'!$E$4)/100 -> 160.65
A91: Ценникодержатели для полок (937) | D91: 119.7 | E91: =D91*(100-'Содержание РФ'!$E$4)/100 -> 119.7
A92: Ограничитель проволочный для полки (1250) | D92: 225.75 | E92: =D92*(100-'Содержание РФ'!$E$4)/100 -> 225.75
A93: Ограничитель проволочный для полки (937) | D93: 182.7 | E93: =D93*(100-'Содержание РФ'!$E$4)/100 -> 182.7
A94: Разделитель полки пластиковый (для полки 600 мм) | D94: 497.7 | E94: =D94*(100-'Содержание РФ'!$E$4)/100 -> 497.7
A95: Разделитель базовой полки пластиковый (для полки 800 мм) | D95: 341.25 | E95: =D95*(100-'Содержание РФ'!$E$4)/100 -> 341.25
A96: Подвес для колбас проволочный (RAL 9003) | D96: 444.15 | E96: =D96*(100-'Содержание РФ'!$E$4)/100 -> 444.15
A97: Планка для размещения подвеса для колбас (1250) | D97: 1276.8 | E97: =D97*(100-'Содержание РФ'!$E$4)/100 -> 1276.8
A98: Планка для размещения подвеса для колбас (937) (2 шт для 1875 мм) | D98: 820.05 | E98: =D98*(100-'Содержание РФ'!$E$4)/100 -> 820.05
A99: Упаковка для оборудования, поставляемого в разобранном виде
A100: Ящик для упаковки охлаждаемого стеллажа (обязателен для горок в разобранном виде) | C100: 1250 | D100: 2103.15 | E100: =D100*(100-'Содержание РФ'!$E$4)/100 -> 2103.15
C101: 1875 | D101: 2103.15 | E101: =D101*(100-'Содержание РФ'!$E$4)/100 -> 2103.15
C102: 2500 | D102: 2313.15 | E102: =D102*(100-'Содержание РФ'!$E$4)/100 -> 2313.15
C103: 3750 | D103: 3712.8 | E103: =D103*(100-'Содержание РФ'!$E$4)/100 -> 3712.8
A104: Ящик для упаковки комплекта (2 боковины) боковин | D104: 2983.05 | E104: =D104*(100-'Содержание РФ'!$E$4)/100 -> 2983.05

Sheet M LH
C2: Содержание
A19: Стандартная комплектация | D19: Технические параметры
A20: * Верхняя LED подсветка; | D20: * Параметры электропитания, В/Ф/Гц: 220-230/1/50
A21: * 5 рядов полок по 600 мм с кронштейнами и регулировкой наклона; | D21: * Температура окружающей среды: +12…+25 (влажность не выше 60%)
A22: * Механический ТРВ Danfoss; | D22: * Температурный режим без остекления: +1…+7
A23: * Электронный блок управления; | D23: * Температурный режим с остеклением: -1…+7
A24: * Комплект подключения к системе дренажа;
A25: * ТЭН оттайки;
A26: * Бампер RAL 9003.
A27: Цены указаны в рублях с учётом НДС
A28: Наименование | B28: Типоразмер | C28: Длина с боковинами | D28: Цена РРП, руб | E28: =CONCATENATE("Цена с учетом скидки ",'Содержание РФ'!$E$4," %",", руб") -> Цена с учетом скидки 0 %, руб
A29: MONTE LH 1250 | B29: 1250 | C29: 1330 | D29: 109752.72 | E29: =D29*(100-'Содержание РФ'!$E$4)/100 -> 109752.72
A30: MONTE LH 1875 | B30: 1875 | C30: 1955 | D30: 154242.17 | E30: =D30*(100-'Содержание РФ'!$E$4)/100 -> 154242.17
A31: MONTE LH 2500 | B31: 2500 | C31: 2580 | D31: 190143.03 | E31: =D31*(100-'Содержание РФ'!$E$4)/100 -> 190143.03
A32: MONTE LH 3750 | B32: 3750 | C32: 3830 | D32: 256381.13 | E32: =D32*(100-'Содержание РФ'!$E$4)/100 -> 256381.13
A33: MONTE LH TG | B33: 2500 | C33: 2580 | D33: 190802.54 | E33: =D33*(100-'Содержание РФ'!$E$4)/100 -> 190802.54
A35: Предложение действительно при заказе с основным модулем
A36: Опции | C36: Типоразмер | D36: Цена РРП, руб | E36: =CONCATENATE("Цена с учетом скидки ",'Содержание РФ'!$E$4," %",", руб") -> Цена с учетом скидки 0 %, руб
A37: 1 ряд полок с кронштейнами и регулировкой наклона | C37: 1250 | D37: 1431.15 | E37: =D37*(100-'Содержание РФ'!$E$4)/100 -> 1431.15
C38: 1875 | D38: 2332.05 | E38: =D38*(100-'Содержание РФ'!$E$4)/100 -> 2332.05
C39: 2500 | D39: 2861.25 | E39: =D39*(100-'Содержание РФ'!$E$4)/100 -> 2861.25
C40: 3750 | D40: 4292.4 | E40: =D40*(100-'Содержание РФ'!$E$4)/100 -> 4292.4
A41: 1 полка с кронштейнами и регулировкой наклона | C41: 930 | D41: 1165.5 | E41: =D41*(100-'Содержание РФ'!$E$4)/100 -> 1165.5
C42: 1250 | D42: 1431.15 | E42: =D42*(100-'Содержание РФ'!$E$4)/100 -> 1431.15
A43: светодиодная подсветка 1 ряда | C43: 1250 | D43: 1873.2 | E43: =D43*(100-'Содержание РФ'!$E$4)/100 -> 1873.2
C44: 1875 | D44: 3137.4 | E44: =D44*(100-'Содержание РФ'!$E$4)/100 -> 3137.4
C45: 2500 | D45: 3739.05 | E45: =D45*(100-'Содержание РФ'!$E$4)/100 -> 3739.05
C46: 3750 | D46: 5599.65 | E46: =D46*(100-'Содержание РФ'!$E$4)/100 -> 5599.65
A47: светодиодная подсветка 5 рядов | C47: 1250 | D47: 9364.95 | E47: =D47*(100-'Содержание РФ'!$E$4)/100 -> 9364.95
C48: 1875 | D48: 15682.8 | E48: =D48*(100-'Содержание РФ'!$E$4)/100 -> 15682.8
C49: 2500 | D49: 18695.25 | E49: =D49*(100-'Содержание РФ'!$E$4)/100 -> 18695.25
C50: 3750 | D50: 27997.2 | E50: =D50*(100-'Содержание РФ'!$E$4)/100 -> 27997.2
A51: Фруктовый комплект (FV) | C51: 1250 | D51: 1900 | E51: =D51*(100-'Содержание РФ'!$E$4)/100 -> 1900
C52: 1875 | D52: 2100 | E52: =D52*(100-'Содержание РФ'!$E$4)/100 -> 2100
C53: 2500 | D53: 3800 | E53: =D53*(100-'Содержание РФ'!$E$4)/100 -> 3800
C54: 3750 | D54: 5700 | E54: =D54*(100-'Содержание РФ'!$E$4)/100 -> 5700
A55: Энергосберегающий вентилятор | C55: 1250 | D55: 5460 | E55: =D55*(100-'Содержание РФ'!$E$4)/100 -> 5460
C56: 1875 | D56: 8190 | E56: =D56*(100-'Содержание РФ'!$E$4)/100 -> 8190
C57: 2500 | D57: 10920 | E57: =D57*(100-'Содержание РФ'!$E$4)/100 -> 10920
C58: 3750 | D58: 16380 | E58: =D58*(100-'Содержание РФ'!$E$4)/100 -> 16380
A59: ЭРВ | D59: 18375 | E59: =D59*(100-'Содержание РФ'!$E$4)/100 -> 18375
A60: Покраска в нестандартный цвет | D60: 15225 | E60: =D60*(100-'Содержание РФ'!$E$4)/100 -> 15225
A61: Сетевая карта | D61: 6825 | E61: =D61*(100-'Содержание РФ'!$E$4)/100 -> 6825
A62: Комплект для стыковки в линию | D62: 367.5 | E62: =D62*(100-'Содержание РФ'!$E$4)/100 -> 367.5
A63: Шторка/остекление
A64: Ночная шторка | C64: 1250 | D64: 9417.45 | E64: =D64*(100-'Содержание РФ'!$E$4)/100 -> 9417.45
C65: 1875 | D65: 10952.55 | E65: =D65*(100-'Содержание РФ'!$E$4)/100 -> 10952.55
C66: 2500 | D66: 18835.95 | E66: =D66*(100-'Содержание РФ'!$E$4)/100 -> 18835.95
C67: 3750 | D67: 28253.4 | E67: =D67*(100-'Содержание РФ'!$E$4)/100 -> 28253.4
A68: Фронтальное остекление Х1 (стеклопакет 4-12-4, закаленное стекло, торсионный механизм, магнитные уплотнители) | C68: 1250 | D68: 44689 | E68: =D68*(100-'Содержание РФ'!$E$4)/100 -> 44689
C69: 1875 | D69: 60475 | E69: =D69*(100-'Содержание РФ'!$E$4)/100 -> 60475
C70: 2500 | D70: 89378 | E70: =D70*(100-'Содержание РФ'!$E$4)/100 -> 89378
C71: 3750 | D71: 134067 | E71: =D71*(100-'Содержание РФ'!$E$4)/100 -> 134067
A72: Фронтальное остекление Х3 (безрамочный стеклопакет 4-12-4, закаленное стекло, торсионный механизм, магнитные уплотнители) | C72: 1250 | D72: 47948 | E72: =D72*(100-'Содержание РФ'!$E$4)/100 -> 47948
C73: 1875 | D73: 65087 | E73: =D73*(100-'Содержание РФ'!$E$4)/100 -> 65087
C74: 2500 | D74: 95896 | E74: =D74*(100-'Содержание РФ'!$E$4)/100 -> 95896
C75: 3750 | D75: 143844 | E75: =D75*(100-'Содержание РФ'!$E$4)/100 -> 143844
A76: Боковая панель
A77: Глухая левая | D77: 10944.15 | E77: =D77*(100-'Содержание РФ'!$E$4)/100 -> 10944.15
A78: Глухая правая | D78: 10944.15 | E78: =D78*(100-'Содержание РФ'!$E$4)/100 -> 10944.15
A79: Глухая с зеркалом левая | D79: 13587 | E79: =D79*(100-'Содержание РФ'!$E$4)/100 -> 13587
A80: Глухая с зеркалом правая | D80: 13587 | E80: =D80*(100-'Содержание РФ'!$E$4)/100 -> 13587
A81: Со стеклопакетом левая | D81: 8422.05 | E81: =D81*(100-'Содержание РФ'!$E$4)/100 -> 8422.05
A82: Со стеклопакетом правая | D82: 8422.05 | E82: =D82*(100-'Содержание РФ'!$E$4)/100 -> 8422.05
A83: Делитель
A84: Разделитель оргстекло | D84: 15324.75 | E84: =D84*(100-'Содержание РФ'!$E$4)/100 -> 15324.75
A85: Делитель глухой | D85: 8953.35 | E85: =D85*(100-'Содержание РФ'!$E$4)/100 -> 8953.35
A86: Делитель ГЗ (лев.глухая + прав. зеркало) | D86: 12898.2 | E86: =D86*(100-'Содержание РФ'!$E$4)/100 -> 12898.2
A87: Делитель ЗГ (прав. зеркало + лев.глухая) | D87: 12898.2 | E87: =D87*(100-'Содержание РФ'!$E$4)/100 -> 12898.2
A88: Делитель ЗЗ (с 2-х стор. зеркалом) | D88: 15311.1 | E88: =D88*(100-'Содержание РФ'!$E$4)/100 -> 15311.1
A89: Пространство на полке
A90: Ценникодержатели для полок (1250) | D90: 160.65 | E90: =D90*(100-'Содержание РФ'!$E$4)/100 -> 160.65
A91: Ценникодержатели для полок (937) | D91: 119.7 | E91: =D91*(100-'Содержание РФ'!$E$4)/100 -> 119.7
A92: Ограничитель проволочный для полки (1250) | D92: 225.75 | E92: =D92*(100-'Содержание РФ'!$E$4)/100 -> 225.75
A93: Ограничитель проволочный для полки (937) | D93: 182.7 | E93: =D93*(100-'Содержание РФ'!$E$4)/100 -> 182.7
A94: Разделитель полки пластиковый (для полки 600 мм) | D94: 341.25 | E94: =D94*(100-'Содержание РФ'!$E$4)/100 -> 341.25
A95: Разделитель базовой полки пластиковый (для полки 800 мм) | D95: 444.15 | E95: =D95*(100-'Содержание РФ'!$E$4)/100 -> 444.15
A96: Подвес для колбас проволочный (RAL 9003) | D96: 622.65 | E96: =D96*(100-'Содержание РФ'!$E$4)/100 -> 622.65
A97: Планка для размещения подвеса для колбас (1250) | D97: 1276.8 | E97: =D97*(100-'Содержание РФ'!$E$4)/100 -> 1276.8
A98: Планка для размещения подвеса для колбас (937) (2 шт для 1875 мм) | D98: 820.05 | E98: =D98*(100-'Содержание РФ'!$E$4)/100 -> 820.05
A99: Упаковка для оборудования, поставляемого в разобранном виде
A100: Ящик для упаковки охлаждаемого стеллажа (обязателен для горок в разобранном виде) | C100: 1250 | D100: 2103.15 | E100: =D100*(100-'Содержание РФ'!$E$4)/100 -> 2103.15
C101: 1875 | D101: 2103.15 | E101: =D101*(100-'Содержание РФ'!$E$4)/100 -> 2103.15
C102: 2500 | D102: 2313.15 | E102: =D102*(100-'Содержание РФ'!$E$4)/100 -> 2313.15
C103: 3750 | D103: 3712.8 | E103: =D103*(100-'Содержание РФ'!$E$4)/100 -> 3712.8
A104: Ящик для упаковки комплекта (2 боковины) боковин | D104: 2983.05 | E104: =D104*(100-'Содержание РФ'!$E$4)/100 -> 2983.05

Sheet R M
C2: Содержание
A19: Стандартная комплектация | D19: Технические параметры
A20: * Верхняя LED подсветка; | D20: * Параметры электропитания, В/Ф/Гц: 220-230/1/50
A21: * 3 ряда полок 300/400/500 мм с кронштейнами и регулировкой наклона; | D21: * Температура окружающей среды: +12…+25 (влажность не выше 60%)
A22: * Механический ТРВ Danfoss; | D22: * Температурный режим без остекления: +1…+7
A23: * Электронный блок управления;
A24: * Комплект подключения к системе дренажа;
A25: * ТЭН оттайки;
A26: * Бампер RAL 9003.
A27: Цены указаны в рублях с учётом НДС
A28: Наименование | B28: Типоразмер | C28: Длина с боковинами | D28: Цена РРП, руб | E28: =CONCATENATE("Цена с учетом скидки ",'Содержание РФ'!$E$4," %",", руб") -> Цена с учетом скидки 0 %, руб
A29: POLAIR Ritto 1250 | B29: 1250 | C29: 1330 | D29: 91098 | E29: =D29*(100-'Содержание РФ'!$E$4)/100 -> 91098
A30: POLAIR Ritto 1875 | B30: 1875 | C30: 1955 | D30: 116605.44 | E30: =D30*(100-'Содержание РФ'!$E$4)/100 -> 116605.44
A31: POLAIR Ritto 2500 | B31: 2500 | C31: 2580 | D31: 149254.96 | E31: =D31*(100-'Содержание РФ'!$E$4)/100 -> 149254.96
A32: POLAIR Ritto 3750 | B32: 3750 | C32: 3830 | D32: 191046.35 | E32: =D32*(100-'Содержание РФ'!$E$4)/100 -> 191046.35
A33: POLAIR Ritto TG | B33: 1875 | C33: 1955 | D33: 143934.84 | E33: =D33*(100-'Содержание РФ'!$E$4)/100 -> 143934.84
A34: Предложение действительно при заказе с основным модулем
A35: Опции | C35: Типоразмер | D35: Цена РРП, руб | E35: =CONCATENATE("Цена с учетом скидки ",'Содержание РФ'!$E$4," %",", руб") -> Цена с учетом скидки 0 %, руб
A36: 1 полка с кронштейнами и регулировкой наклона | C36: 1250 | D36: 1431.15 | E36: =D36*(100-'Содержание РФ'!$E$4)/100 -> 1431.15
C37: 1875 | D37: 1165.5 | E37: =D37*(100-'Содержание РФ'!$E$4)/100 -> 1165.5
C38: 2500 | D38: 1431.15 | E38: =D38*(100-'Содержание РФ'!$E$4)/100 -> 1431.15
C39: 3750 | D39: 1431.15 | E39: =D39*(100-'Содержание РФ'!$E$4)/100 -> 1431.15
A40: светодиодная подсветка 1 ряда | C40: 1250 | D40: 1873.2 | E40: =D40*(100-'Содержание РФ'!$E$4)/100 -> 1873.2
C41: 1875 | D41: 3137.4 | E41: =D41*(100-'Содержание РФ'!$E$4)/100 -> 3137.4
C42: 2500 | D42: 3739.05 | E42: =D42*(100-'Содержание РФ'!$E$4)/100 -> 3739.05
C43: 3750 | D43: 5599.65 | E43: =D43*(100-'Содержание РФ'!$E$4)/100 -> 5599.65
A44: Энергосберегающий вентилятор | C44: 1250 | D44: 5460 | E44: =D44*(100-'Содержание РФ'!$E$4)/100 -> 5460
C45: 1875 | D45: 8190 | E45: =D45*(100-'Содержание РФ'!$E$4)/100 -> 8190
C46: 2500 | D46: 10920 | E46: =D46*(100-'Содержание РФ'!$E$4)/100 -> 10920
C47: 3750 | D47: 16380 | E47: =D47*(100-'Содержание РФ'!$E$4)/100 -> 16380
A48: ЭРВ | D48: 18375 | E48: =D48*(100-'Содержание РФ'!$E$4)/100 -> 18375
A49: Покраска в нестандартный цвет | D49: 15225 | E49: =D49*(100-'Содержание РФ'!$E$4)/100 -> 15225
A50: Сетевая карта | D50: 6825 | E50: =D50*(100-'Содержание РФ'!$E$4)/100 -> 6825
A51: Комплект для стыковки в линию | D51: 367.5 | E51: =D51*(100-'Содержание РФ'!$E$4)/100 -> 367.5
A52: Шторка
A53: Ночная шторка | C53: 1250 | D53: 9417.45 | E53: =D53*(100-'Содержание РФ'!$E$4)/100 -> 9417.45
C54: 1875 | D54: 10952.55 | E54: =D54*(100-'Содержание РФ'!$E$4)/100 -> 10952.55
C55: 2500 | D55: 18835.95 | E55: =D55*(100-'Содержание РФ'!$E$4)/100 -> 18835.95
C56: 3750 | D56: 28253.4 | E56: =D56*(100-'Содержание РФ'!$E$4)/100 -> 28253.4
A57: Боковая панель
A58: Глухая с зеркалом левая | D58: 11350.5 | E58: =D58*(100-'Содержание РФ'!$E$4)/100 -> 11350.5
A59: Глухая с зеркалом правая | D59: 11350.5 | E59: =D59*(100-'Содержание РФ'!$E$4)/100 -> 11350.5
A60: Со стеклопакетом левая | D60: 7405.65 | E60: =D60*(100-'Содержание РФ'!$E$4)/100 -> 7405.65
A61: Со стеклопакетом правая | D61: 7405.65 | E61: =D61*(100-'Содержание РФ'!$E$4)/100 -> 7405.65
A62: Пространство на полке
A63: Ценникодержатели для полок (937) | B63: Ценникодержатели для полок (937) | C63: Ценникодержатели для полок (937) | D63: 119.7 | E63: =D63*(100-'Содержание РФ'!$E$4)/100 -> 119.7
A64: Ценникодержатели для полок (1250) | B64: Ценникодержатели для полок (1250) | C64: Ценникодержатели для полок (1250) | D64: 160.65 | E64: =D64*(100-'Содержание РФ'!$E$4)/100 -> 160.65
A65: Ограничитель проволочный для полки (937) | B65: Ограничитель проволочный для полки (937) | C65: Ограничитель проволочный для полки (937) | D65: 182.7 | E65: =D65*(100-'Содержание РФ'!$E$4)/100 -> 182.7
A66: Ограничитель проволочный для полки (1250) | B66: Ограничитель проволочный для полки (1250) | C66: Ограничитель проволочный для полки (1250) | D66: 225.75 | E66: =D66*(100-'Содержание РФ'!$E$4)/100 -> 225.75
A67: Разделитель полки пластиковый | B67: Разделитель полки пластиковый | C67: Разделитель полки пластиковый | D67: 497.7 | E67: =D67*(100-'Содержание РФ'!$E$4)/100 -> 497.7
A68: Упаковка для оборудования, поставляемого в разобранном виде
A69: Ящик для упаковки охлаждаемого стеллажа (обязателен для горок в разобранном виде) | C69: 1250 | D69: 2103.15 | E69: =D69*(100-'Содержание РФ'!$E$4)/100 -> 2103.15
C70: 1875 | D70: 2103.15 | E70: =D70*(100-'Содержание РФ'!$E$4)/100 -> 2103.15
C71: 2500 | D71: 2313.15 | E71: =D71*(100-'Содержание РФ'!$E$4)/100 -> 2313.15
C72: 3750 | D72: 3712.8 | E72: =D72*(100-'Содержание РФ'!$E$4)/100 -> 3712.8
A73: Ящик для упаковки комплекта (2 боковины) боковин | D73: 2983.05 | E73: =D73*(100-'Содержание РФ'!$E$4)/100 -> 2983.05

Sheet G MH
C2: Содержание
A20: Стандартная комплектация: | D20: Технические параметры
A21: * Стеклянный фронт с обогревом рамы и створок X5L | D21: * Параметры электропитания, В/Ф/Гц: 220-230/1/50
A22: * 5 рядов полок глубиной 600 мм с кронштейнами с регулировкой наклона | D22: * Температура окружающей среды: +12…+25 (влажность не выше 60%)
A23: * Термореле | D23: * Температурный режим: -22...-18
A24: * Вертикальная LED подсветка
A25: * Механический ТРВ
A26: * Электронный блок управления
A27: * Комплект подключения к системе дренажа
A28: * Режим автоматической оттайки
A29: * Бампер
A30: Цены указаны в рублях с учётом НДС
A31: Наименование | B31: Типоразмер | C31: Длина с боковинами | D31: Цена РРП, руб | E31: =CONCATENATE("Цена с учетом скидки ",'Содержание РФ'!$E$4," %",", руб") -> Цена с учетом скидки 0 %, руб
A32: GELO MH 1250 - 3 кл | B32: 1250 | C32: 2580 | D32: 288500 | E32: =D32*(100-'Содержание РФ'!$E$4)/100 -> 288500
A33: GELO MH 1875 - 3 кл | B33: 1875 | C33: 1995 | D33: 375050 | E33: =D33*(100-'Содержание РФ'!$E$4)/100 -> 375050
A34: GELO MH 2500 - 3 кл | B34: 2500 | C34: 2580 | D34: 443572.5 | E34: =D34*(100-'Содержание РФ'!$E$4)/100 -> 443572.5
A35: GELO MH 3750 - 3 кл | B35: 3750 | C35: 3830 | D35: 621075 | E35: =D35*(100-'Содержание РФ'!$E$4)/100 -> 621075
A36: GELO MH 1250 - 6 кл | B36: 1250 | C36: 2580 | D36: 302000 | E36: =D36*(100-'Содержание РФ'!$E$4)/100 -> 302000
A37: GELO MH 1875 - 6 кл | B37: 1875 | C37: 1995 | D37: 422800 | E37: =D37*(100-'Содержание РФ'!$E$4)/100 -> 422800
A38: GELO MH 2500 - 6 кл | B38: 2500 | C38: 2580 | D38: 500850 | E38: =D38*(100-'Содержание РФ'!$E$4)/100 -> 500850
A39: GELO MH 3750 - 6 кл | B39: 3750 | C39: 3830 | D39: 684600 | E39: =D39*(100-'Содержание РФ'!$E$4)/100 -> 684600
A40: Опции
A41: Сетевая карта | D41: 6825 | E41: =D41*(100-'Содержание РФ'!$E$4)/100 -> 6825
A42: Энергосберегающий эл/двиг. AL 1544/28-iQ3608-310250-W9.0 | D42: 4116 | E42: =D42*(100-'Содержание РФ'!$E$4)/100 -> 4116
A43: Полка решетчатая нижняя ВПН без покрытия (600*670)(корзина) | D43: 1648.5 | E43: =D43*(100-'Содержание РФ'!$E$4)/100 -> 1648.5
A44: Ценникодержатель КЕ L=930 мм. | D44: 181 | E44: =D44*(100-'Содержание РФ'!$E$4)/100 -> 181
A45: Ценникодержатель КЕ L=1250 мм. | D45: 207.9 | E45: =D45*(100-'Содержание РФ'!$E$4)/100 -> 207.9
A46: Покраска в нестандартный цвет | D46: 15225 | E46: =D46*(100-'Содержание РФ'!$E$4)/100 -> 15225
A47: Упаковка для оборудования, поставляемого в разобранном виде
A48: Ящик для упаковки охлаждаемого стеллажа (обязателен для горок в разобранном виде) | C48: 1250 | D48: 2103.15 | E48: =D48*(100-'Содержание РФ'!$E$4)/100 -> 2103.15
C49: 1875 | D49: 2103.15 | E49: =D49*(100-'Содержание РФ'!$E$4)/100 -> 2103.15
C50: 2500 | D50: 2313.15 | E50: =D50*(100-'Содержание РФ'!$E$4)/100 -> 2313.15
C51: 3750 | D51: 3712.8 | E51: =D51*(100-'Содержание РФ'!$E$4)/100 -> 3712.8
A52: Ящик для упаковки комплекта (2 боковины) боковин | D52: 2983.05 | E52: =D52*(100-'Содержание РФ'!$E$4)/100 -> 2983.05

Sheet G DB
C2: Содержание
A20: Стандартная комплектация: | D20: Технические параметры
A21: * Стеклянный фронт с обогревом рамы и створок X5L | D21: * Параметры электропитания, В/Ф/Гц: 220-230/1/50
A22: * 3 рядов полок глубиной 600 мм с кронштейнами с регулировкой наклона | D22: * Температура окружающей среды: +12…+25 (влажность не выше 60%)
A23: * 1 ряд полок глубиной 420 мм с кронштейнами с регулировкой наклона | D23: * Температурный режим: -22...-18
A24: * Термореле
A25: * Вертикальная LED подсветка
A26: * Механический ТРВ
A27: * Электронный блок управления
A28: * Комплект подключения к системе дренажа
A29: * Режим автоматической оттайки
A30: * Бампер
A31: Цены указаны в рублях с учётом НДС
A32: Наименование | B32: Типоразмер | C32: Длина с боковинами | D32: Цена РРП, руб | E32: =CONCATENATE("Цена с учетом скидки ",'Содержание РФ'!$E$4," %",", руб") -> Цена с учетом скидки 0 %, руб
A33: GELO SB 2500 - 3 кл | B33: 2500 | C33: 2580 | D33: 548572.5 | E33: =D33*(100-'Содержание РФ'!$E$4)/100 -> 548572.5
A34: GELO SB 3750 - 3 кл | B34: 3750 | C34: 3830 | D34: 726075 | E34: =D34*(100-'Содержание РФ'!$E$4)/100 -> 726075
A35: GELO SB 2500 - 6 кл | B35: 2500 | C35: 2580 | D35: 605850 | E35: =D35*(100-'Содержание РФ'!$E$4)/100 -> 605850
A36: GELO SB 3750 - 6 кл | B36: 3750 | C36: 3830 | D36: 789600 | E36: =D36*(100-'Содержание РФ'!$E$4)/100 -> 789600
A37: Опции
A38: Сетевая карта | D38: 6825 | E38: =D38*(100-'Содержание РФ'!$E$4)/100 -> 6825
A39: Энергосберегающий эл/двиг. AL 1544/28-iQ3608-310250-W9.0 | D39: 4116 | E39: =D39*(100-'Содержание РФ'!$E$4)/100 -> 4116
A40: Полка решетчатая нижняя ВПН без покрытия (600*670)(корзина) | D40: 1648.5 | E40: =D40*(100-'Содержание РФ'!$E$4)/100 -> 1648.5
A41: Ценникодержатель КЕ L=1250 мм. | D41: 207.9 | E41: =D41*(100-'Содержание РФ'!$E$4)/100 -> 207.9
A42: Покраска в нестандартный цвет | D42: 15225 | E42: =D42*(100-'Содержание РФ'!$E$4)/100 -> 15225
A43: Упаковка для оборудования, поставляемого в разобранном виде
A44: Ящик для упаковки охлаждаемого стеллажа (обязателен для горок в разобранном виде) | C44: 2500 | D44: 2313.15 | E44: =D44*(100-'Содержание РФ'!$E$4)/100 -> 2313.15
C45: 3750 | D45: 3712.8 | E45: =D45*(100-'Содержание РФ'!$E$4)/100 -> 3712.8
A46: Ящик для упаковки комплекта (2 боковины) боковин | D46: 2983.05 | E46: =D46*(100-'Содержание РФ'!$E$4)/100 -> 2983.05

Sheet C
C2: Содержание
A23: Стандартная комплектация | D23: Технические параметры
A24: * Электронный блок управления | D24: * Параметры электропитания, В/Ф/Гц: 220-230/1/50
A25: * Ночная шторка (для витрин пристенных без остекления) | D25: * Температура окружающей среды: +12…+25 (влажность не выше 60%)
A26: * 4 ряда полок глубиной 400 мм | D26: * Температурный режим без остекления: 0...+7
A27: * Боковая LED подсветка
A28: * Защитный бампер
A29: * Выпариватель конденсата
A30: * Способ оттаивания - естественными теплопритоками
A31: Цены указаны в рублях с учётом НДС
A32: Наименование | B32: Типоразмер | C32: Длина с боковинами | D32: Цена РРП, руб | E32: =CONCATENATE("Цена с учетом скидки ",'Содержание РФ'!$E$4," %",", руб") -> Цена с учетом скидки 0 %, руб
A33: CUBE 520 М Plug-In | B33: 520 | C33: 600 | D33: 65310 | E33: =D33*(100-'Содержание РФ'!$E$4)/100 -> 65310
A34: CUBE 660 М Plug-In | B34: 660 | C34: 740 | D34: 68985 | E34: =D34*(100-'Содержание РФ'!$E$4)/100 -> 68985
A35: CUBE 980 М Plug-In | B35: 980 | C35: 1060 | D35: 81165 | E35: =D35*(100-'Содержание РФ'!$E$4)/100 -> 81165
A36: CUBE 1250 М Plug-In | B36: 1250 | C36: 1330 | D36: 95655 | E36: =D36*(100-'Содержание РФ'!$E$4)/100 -> 95655
A37: CUBE 1875 М Plug-In | B37: 1875 | C37: 1955 | D37: 127155 | E37: =D37*(100-'Содержание РФ'!$E$4)/100 -> 127155
A38: CUBE 2500 М Plug-In | B38: 2500 | C38: 2580 | D38: 196140 | E38: =D38*(100-'Содержание РФ'!$E$4)/100 -> 196140
A40: Предложение действительно при заказе с основным модулем
A41: Опции | C41: Типоразмер | D41: Цена РРП, руб | E41: =CONCATENATE("Цена с учетом скидки ",'Содержание РФ'!$E$4," %",", руб") -> Цена с учетом скидки 0 %, руб
A42: Боковые панели (1 ед.):
A43: -- со стеклопакетом | D43: 6090 | E43: =D43*(100-'Содержание РФ'!$E$4)/100 -> 6090
A44: -- глухая | D44: 7455 | E44: =D44*(100-'Содержание РФ'!$E$4)/100 -> 7455
A45: -- глухая-зеркало | D45: 9345 | E45: =D45*(100-'Содержание РФ'!$E$4)/100 -> 9345
A46: Разделители межсекционные (1 ед.):
A47: -- разделитель оргстекло | D47: 8884.05 | E47: =D47*(100-'Содержание РФ'!$E$4)/100 -> 8884.05
A48: -- со стеклопакетом | D48: 8820 | E48: =D48*(100-'Содержание РФ'!$E$4)/100 -> 8820
A49: -- глухой | D49: 6195 | E49: =D49*(100-'Содержание РФ'!$E$4)/100 -> 6195
A50: -- глухая-зеркало | D50: 9345 | E50: =D50*(100-'Содержание РФ'!$E$4)/100 -> 9345
A51: -- зеркало-зеркало | D51: 10920 | E51: =D51*(100-'Содержание РФ'!$E$4)/100 -> 10920
A52: Энергосберегающая светодиодная подсветка полок (1 ряд):
A53: Светодиодная подсветка | C53: 520 | D53: 703.5 | E53: =D53*(100-'Содержание РФ'!$E$4)/100 -> 703.5
C54: 660 | D54: 997.5 | E54: =D54*(100-'Содержание РФ'!$E$4)/100 -> 997.5
C55: 980 | D55: 1365 | E55: =D55*(100-'Содержание РФ'!$E$4)/100 -> 1365
C56: 1250 | D56: 3150 | E56: =D56*(100-'Содержание РФ'!$E$4)/100 -> 3150
C57: 1875 | D57: 5250 | E57: =D57*(100-'Содержание РФ'!$E$4)/100 -> 5250
C58: 2500 | D58: 5985 | E58: =D58*(100-'Содержание РФ'!$E$4)/100 -> 5985
A59: Дополнительные металлические полки с кронштейнами
A60: Полка с кронштейнами | C60: 660 | D60: 535.5 | E60: =D60*(100-'Содержание РФ'!$E$4)/100 -> 535.5
C61: 980 | D61: 619.5 | E61: =D61*(100-'Содержание РФ'!$E$4)/100 -> 619.5
C62: 1250 | D62: 695.1 | E62: =D62*(100-'Содержание РФ'!$E$4)/100 -> 695.1
A63: Ценникодержатели на полках (1 ряда):
A64: Ценникодержатели на полках | C64: 520 | D64: 203.7 | E64: =D64*(100-'Содержание РФ'!$E$4)/100 -> 203.7
C65: 660 | D65: 203.7 | E65: =D65*(100-'Содержание РФ'!$E$4)/100 -> 203.7
C66: 980 | D66: 407.4 | E66: =D66*(100-'Содержание РФ'!$E$4)/100 -> 407.4
C67: 1250 | D67: 407.4 | E67: =D67*(100-'Содержание РФ'!$E$4)/100 -> 407.4
C68: 1875 | D68: 812.7 | E68: =D68*(100-'Содержание РФ'!$E$4)/100 -> 812.7
C69: 2500 | D69: 812.7 | E69: =D69*(100-'Содержание РФ'!$E$4)/100 -> 812.7
A70: Ограничители высотой 39 мм (1 ряд):
A71: Ограничители высотой 39 мм (1 ряд) | C71: 520 | D71: 224.7 | E71: =D71*(100-'Содержание РФ'!$E$4)/100 -> 224.7
C72: 660 | D72: 258.3 | E72: =D72*(100-'Содержание РФ'!$E$4)/100 -> 258.3
C73: 980 | D73: 300.3 | E73: =D73*(100-'Содержание РФ'!$E$4)/100 -> 300.3
C74: 1250 | D74: 342.3 | E74: =D74*(100-'Содержание РФ'!$E$4)/100 -> 342.3
C75: 1875 | D75: 598.5 | E75: =D75*(100-'Содержание РФ'!$E$4)/100 -> 598.5
C76: 2500 | D76: 684.6 | E76: =D76*(100-'Содержание РФ'!$E$4)/100 -> 684.6
A77: Крюки и подвесы для колбас (1 ряд):
A78: Крюки и подвесы для колбас | C78: 520 | D78: 982.8 | E78: =D78*(100-'Содержание РФ'!$E$4)/100 -> 982.8
C79: 660 | D79: 1026.9 | E79: =D79*(100-'Содержание РФ'!$E$4)/100 -> 1026.9
C80: 980 | D80: 1110.9 | E80: =D80*(100-'Содержание РФ'!$E$4)/100 -> 1110.9
C81: 1250 | D81: 1186.5 | E81: =D81*(100-'Содержание РФ'!$E$4)/100 -> 1186.5
C82: 1875 | D82: 2158.8 | E82: =D82*(100-'Содержание РФ'!$E$4)/100 -> 2158.8
C83: 2500 | D83: 2370.9 | E83: =D83*(100-'Содержание РФ'!$E$4)/100 -> 2370.9
A84: Фруктовый комплект
A85: Фруктовый комплект | C85: 520 | D85: 2242.8 | E85: =D85*(100-'Содержание РФ'!$E$4)/100 -> 2242.8
C86: 660 | D86: 2457 | E86: =D86*(100-'Содержание РФ'!$E$4)/100 -> 2457
C87: 980 | D87: 2671.2 | E87: =D87*(100-'Содержание РФ'!$E$4)/100 -> 2671.2
C88: 1250 | D88: 2883.3 | E88: =D88*(100-'Содержание РФ'!$E$4)/100 -> 2883.3
C89: 1875 | D89: 3630.9 | E89: =D89*(100-'Содержание РФ'!$E$4)/100 -> 3630.9
C90: 2500 | D90: 5340.3 | E90: =D90*(100-'Содержание РФ'!$E$4)/100 -> 5340.3
A91: Дополнительно
A92: Возможность брендирования | D92: по запросу | E92: =D92 -> по запросу
A93: Сетевая карта | D93: 6825 | E93: =D93*(100-'Содержание РФ'!$E$4)/100 -> 6825
A94: Покраска в нестандартный цвет | D94: 15225 | E94: =D94*(100-'Содержание РФ'!$E$4)/100 -> 15225
A95: Комплект для стыковки в линию | D95: 367.5 | E95: =D95*(100-'Содержание РФ'!$E$4)/100 -> 367.5

Sheet C MG
C2: Содержание
A23: Стандартная комплектация: | D23: Технические параметры
A24: * Электронный блок управления | D24: * Параметры электропитания, В/Ф/Гц: 220-230/1/50
A25: * Фронтальное остекление Х1 | D25: * Температура окружающей среды: +12…+25 (влажность не выше 60%)
A26: * 4 ряда полок глубиной 400 мм | D26: * Температурный режим с остеклением: -5…+7
A27: * Боковая LED подсветка
A28: * Защитный бампер
A29: * Выпариватель конденсата
A30: * Способ оттаивания - естественными теплопритоками
A31: Цены указаны в рублях с учётом НДС
A32: Наименование | B32: Типоразмер | C32: Длина с боковинами | D32: Цена РРП, руб | E32: =CONCATENATE("Цена с учетом скидки ",'Содержание РФ'!$E$4," %",", руб") -> Цена с учетом скидки 0 %, руб
A33: CUBE 660-07 MG Plug-In | B33: 660 | C33: 740 | D33: 88305 | E33: =D33*(100-'Содержание РФ'!$E$4)/100 -> 88305
A34: CUBE 980-07 MG Plug-In | B34: 980 | C34: 1060 | D34: 101430 | E34: =D34*(100-'Содержание РФ'!$E$4)/100 -> 101430
A35: CUBE 1250-07 MG Plug-In | B35: 1250 | C35: 1330 | D35: 121590 | E35: =D35*(100-'Содержание РФ'!$E$4)/100 -> 121590
A36: CUBE 1875-07 MG Plug-In | B36: 1875 | C36: 1955 | D36: 156030 | E36: =D36*(100-'Содержание РФ'!$E$4)/100 -> 156030
A37: CUBE 2500-07 MG Plug-In | B37: 2500 | C37: 2580 | D37: 279890 | E37: =D37*(100-'Содержание РФ'!$E$4)/100 -> 279890
A38: Предложение действительно при заказе с основным модулем
A39: Опции | C39: Типоразмер | D39: Цена РРП, руб | E39: =CONCATENATE("Цена с учетом скидки ",'Содержание РФ'!$E$4," %",", руб") -> Цена с учетом скидки 0 %, руб
A40: Боковые панели (1 ед.):
A41: -- со стеклопакетом | D41: 6090 | E41: =D41*(100-'Содержание РФ'!$E$4)/100 -> 6090
A42: -- глухая | D42: 7455 | E42: =D42*(100-'Содержание РФ'!$E$4)/100 -> 7455
A43: -- глухая-зеркало | D43: 9345 | E43: =D43*(100-'Содержание РФ'!$E$4)/100 -> 9345
A44: Разделители межсекционные (1 ед.):
A45: -- разделитель оргстекло | D45: 6090 | E45: =D45*(100-'Содержание РФ'!$E$4)/100 -> 6090
A46: -- со стеклопакетом | D46: 8820 | E46: =D46*(100-'Содержание РФ'!$E$4)/100 -> 8820
A47: -- глухой | D47: 6195 | E47: =D47*(100-'Содержание РФ'!$E$4)/100 -> 6195
A48: -- глухая-зеркало | D48: 9345 | E48: =D48*(100-'Содержание РФ'!$E$4)/100 -> 9345
A49: -- зеркало-зеркало | D49: 10920 | E49: =D49*(100-'Содержание РФ'!$E$4)/100 -> 10920
A50: Фронтальное остекление
A51: Х1 | C51: 660 | D51: 0 | E51: =D51*(100-'Содержание РФ'!$E$4)/100 -> 0
C52: 980 | D52: 0 | E52: =D52*(100-'Содержание РФ'!$E$4)/100 -> 0
C53: 1250 | D53: 0 | E53: =D53*(100-'Содержание РФ'!$E$4)/100 -> 0
C54: 1875 | D54: 0 | E54: =D54*(100-'Содержание РФ'!$E$4)/100 -> 0
C55: 2500 | D55: 0 | E55: =D55*(100-'Содержание РФ'!$E$4)/100 -> 0
A56: Х3 | C56: 660 | D56: 2900 | E56: =D56*(100-'Содержание РФ'!$E$4)/100 -> 2900
C57: 980 | D57: 3100 | E57: =D57*(100-'Содержание РФ'!$E$4)/100 -> 3100
C58: 1250 | D58: 3259 | E58: =D58*(100-'Содержание РФ'!$E$4)/100 -> 3259
C59: 1875 | D59: 4612 | E59: =D59*(100-'Содержание РФ'!$E$4)/100 -> 4612
C60: 2500 | D60: 6517 | E60: =D60*(100-'Содержание РФ'!$E$4)/100 -> 6517
A61: Энергосберегающая светодиодная подсветка полок (1 ряд):
C62: 660 | D62: 997.5 | E62: =D62*(100-'Содержание РФ'!$E$4)/100 -> 997.5
C63: 980 | D63: 1365 | E63: =D63*(100-'Содержание РФ'!$E$4)/100 -> 1365
C64: 1250 | D64: 3150 | E64: =D64*(100-'Содержание РФ'!$E$4)/100 -> 3150
C65: 1875 | D65: 5250 | E65: =D65*(100-'Содержание РФ'!$E$4)/100 -> 5250
C66: 2500 | D66: 5985 | E66: =D66*(100-'Содержание РФ'!$E$4)/100 -> 5985
A67: Дополнительные металлические полки с кронштейнами
A68: Полка с кронштейнами | C68: 660 | D68: 535.5 | E68: =D68*(100-'Содержание РФ'!$E$4)/100 -> 535.5
C69: 980 | D69: 619.5 | E69: =D69*(100-'Содержание РФ'!$E$4)/100 -> 619.5
C70: 1250 | D70: 695.1 | E70: =D70*(100-'Содержание РФ'!$E$4)/100 -> 695.1
A71: Ценникодержатели на полках (1 ряда):
A72: Ценникодержатели на полках | C72: 660 | D72: 203.7 | E72: =D72*(100-'Содержание РФ'!$E$4)/100 -> 203.7
C73: 980 | D73: 407.4 | E73: =D73*(100-'Содержание РФ'!$E$4)/100 -> 407.4
C74: 1250 | D74: 407.4 | E74: =D74*(100-'Содержание РФ'!$E$4)/100 -> 407.4
C75: 1875 | D75: 812.7 | E75: =D75*(100-'Содержание РФ'!$E$4)/100 -> 812.7
C76: 2500 | D76: 812.7 | E76: =D76*(100-'Содержание РФ'!$E$4)/100 -> 812.7
A77: Ограничители высотой 39 мм (1 ряд)
A78: Ограничители высотой 39 мм (1 ряд) | C78: 660 | D78: 258.3 | E78: =D78*(100-'Содержание РФ'!$E$4)/100 -> 258.3
C79: 980 | D79: 300.3 | E79: =D79*(100-'Содержание РФ'!$E$4)/100 -> 300.3
C80: 1250 | D80: 342.3 | E80: =D80*(100-'Содержание РФ'!$E$4)/100 -> 342.3
C81: 1875 | D81: 598.5 | E81: =D81*(100-'Содержание РФ'!$E$4)/100 -> 598.5
C82: 2500 | D82: 684.6 | E82: =D82*(100-'Содержание РФ'!$E$4)/100 -> 684.6
A83: Крюки и подвесы для колбас (1 ряд):
A84: Крюки и подвесы для колбас | C84: 660 | D84: 1026.9 | E84: =D84*(100-'Содержание РФ'!$E$4)/100 -> 1026.9
C85: 980 | D85: 1110.9 | E85: =D85*(100-'Содержание РФ'!$E$4)/100 -> 1110.9
C86: 1250 | D86: 1186.5 | E86: =D86*(100-'Содержание РФ'!$E$4)/100 -> 1186.5
C87: 1875 | D87: 2158.8 | E87: =D87*(100-'Содержание РФ'!$E$4)/100 -> 2158.8
C88: 2500 | D88: 2370.9 | E88: =D88*(100-'Содержание РФ'!$E$4)/100 -> 2370.9
A89: Фруктовый комплект
A90: Фруктовый комплект | C90: 660 | D90: 2457 | E90: =D90*(100-'Содержание РФ'!$E$4)/100 -> 2457
C91: 980 | D91: 2671.2 | E91: =D91*(100-'Содержание РФ'!$E$4)/100 -> 2671.2
C92: 1250 | D92: 2883.3 | E92: =D92*(100-'Содержание РФ'!$E$4)/100 -> 2883.3
C93: 1875 | D93: 3630.9 | E93: =D93*(100-'Содержание РФ'!$E$4)/100 -> 3630.9
C94: 2500 | D94: 5340.3 | E94: =D94*(100-'Содержание РФ'!$E$4)/100 -> 5340.3
A95: Дополнительно
A96: Возможность брендирования | D96: по запросу | E96: =D96 -> по запросу
A97: Сетевая карта | D97: 6825 | E97: =D97*(100-'Содержание РФ'!$E$4)/100 -> 6825
A98: Покраска в нестандартный цвет | D98: 15225 | E98: =D98*(100-'Содержание РФ'!$E$4)/100 -> 15225
A99: Комплект для стыковки в линию | D99: 367.5 | E99: =D99*(100-'Содержание РФ'!$E$4)/100 -> 367.5

Sheet S M
C2: Содержание
A23: Стандартная комплектация | D23: Технические параметры
A24: * Электронный блок управления | D24: * Параметры электропитания, В/Ф/Гц: 220-230/1/50
A25: * Ночная шторка (для витрин пристенных без остекления) | D25: * Температура окружающей среды: +12…+25 (влажность не выше 60%)
A26: * 5 рядов полок глубиной 400 мм | D26: * Температурный режим без остекления: +1...+7
A27: * Боковая LED подсветка
A28: * Защитный бампер
A29: * Выпариватель конденсата
A30: * Способ оттаивания - естественными теплопритоками
A31: Цены указаны в рублях с учётом НДС
A32: Наименование | B32: Типоразмер | C32: Длина с боковинами | D32: Цена РРП, руб | E32: =CONCATENATE("Цена с учетом скидки ",'Содержание РФ'!$E$4," %",", руб") -> Цена с учетом скидки 0 %, руб
A33: STRETTO 1250 М Plug-In | B33: 1250 | C33: 1330 | D33: 113116.5 | E33: =D33*(100-'Содержание РФ'!$E$4)/100 -> 113116.5
A34: STRETTO 1875 М Plug-In | B34: 1875 | C34: 1955 | D34: 149829.75 | E34: =D34*(100-'Содержание РФ'!$E$4)/100 -> 149829.75
A35: STRETTO 2500 М Plug-In | B35: 2500 | C35: 2580 | D35: 230202 | E35: =D35*(100-'Содержание РФ'!$E$4)/100 -> 230202
A37: Предложение действительно при заказе с основным модулем
A38: Опции | C38: Типоразмер | D38: Цена РРП, руб | E38: =CONCATENATE("Цена с учетом скидки ",'Содержание РФ'!$E$4," %",", руб") -> Цена с учетом скидки 0 %, руб
A39: Боковые панели (1 ед.):
A40: -- со стеклопакетом | D40: 6090 | E40: =D40*(100-'Содержание РФ'!$E$4)/100 -> 6090
A41: -- глухая | D41: 7455 | E41: =D41*(100-'Содержание РФ'!$E$4)/100 -> 7455
A42: -- глухая-зеркало | D42: 9345 | E42: =D42*(100-'Содержание РФ'!$E$4)/100 -> 9345
A43: Разделители межсекционные (1 ед.):
A44: -- со стеклопакетом | D44: - | E44: -
A45: -- глухой | D45: - | E45: -
A46: -- глухая-зеркало | D46: - | E46: -
A47: -- зеркало-зеркало | D47: - | E47: -
A48: Энергосберегающая светодиодная подсветка полок (1 ряд):
A49: Светодиодная подсветка | C49: 1250 | D49: 3150 | E49: =D49*(100-'Содержание РФ'!$E$4)/100 -> 3150
C50: 1875 | D50: 5250 | E50: =D50*(100-'Содержание РФ'!$E$4)/100 -> 5250
C51: 2500 | D51: 5985 | E51: =D51*(100-'Содержание РФ'!$E$4)/100 -> 5985
A52: Дополнительные металлические полки с кронштейнами
A53: Полка с кронштейнами | C53: 930 | D53: 619.5 | E53: =D53*(100-'Содержание РФ'!$E$4)/100 -> 619.5
C54: 1250 | D54: 695.1 | E54: =D54*(100-'Содержание РФ'!$E$4)/100 -> 695.1
A55: Ценникодержатели на полках (1 рядов):
A56: Ценникодержатели на полках | C56: 1250 | D56: 407.4 | E56: =D56*(100-'Содержание РФ'!$E$4)/100 -> 407.4
C57: 1875 | D57: 812.7 | E57: =D57*(100-'Содержание РФ'!$E$4)/100 -> 812.7
C58: 2500 | D58: 812.7 | E58: =D58*(100-'Содержание РФ'!$E$4)/100 -> 812.7
A59: Ограничители высотой 39 мм (1 ряд):
A60: Ограничители высотой 39 мм (1 ряд) | C60: 1250 | D60: 342.3 | E60: =D60*(100-'Содержание РФ'!$E$4)/100 -> 342.3
C61: 1875 | D61: 598.5 | E61: =D61*(100-'Содержание РФ'!$E$4)/100 -> 598.5
C62: 2500 | D62: 684.6 | E62: =D62*(100-'Содержание РФ'!$E$4)/100 -> 684.6
A63: Крюки и подвесы для колбас (1 ряд):
A64: Крюки и подвесы для колбас | C64: 1250 | D64: 1186.5 | E64: =D64*(100-'Содержание РФ'!$E$4)/100 -> 1186.5
C65: 1875 | D65: 2158.8 | E65: =D65*(100-'Содержание РФ'!$E$4)/100 -> 2158.8
C66: 2500 | D66: 2370.9 | E66: =D66*(100-'Содержание РФ'!$E$4)/100 -> 2370.9
A67: Фруктовый комплект
A68: Фруктовый комплект | C68: 1250 | D68: 2883.3 | E68: =D68*(100-'Содержание РФ'!$E$4)/100 -> 2883.3
C69: 1875 | D69: 3630.9 | E69: =D69*(100-'Содержание РФ'!$E$4)/100 -> 3630.9
C70: 2500 | D70: 5340.3 | E70: =D70*(100-'Содержание РФ'!$E$4)/100 -> 5340.3
A71: Дополнительно
A72: Возможность брендирования | D72: по запросу | E72: =D72 -> по запросу
A73: Сетевая карта | D73: 6825 | E73: =D73*(100-'Содержание РФ'!$E$4)/100 -> 6825
A74: Покраска в нестандартный цвет | D74: 15225 | E74: =D74*(100-'Содержание РФ'!$E$4)/100 -> 15225
A75: Комплект для стыковки в линию | D75: 367.5 | E75: =D75*(100-'Содержание РФ'!$E$4)/100 -> 367.5

Sheet S MG
C2: Содержание
A23: Стандартная комплектация: | D23: Технические параметры
A24: * Электронный блок управления | D24: * Параметры электропитания, В/Ф/Гц: 220-230/1/50
A25: * Фронтальное остекление Х1 | D25: * Температура окружающей среды: +12…+25 (влажность не выше 60%)
A26: * 5 рядов полок глубиной 400 мм | D26: * Температурный режим с остеклением: -5…+7
A27: * Боковая LED подсветка
A28: * Защитный бампер
A29: * Выпариватель конденсата
A30: * Способ оттаивания - естественными теплопритоками
A31: Цены указаны в рублях с учётом НДС
A32: Наименование | B32: Типоразмер | C32: Длина с боковинами | D32: Цена РРП, руб | E32: =CONCATENATE("Цена с учетом скидки ",'Содержание РФ'!$E$4," %",", руб") -> Цена с учетом скидки 0 %, руб
A33: STRETTO 1250 МG Plug-In | B33: 1250 | C33: 1330 | D33: 136500 | E33: =D33*(100-'Содержание РФ'!$E$4)/100 -> 136500
A34: STRETTO 1875 МG Plug-In | B34: 1875 | C34: 1955 | D34: 174720 | E34: =D34*(100-'Содержание РФ'!$E$4)/100 -> 174720
A35: STRETTO 2500 МG Plug-In | B35: 2500 | C35: 2580 | D35: 255360 | E35: =D35*(100-'Содержание РФ'!$E$4)/100 -> 255360
A37: Предложение действительно при заказе с основным модулем
A38: Опции | C38: Типоразмер | D38: Цена РРП, руб | E38: =CONCATENATE("Цена с учетом скидки ",'Содержание РФ'!$E$4," %",", руб") -> Цена с учетом скидки 0 %, руб
A39: Боковые панели (1 ед.):
A40: -- со стеклопакетом | D40: 6090 | E40: =D40*(100-'Содержание РФ'!$E$4)/100 -> 6090
A41: -- глухая | D41: 7455 | E41: =D41*(100-'Содержание РФ'!$E$4)/100 -> 7455
A42: -- глухая-зеркало | D42: 9345 | E42: =D42*(100-'Содержание РФ'!$E$4)/100 -> 9345
A43: Разделители межсекционные (1 ед.):
A44: -- со стеклопакетом | D44: - | E44: -
A45: -- глухой | D45: - | E45: -
A46: -- глухая-зеркало | D46: - | E46: -
A47: -- зеркало-зеркало | D47: - | E47: -
A48: Фронтальное остекление
A49: Х1 | C49: 660 | D49: 0 | E49: =D49*(100-'Содержание РФ'!$E$4)/100 -> 0
C50: 980 | D50: 0 | E50: =D50*(100-'Содержание РФ'!$E$4)/100 -> 0
C51: 1250 | D51: 0 | E51: =D51*(100-'Содержание РФ'!$E$4)/100 -> 0
A52: Х3 | C52: 1250 | D52: 3259 | E52: =D52*(100-'Содержание РФ'!$E$4)/100 -> 3259
C53: 187 | D53: 4612 | E53: =D53*(100-'Содержание РФ'!$E$4)/100 -> 4612
C54: 2500 | D54: 6517 | E54: =D54*(100-'Содержание РФ'!$E$4)/100 -> 6517
A55: Энергосберегающая светодиодная подсветка полок (1 ряд):
A56: Светодиодная подсветка | C56: 1250 | D56: 3150 | E56: =D56*(100-'Содержание РФ'!$E$4)/100 -> 3150
C57: 1875 | D57: 5250 | E57: =D57*(100-'Содержание РФ'!$E$4)/100 -> 5250
C58: 2500 | D58: 5985 | E58: =D58*(100-'Содержание РФ'!$E$4)/100 -> 5985
A59: Дополнительные металлические полки с кронштейнами
A60: Полка с кронштейнами | C60: 930 | D60: 619.5 | E60: =D60*(100-'Содержание РФ'!$E$4)/100 -> 619.5
C61: 1250 | D61: 695.1 | E61: =D61*(100-'Содержание РФ'!$E$4)/100 -> 695.1
A62: Ценникодержатели на полках (1 рядов):
A63: Ценникодержатели на полках | C63: 1250 | D63: 407.4 | E63: =D63*(100-'Содержание РФ'!$E$4)/100 -> 407.4
C64: 1875 | D64: 812.7 | E64: =D64*(100-'Содержание РФ'!$E$4)/100 -> 812.7
C65: 2500 | D65: 812.7 | E65: =D65*(100-'Содержание РФ'!$E$4)/100 -> 812.7
A66: Ограничители высотой 39 мм (1 ряд)
A67: Ограничители высотой 39 мм (1 ряд) | C67: 1250 | D67: 342.3 | E67: =D67*(100-'Содержание РФ'!$E$4)/100 -> 342.3
C68: 1875 | D68: 598.5 | E68: =D68*(100-'Содержание РФ'!$E$4)/100 -> 598.5
C69: 2500 | D69: 684.6 | E69: =D69*(100-'Содержание РФ'!$E$4)/100 -> 684.6
A70: Крюки и подвесы для колбас (1 ряд):
A71: Крюки и подвесы для колбас | C71: 1250 | D71: 1186.5 | E71: =D71*(100-'Содержание РФ'!$E$4)/100 -> 1186.5
C72: 1875 | D72: 2158.8 | E72: =D72*(100-'Содержание РФ'!$E$4)/100 -> 2158.8
C73: 2500 | D73: 2370.9 | E73: =D73*(100-'Содержание РФ'!$E$4)/100 -> 2370.9
A74: Фруктовый комплект
A75: Фруктовый комплект | C75: 1250 | D75: 2883.3 | E75: =D75*(100-'Содержание РФ'!$E$4)/100 -> 2883.3
C76: 1875 | D76: 3630.9 | E76: =D76*(100-'Содержание РФ'!$E$4)/100 -> 3630.9
C77: 2500 | D77: 5340.3 | E77: =D77*(100-'Содержание РФ'!$E$4)/100 -> 5340.3
A78: Дополнительно
A79: Возможность брендирования | D79: по запросу | E79: =D79 -> по запросу
A80: Сетевая карта | D80: 6825 | E80: =D80*(100-'Содержание РФ'!$E$4)/100 -> 6825
A81: Покраска в нестандартный цвет | D81: 15225 | E81: =D81*(100-'Содержание РФ'!$E$4)/100 -> 15225
A82: Комплект для стыковки в линию | D82: 367.5 | E82: =D82*(100-'Содержание РФ'!$E$4)/100 -> 367.5

Sheet M Pi
C2: Содержание
A23: Стандартная комплектация: | D23: Технические параметры
A24: * Верхняя LED подсветка; | D24: * Параметры электропитания, В/Ф/Гц: 220-230/1/50
A25: * 5 рядов полок по 500 мм с кронштейнами и регулировкой наклона; | D25: * Температура окружающей среды: +12…+25 (влажность не выше 60%)
A26: * Холодильный агрегат; | D26: * Температурный режим: -1…+7
A27: * Фронтальное остекление Х1;
A28: * Механический ТРВ Danfoss;
A29: * Электронный блок управления;
A30: * Комплект подключения к системе дренажа;
A31: * ТЭН оттайки;
A32: * Бампер RAL 9003.
A33: Цены указаны в рублях с учётом НДС
A34: Наименование | B34: Типоразмер | C34: Длина с боковинами | D34: Цена РРП, руб | E34: =CONCATENATE("Цена с учетом скидки ",'Содержание РФ'!$E$4," %",", руб") -> Цена с учетом скидки 0 %, руб
A35: Monte MH 1250 Plug-In | B35: 1250 | C35: 1330 | D35: 205800 | E35: =D35*(100-'Содержание РФ'!$E$4)/100 -> 205800
A36: Monte MH 1875 Plug-In | B36: 1875 | C36: 1955 | D36: 266700 | E36: =D36*(100-'Содержание РФ'!$E$4)/100 -> 266700
A37: Monte MH 2500 Plug-In | B37: 2500 | C37: 2580 | D37: 308175 | E37: =D37*(100-'Содержание РФ'!$E$4)/100 -> 308175
A38: Предложение действительно при заказе с основным модулем
A39: Опции | C39: Типоразмер | D39: Цена РРП, руб | E39: =CONCATENATE("Цена с учетом скидки ",'Содержание РФ'!$E$4," %",", руб") -> Цена с учетом скидки 0 %, руб
A40: 1 ряд полок с кронштейнами и регулировкой наклона | C40: 1250 | D40: 1431.15 | E40: =D40*(100-'Содержание РФ'!$E$4)/100 -> 1431.15
C41: 1875 | D41: 2332.05 | E41: =D41*(100-'Содержание РФ'!$E$4)/100 -> 2332.05
C42: 2500 | D42: 2861.25 | E42: =D42*(100-'Содержание РФ'!$E$4)/100 -> 2861.25
A43: 1 полка с кронштейнами и регулировкой наклона | C43: 930 | D43: 1165.5 | E43: =D43*(100-'Содержание РФ'!$E$4)/100 -> 1165.5
C44: 1250 | D44: 1431.15 | E44: =D44*(100-'Содержание РФ'!$E$4)/100 -> 1431.15
A45: светодиодная подсветка 1 ряда | C45: 1250 | D45: 1873.2 | E45: =D45*(100-'Содержание РФ'!$E$4)/100 -> 1873.2
C46: 1875 | D46: 3137.4 | E46: =D46*(100-'Содержание РФ'!$E$4)/100 -> 3137.4
C47: 2500 | D47: 3739.05 | E47: =D47*(100-'Содержание РФ'!$E$4)/100 -> 3739.05
A48: светодиодная подсветка 5 рядов | C48: 1250 | D48: 9364.95 | E48: =D48*(100-'Содержание РФ'!$E$4)/100 -> 9364.95
C49: 1875 | D49: 15682.8 | E49: =D49*(100-'Содержание РФ'!$E$4)/100 -> 15682.8
C50: 2500 | D50: 18695.25 | E50: =D50*(100-'Содержание РФ'!$E$4)/100 -> 18695.25
A51: Фруктовый комплект (FV) | C51: 1250 | D51: 1700 | E51: =D51*(100-'Содержание РФ'!$E$4)/100 -> 1700
C52: 1875 | D52: 1900 | E52: =D52*(100-'Содержание РФ'!$E$4)/100 -> 1900
C53: 2500 | D53: 3400 | E53: =D53*(100-'Содержание РФ'!$E$4)/100 -> 3400
A54: Энергосберегающий вентилятор | C54: 1250 | D54: 5460 | E54: =D54*(100-'Содержание РФ'!$E$4)/100 -> 5460
C55: 1875 | D55: 8190 | E55: =D55*(100-'Содержание РФ'!$E$4)/100 -> 8190
C56: 2500 | D56: 10920 | E56: =D56*(100-'Содержание РФ'!$E$4)/100 -> 10920
A57: ЭРВ | D57: 18375 | E57: =D57*(100-'Содержание РФ'!$E$4)/100 -> 18375
A58: Покраска в нестандартный цвет | D58: 15225 | E58: =D58*(100-'Содержание РФ'!$E$4)/100 -> 15225
A59: Сетевая карта | D59: 6825 | E59: =D59*(100-'Содержание РФ'!$E$4)/100 -> 6825
A60: Комплект для стыковки в линию | D60: 367.5 | E60: =D60*(100-'Содержание РФ'!$E$4)/100 -> 367.5
A61: Шторка/остекление
A62: Фронтальное остекление Х3 (безрамочный стеклопакет 4-16-4, закаленное стекло, торсионный механизм, магнитные уплотнители) | C62: 1250 | D62: 2520 | E62: =D62*(100-'Содержание РФ'!$E$4)/100 -> 2520
C63: 1875 | D63: 3885 | E63: =D63*(100-'Содержание РФ'!$E$4)/100 -> 3885
C64: 2500 | D64: 4410 | E64: =D64*(100-'Содержание РФ'!$E$4)/100 -> 4410
A65: Боковая панель
A66: Глухая левая | D66: 10042.2 | E66: =D66*(100-'Содержание РФ'!$E$4)/100 -> 10042.2
A67: Глухая правая | D67: 10042.2 | E67: =D67*(100-'Содержание РФ'!$E$4)/100 -> 10042.2
A68: Глухая с зеркалом левая | D68: 12514.95 | E68: =D68*(100-'Содержание РФ'!$E$4)/100 -> 12514.95
A69: Глухая с зеркалом правая | D69: 12514.95 | E69: =D69*(100-'Содержание РФ'!$E$4)/100 -> 12514.95
A70: Со стеклопакетом левая | D70: 7586.25 | E70: =D70*(100-'Содержание РФ'!$E$4)/100 -> 7586.25
A71: Со стеклопакетом правая | D71: 7586.25 | E71: =D71*(100-'Содержание РФ'!$E$4)/100 -> 7586.25
A72: Делитель
A73: Разделитель оргстекло | D73: 13436.85 | E73: =D73*(100-'Содержание РФ'!$E$4)/100 -> 13436.85
A74: Делитель глухой | D74: 8193.15 | E74: =D74*(100-'Содержание РФ'!$E$4)/100 -> 8193.15
A75: Делитель ГЗ (лев.глухая + прав. зеркало) | D75: 12387.9 | E75: =D75*(100-'Содержание РФ'!$E$4)/100 -> 12387.9
A76: Делитель ЗГ (прав. зеркало + лев.глухая) | D76: 12387.9 | E76: =D76*(100-'Содержание РФ'!$E$4)/100 -> 12387.9
A77: Делитель ЗЗ (с 2-х стор. зеркалом) | D77: 14108.85 | E77: =D77*(100-'Содержание РФ'!$E$4)/100 -> 14108.85
A78: Пространство на полке
A79: Ценникодержатели для полок (1250) | D79: 160.65 | E79: =D79*(100-'Содержание РФ'!$E$4)/100 -> 160.65
A80: Ценникодержатели для полок (937) | D80: 119.7 | E80: =D80*(100-'Содержание РФ'!$E$4)/100 -> 119.7
A81: Ограничитель проволочный для полки (1250) | D81: 225.75 | E81: =D81*(100-'Содержание РФ'!$E$4)/100 -> 225.75
A82: Ограничитель проволочный для полки (937) | D82: 182.7 | E82: =D82*(100-'Содержание РФ'!$E$4)/100 -> 182.7
A83: Разделитель полки пластиковый (для полки 500 мм) | D83: 341.25 | E83: =D83*(100-'Содержание РФ'!$E$4)/100 -> 341.25
A84: Разделитель базовой полки пластиковый (для полки 700 мм) | D84: 444.15 | E84: =D84*(100-'Содержание РФ'!$E$4)/100 -> 444.15
A85: Подвес для колбас проволочный (RAL 9003) | D85: 622.65 | E85: =D85*(100-'Содержание РФ'!$E$4)/100 -> 622.65
A86: Планка для размещения подвеса для колбас (1250) | D86: 1276.8 | E86: =D86*(100-'Содержание РФ'!$E$4)/100 -> 1276.8
A87: Планка для размещения подвеса для колбас (937) (2 шт для 1875 мм) | D87: 820.05 | E87: =D87*(100-'Содержание РФ'!$E$4)/100 -> 820.05
A88: Упаковка для оборудования, поставляемого в разобранном виде
A89: Ящик для упаковки охлаждаемого стеллажа (обязателен для горок в разобранном виде) | C89: 1250 | D89: 2103.15 | E89: =D89*(100-'Содержание РФ'!$E$4)/100 -> 2103.15
C90: 1875 | D90: 2103.15 | E90: =D90*(100-'Содержание РФ'!$E$4)/100 -> 2103.15
C91: 2500 | D91: 2313.15 | E91: =D91*(100-'Содержание РФ'!$E$4)/100 -> 2313.15
A92: Ящик для упаковки комплекта (2 боковины) боковин | D92: 2983.05 | E92: =D92*(100-'Содержание РФ'!$E$4)/100 -> 2983.05

Sheet G Pi
C2: Содержание
A20: Стандартная комплектация: | D20: Технические параметры
A21: * Стеклянный фронт с обогревом рамы и створок Х5L | D21: * Параметры электропитания, В/Ф/Гц: 220-230/1/50
A22: * 5 рядов полок глубиной 600 мм с кронштейнами с регулировкой наклона | D22: * Температура окружающей среды: +12…+25 (влажность не выше 60%)
A23: * Термореле | D23: * Температурный режим: -22...-18
A24: * Вертикальная LED подсветка
A25: * Механический ТРВ
A26: * Электронный блок управления
A27: * Комплект подключения к системе дренажа
A28: * Режим автоматической оттайки
A29: * Бампер
A30: Цены указаны в рублях с учётом НДС
A31: Наименование | B31: Типоразмер | C31: Длина с боковинами | D31: Цена РРП, руб | E31: =CONCATENATE("Цена с учетом скидки ",'Содержание РФ'!$E$4," %",", руб") -> Цена с учетом скидки 0 %, руб
A32: Gelo MH 1250 Plug-in - 3 кл | B32: 1250 | C32: 1370 | D32: 348600 | E32: =D32*(100-'Содержание РФ'!$E$4)/100 -> 348600
A33: Gelo MH 2500 Plug-in - 3 кл | B33: 2500 | C33: 2620 | D33: 558169.5 | E33: =D33*(100-'Содержание РФ'!$E$4)/100 -> 558169.5
A34: Gelo MH 1250 Plug-in - 6 кл | B34: 2500 | C34: 1370 | D34: 383250 | E34: =D34*(100-'Содержание РФ'!$E$4)/100 -> 383250
A35: Gelo MH 2500 Plug-in - 6 кл | B35: 2500 | C35: 2620 | D35: 615300 | E35: =D35*(100-'Содержание РФ'!$E$4)/100 -> 615300
A36: Опции
A37: Сетевая карта | D37: 6825 | E37: =D37*(100-'Содержание РФ'!$E$4)/100 -> 6825
A38: Энергосберегающий эл/двиг. AL 1544/28-iQ3608-310250-W9.0 | D38: 4116 | E38: =D38*(100-'Содержание РФ'!$E$4)/100 -> 4116
A39: Полка решетчатая нижняя ВПН без покрытия (600*670)(корзина) | D39: 1648.5 | E39: =D39*(100-'Содержание РФ'!$E$4)/100 -> 1648.5
A40: Ценникодержатель КЕ L=1250 мм. | D40: 207.9 | E40: =D40*(100-'Содержание РФ'!$E$4)/100 -> 207.9
A41: Покраска в нестандартный цвет | D41: 15225 | E41: =D41*(100-'Содержание РФ'!$E$4)/100 -> 15225
A42: Ящик для упаковки охлаждаемого стеллажа (обязателен для горок в разобранном виде) | C42: 1250 | D42: 2103.15 | E42: =D42*(100-'Содержание РФ'!$E$4)/100 -> 2103.15
C43: 2500 | D43: 2313.15 | E43: =D43*(100-'Содержание РФ'!$E$4)/100 -> 2313.15
A44: Ящик для упаковки комплекта (2 боковины) боковин | D44: 2983.05 | E44: =D44*(100-'Содержание РФ'!$E$4)/100 -> 2983.05

Sheet C Pi (2)
C2: Содержание
A20: Стандартная комплектация: | D20: Технические параметры
A21: Бонета Carino | D21: * Параметры электропитания, В/Ф/Гц: 220-230/1/50
D22: * Температура окружающей среды: +12…+25 (влажность не выше 60%)
D23: * Температурный режим низкотемпературных можелей c крышками: -22...-15
D24: * Температурный режим среднетемпературных моделей без крышек: -1…+5
A30: Цены указаны в рублях с учётом НДС
A31: Наименование | B31: Типоразмер | C31: Длина с боковинами | D31: Цена РРП, руб | E31: =CONCATENATE("Цена с учетом скидки ",'Содержание РФ'!$E$4," %",", руб") -> Цена с учетом скидки 0 %, руб
A32: CARINO 1250-098 LG/М Plug-in-3 кл. | B32: 1250 | C32: 1347 | D32: 128000 | E32: =D32*(100-'Содержание РФ'!$E$4)/100 -> 128000
A33: CARINO 1875-098 LG/М Plug-in-3 кл. | B33: 1875 | C33: 1972 | D33: 175000 | E33: =D33*(100-'Содержание РФ'!$E$4)/100 -> 175000
A34: CARINO 2500-098 LG/М Plug-in-3 кл. | B34: 2500 | C34: 2597 | D34: 197000 | E34: =D34*(100-'Содержание РФ'!$E$4)/100 -> 197000
A35: CARINO 1250-098 LG/М Plug-in-6 кл. | B35: 1250 | C35: 1347 | D35: 173004 | E35: =D35*(100-'Содержание РФ'!$E$4)/100 -> 173004
A36: CARINO 1875-098 LG/М Plug-in-6 кл. | B36: 1875 | C36: 1972 | D36: 259506 | E36: =D36*(100-'Содержание РФ'!$E$4)/100 -> 259506
A37: CARINO 2500-098 LG/М Plug-in-6 кл. | B37: 2500 | C37: 2597 | D37: 298431 | E37: =D37*(100-'Содержание РФ'!$E$4)/100 -> 298431
A38: Опции
A39: Ночные крышки 1250 (комплект) | D39: 5800 | E39: =D39*(100-'Содержание РФ'!$E$4)/100 -> 5800
A40: Ночные крышки 1875 (комплект) | D40: 8600 | E40: =D40*(100-'Содержание РФ'!$E$4)/100 -> 8600
A41: Ночные крышки 2500 (комплект) | D41: 11500 | E41: =D41*(100-'Содержание РФ'!$E$4)/100 -> 11500
A42: Суперструктура двусторонняя без подсветки 1250 (2 яруса) | D42: 21550 | E42: =D42*(100-'Содержание РФ'!$E$4)/100 -> 21550
A43: Суперструктура двусторонняя без подсветки 1875 (2 яруса) | D43: 32300 | E43: =D43*(100-'Содержание РФ'!$E$4)/100 -> 32300
A44: Суперструктура двусторонняя без подсветки 2500 (2 яруса) | D44: 43100 | E44: =D44*(100-'Содержание РФ'!$E$4)/100 -> 43100
A45: Подсветка суперструктуры 1250 (2 яруса) | D45: 3745.98 | E45: =D45*(100-'Содержание РФ'!$E$4)/100 -> 3745.98
A46: Подсветка суперструктуры 1875 (2 яруса) | D46: 6273.12 | E46: =D46*(100-'Содержание РФ'!$E$4)/100 -> 6273.12
A47: Подсветка суперструктуры 2500 (2 яруса) | D47: 7478.1 | E47: =D47*(100-'Содержание РФ'!$E$4)/100 -> 7478.1
A48: Сетевая карта | D48: 6825 | E48: =D48*(100-'Содержание РФ'!$E$4)/100 -> 6825
A49: Покраска в нестандартный цвет | D49: 15225 | E49: =D49*(100-'Содержание РФ'!$E$4)/100 -> 15225

Sheet Техн. хар. S SH
A1: Технические характеристики пристенной охлаждаемой витрины серии MONTE S | O1: Содержание
A2: Наименование параметра | B2: S 1250 | C2: S 1875 | D2: S 2500 | E2: S 3750 | F2: SH 1250 | G2: SH 1875 | H2: SH 2500 | I2: SH 3750 | J2: S FV 1250 | K2: S FV 1875 | L2: S FV 2500 | M2: S FV 3750 | N2: SH FV 1250 | O2: SH FV 1875 | P2: SH FV 2500 | Q2: SH FV 3750
A3: Площадь выкладки продуктовой полки ( 5х350 мм,\4 х 350 мм\3x350) м² | B3: 2.3 | C3: 3.6 | D3: 4.7 | E3: 7 | F3: 2.9 | G3: 4.4 | H3: 5.8 | I3: 8.7 | J3: 2 | K3: 3 | L3: 4 | M3: 6 | N3: 2.3 | O3: 3.6 | P3: 4.7 | Q3: 7
A4: Полезный охлаждаемый обьем, м³ | B4: 1 | C4: 1.5 | D4: 2 | E4: 3 | F4: 1.1 | G4: 1.7 | H4: 2.2 | I4: 3.3 | J4: 1 | K4: 1.5 | L4: 2 | M4: 3 | N4: 1.1 | O4: 1.7 | P4: 2.2 | Q4: 3.3
A5: Температурный диапазон, без фронта (открытая) ° С | B5: +1…+7
A6: Температурный диапазон фронт стекло Eco1 и Eco2, ° С | B6: -1…..+7
A7: Нагрузка на полки, кг/ м.кв. | B7: 160
A8: Потребление электроэнергии за сутки, кВт/ч, не более | B8: 1.9 | C8: 2.7 | D8: 3.5 | E8: 5 | F8: 1.9 | G8: 2.7 | H8: 3.5 | I8: 5 | J8: 1.9 | K8: 2.7 | L8: 3.5 | M8: 5 | N8: 1.9 | O8: 2.7 | P8: 3.5 | Q8: 5
A9: Потребление электроэнергии за сутки с энергосберегающими вент., кВт/ч, не более | B9: 1.2 | C9: 1.7 | D9: 2.2 | E9: 3.1 | F9: 1.2 | G9: 1.7 | H9: 2.2 | I9: 3.1 | J9: 1.2 | K9: 1.7 | L9: 2.2 | M9: 3.1 | N9: 1.2 | O9: 1.7 | P9: 2.2 | Q9: 3.1
A10: Потребление электроэнергии за сутки( оттайка через 12 часов), кВт/ч, не более | B10: 1.9 | C10: 2.7 | D10: 3.6 | E10: 5.3 | F10: 1.9 | G10: 2.7 | H10: 3.6 | I10: 5.3 | J10: 1.9 | K10: 2.7 | L10: 3.6 | M10: 5.3 | N10: 1.9 | O10: 2.7 | P10: 3.6 | Q10: 5.3
A11: Потребление электроэнергии за сутки( оттайка через 12 часов), кВт/ч, не более * | B11: 1.7 | C11: 2.4 | D11: 3.2 | E11: 4.8 | F11: 1.7 | G11: 2.4 | H11: 3.2 | I11: 4.8 | J11: 1.7 | K11: 2.4 | L11: 3.2 | M11: 4.8 | N11: 1.7 | O11: 2.4 | P11: 3.2 | Q11: 4.8
A12: * С энергосберегающими вентиляторами ЕВМ
A13: Параметры электропитания, В/Ф/Гц | B13: 230/1/50
A14: Температура окружающей среды, ° С | B14: +12…+25 (влажность не выше 60%)
A15: Глубина полки, мм.( угол установки 90гр и 80 гр) | B15: 350
A16: Глубина базовой полки, мм. | B16: 505
A17: Холодопроизводительность, Вт ( Ткип.= -10 ° С, Ткон.= +45 °С),открытая | B17: 1500 | C17: 2200 | D17: 3000 | E17: 4400 | F17: 1500 | G17: 2200 | H17: 3000 | I17: 4400 | J17: 1500 | K17: 2200 | L17: 3000 | M17: 4400 | N17: 1500 | O17: 2200 | P17: 3000 | Q17: 4400
A18: Холодопроизводительность, Вт ( Ткип.= -10 ° С, Ткон.= +45 °С), фронт cтеклопакет | B18: 760 | C18: 1150 | D18: 1550 | E18: 2250 | F18: 760 | G18: 1150 | H18: 1550 | I18: 2250 | J18: 760 | K18: 1150 | L18: 1550 | M18: 2250 | N18: 760 | O18: 1150 | P18: 1550 | Q18: 2250
A19: Общая мощность в период оттайки, Вт | B19: 410 | C19: 590 | D19: 780 | E19: 1160 | F19: 410 | G19: 590 | H19: 780 | I19: 1160 | J19: 410 | K19: 590 | L19: 780 | M19: 1160 | N19: 410 | O19: 590 | P19: 780 | Q19: 1160
A20: Мощность ТЭН системы оттайки(опция), Вт, не более | B20: 335 | C20: 485 | D20: 640 | E20: 950 | F20: 335 | G20: 485 | H20: 640 | I20: 950 | J20: 335 | K20: 485 | L20: 640 | M20: 950 | N20: 335 | O20: 485 | P20: 640 | Q20: 950
A21: Мощность LED Освещения, Вт, не более | B21: 18 | C21: 28 | D21: 36 | E21: 54 | F21: 18 | G21: 28 | H21: 36 | I21: 54 | J21: 18 | K21: 28 | L21: 36 | M21: 54 | N21: 18 | O21: 28 | P21: 36 | Q21: 54
A22: Хладагент | B22: R404A
A23: Базовый комплект полок | B23: 4 | C23: 4 | D23: 4 | E23: 4 | F23: 5 | G23: 5 | H23: 5 | I23: 5 | J23: 3 | K23: 3 | L23: 3 | M23: 3 | N23: 4 | O23: 4 | P23: 4 | Q23: 4
A24: Габаритные размеры
A25: Длина без боковин, мм. | B25: 1250 | C25: 1875 | D25: 2500 | E25: 3750 | F25: 1250 | G25: 1875 | H25: 2500 | I25: 3750 | J25: 1250 | K25: 1875 | L25: 2500 | M25: 3750 | N25: 1250 | O25: 1875 | P25: 2500 | Q25: 3750
A26: Длина с боковинами, мм. | B26: 1330 | C26: 1955 | D26: 2580 | E26: 3830 | F26: 1330 | G26: 1955 | H26: 2580 | I26: 3830 | J26: 1330 | K26: 1955 | L26: 2580 | M26: 3830 | N26: 1330 | O26: 1955 | P26: 2580 | Q26: 3830
A27: Глубина, мм. | B27: 800
A28: Высота, мм. | B28: 2040 | C28: 2040 | D28: 2040 | E28: 2040 | F28: 2210 | G28: 2210 | H28: 2210 | I28: 2210 | J28: 2040 | K28: 2040 | L28: 2040 | M28: 2040 | N28: 2210 | O28: 2210 | P28: 2210 | Q28: 2210
A29: Масса( с боковинами), кг, не более | B29: 290 | C29: 320 | D29: 400 | E29: 600 | F29: 290 | G29: 320 | H29: 400 | I29: 600 | J29: 300 | K29: 350 | L29: 430 | M29: 640 | N29: 300 | O29: 350 | P29: 430 | Q29: 640
A30: Логистическая информация
A32: Габаритные размеры упаковки( в разобранном виде, без боковин)
A33: Длина , мм. | B33: 2095 | C33: 2095 | D33: 2725 | E33: 3970 | F33: 2095 | G33: 2095 | H33: 2725 | I33: 3970 | J33: 2095 | K33: 2095 | L33: 2725 | M33: 3970 | N33: 2095 | O33: 2095 | P33: 2725 | Q33: 3970
A34: Глубина, мм. | B34: 1194
A35: Высота, мм. | B35: 820
A36: Масса, кг, не более | B36: 260 | C36: 290 | D36: 370 | E36: 570 | F36: 260 | G36: 290 | H36: 370 | I36: 570 | J36: 270 | K36: 280 | L36: 380 | M36: 590 | N36: 270 | O36: 280 | P36: 380 | Q36: 590
A37: Габаритные размеры упаковки боковин ( максимум 2 шт.)
A38: Длина , мм. | B38: 2145 | C38: 2145 | D38: 2145 | E38: 2145 | F38: 2320 | G38: 2320 | H38: 2320 | I38: 2320 | J38: 2145 | K38: 2145 | L38: 2145 | M38: 2145 | N38: 2320 | O38: 2320 | P38: 2320 | Q38: 2320
A39: Глубина мм. | B39: 235
A40: Высота, мм. | B40: 945
A41: Габаритные размеры упаковки боковин ( максимум 4 шт.)
A42: Длина , мм. | B42: 2145 | C42: 2145 | D42: 2145 | E42: 2145 | F42: 2320 | G42: 2320 | H42: 2320 | I42: 2320 | J42: 2145 | K42: 2145 | L42: 2145 | M42: 2145 | N42: 2320 | O42: 2320 | P42: 2320 | Q42: 2320
A43: Глубина мм. | B43: 280
A44: Высота, мм. | B44: 945
A45: Габаритные размеры упаковки( в собранном виде с боковинами, поддон + пленка )
A46: Длина , мм. | B46: 1400 | C46: 2025 | D46: 2625 | E46: 3900 | F46: 1400 | G46: 2025 | H46: 2625 | I46: 3900 | J46: 1400 | K46: 2025 | L46: 2625 | M46: 3900 | N46: 1400 | O46: 2025 | P46: 2625 | Q46: 3900
A47: Глубина, мм. | B47: 950
A48: Высота, мм. | B48: 2175 | C48: 2175 | D48: 2175 | E48: 2175 | F48: 2350 | G48: 2350 | H48: 2350 | I48: 2350 | J48: 2175 | K48: 2175 | L48: 2175 | M48: 2175 | N48: 2350 | O48: 2350 | P48: 2350 | Q48: 2350
A49: Масса, кг, не более | B49: 300 | C49: 335 | D49: 420 | E49: 640 | F49: 300 | G49: 335 | H49: 420 | I49: 640 | J49: 310 | K49: 345 | L49: 430 | M49: 650 | N49: 310 | O49: 345 | P49: 430 | Q49: 650

Sheet Техн. хар. S SH М
A1: Технические характеристики пристенной охлаждаемой витрины серии MONTE SG с увеличеной выкладкой и стеклянным фронтом | R1: Содержание
A2: Наименование параметра | B2: S 1250 | C2: S 1875 | D2: S 2500 | E2: S 3750 | F2: SH 1250 | G2: SH 1875 | H2: SH 2500 | I2: SH 3750 | J2: S FV 1250 | K2: S FV 1875 | L2: S FV 2500 | M2: S FV 3750 | N2: SH FV 1250 | O2: SH FV 1875 | P2: SH FV 2500 | Q2: SH FV 3750
A3: Площадь выкладки продуктовой полки ( 5х450 мм,\4 х 450 мм\3x450) м² | B3: 2.9 | C3: 4.3 | D3: 5.8 | E3: 8.7 | F3: 3.4 | G3: 5.2 | H3: 6.9 | I3: 10.3 | J3: 2.3 | K3: 3.5 | L3: 4.6 | M3: 7 | N3: 2.9 | O3: 4.3 | P3: 5.8 | Q3: 8.7
A4: Полезный охлаждаемый обьем, м³ | B4: 1.2 | C4: 1.8 | D4: 2.4 | E4: 3.6 | F4: 1.33 | G4: 2.03 | H4: 2.64 | I4: 3.96 | J4: 1 | K4: 1.5 | L4: 2 | M4: 3 | N4: 1.1 | O4: 1.7 | P4: 2.2 | Q4: 3.3
A5: Температурный диапазон с фронтальным стеклом Х3, ° С | B5: -1…..+7
A6: Нагрузка на полки, кг/ м.кв. | B6: 160
A7: Потребление электроэнергии за сутки, кВт/ч, не более | B7: 1.9 | C7: 2.7 | D7: 3.5 | E7: 5 | F7: 1.9 | G7: 2.7 | H7: 3.5 | I7: 5 | J7: 1.9 | K7: 2.7 | L7: 3.5 | M7: 5 | N7: 1.9 | O7: 2.7 | P7: 3.5 | Q7: 5
A8: Потребление электроэнергии за сутки с энергосберегающими вент., кВт/ч, не более | B8: 1.2 | C8: 1.7 | D8: 2.2 | E8: 3.1 | F8: 1.2 | G8: 1.7 | H8: 2.2 | I8: 3.1 | J8: 1.2 | K8: 1.7 | L8: 2.2 | M8: 3.1 | N8: 1.2 | O8: 1.7 | P8: 2.2 | Q8: 3.1
A9: Потребление электроэнергии за сутки( оттайка через 12 часов), кВт/ч, не более | B9: 1.9 | C9: 2.7 | D9: 3.6 | E9: 5.3 | F9: 1.9 | G9: 2.7 | H9: 3.6 | I9: 5.3 | J9: 1.9 | K9: 2.7 | L9: 3.6 | M9: 5.3 | N9: 1.9 | O9: 2.7 | P9: 3.6 | Q9: 5.3
A10: Потребление электроэнергии за сутки( оттайка через 12 часов), кВт/ч, не более * | B10: 1.7 | C10: 2.4 | D10: 3.2 | E10: 4.8 | F10: 1.7 | G10: 2.4 | H10: 3.2 | I10: 4.8 | J10: 1.7 | K10: 2.4 | L10: 3.2 | M10: 4.8 | N10: 1.7 | O10: 2.4 | P10: 3.2 | Q10: 4.8
A11: * С энергосберегающими вентиляторами ЕВМ
A12: Параметры электропитания, В/Ф/Гц | B12: 230/1/50
A13: Температура окружающей среды, ° С | B13: +12…+25 (влажность не выше 60%)
A14: Глубина полки, мм.( угол установки 90гр и 80 гр) | B14: 450
A15: Глубина базовой полки, мм. | B15: 505
A16: Холодопроизводительность, Вт ( Ткип.= -10 ° С, Ткон.= +45 °С), фронт cтеклопакет Х3 | B16: 760 | C16: 1150 | D16: 1550 | E16: 2250 | F16: 760 | G16: 1150 | H16: 1550 | I16: 2250 | J16: 760 | K16: 1150 | L16: 1550 | M16: 2250 | N16: 760 | O16: 1150 | P16: 1550 | Q16: 2250
A17: Общая мощность в период оттайки, Вт | B17: 410 | C17: 590 | D17: 780 | E17: 1160 | F17: 410 | G17: 590 | H17: 780 | I17: 1160 | J17: 410 | K17: 590 | L17: 780 | M17: 1160 | N17: 410 | O17: 590 | P17: 780 | Q17: 1160
A18: Мощность ТЭН системы оттайки(опция), Вт, не более | B18: 335 | C18: 485 | D18: 640 | E18: 950 | F18: 335 | G18: 485 | H18: 640 | I18: 950 | J18: 335 | K18: 485 | L18: 640 | M18: 950 | N18: 335 | O18: 485 | P18: 640 | Q18: 950
A19: Мощность LED Освещения, Вт, не более | B19: 18 | C19: 28 | D19: 36 | E19: 54 | F19: 18 | G19: 28 | H19: 36 | I19: 54 | J19: 18 | K19: 28 | L19: 36 | M19: 54 | N19: 18 | O19: 28 | P19: 36 | Q19: 54
A20: Хладагент | B20: R404A
A21: Базовый комплект полок | B21: 4 | C21: 4 | D21: 4 | E21: 4 | F21: 5 | G21: 5 | H21: 5 | I21: 5 | J21: 3 | K21: 3 | L21: 3 | M21: 3 | N21: 4 | O21: 4 | P21: 4 | Q21: 4
A22: Габаритные размеры
A23: Длина без боковин, мм. | B23: 1250 | C23: 1875 | D23: 2500 | E23: 3750 | F23: 1250 | G23: 1875 | H23: 2500 | I23: 3750 | J23: 1250 | K23: 1875 | L23: 2500 | M23: 3750 | N23: 1250 | O23: 1875 | P23: 2500 | Q23: 3750
A24: Длина с боковинами, мм. | B24: 1330 | C24: 1955 | D24: 2580 | E24: 3830 | F24: 1330 | G24: 1955 | H24: 2580 | I24: 3830 | J24: 1330 | K24: 1955 | L24: 2580 | M24: 3830 | N24: 1330 | O24: 1955 | P24: 2580 | Q24: 3830
A25: Глубина, мм. | B25: 800
A26: Высота, мм. | B26: 2040 | C26: 2040 | D26: 2040 | E26: 2040 | F26: 2210 | G26: 2210 | H26: 2210 | I26: 2210 | J26: 2040 | K26: 2040 | L26: 2040 | M26: 2040 | N26: 2210 | O26: 2210 | P26: 2210 | Q26: 2210
A27: Масса( с боковинами, без фронтов), кг, не более | B27: 290 | C27: 320 | D27: 400 | E27: 600 | F27: 290 | G27: 320 | H27: 400 | I27: 600 | J27: 300 | K27: 350 | L27: 430 | M27: 640 | N27: 300 | O27: 350 | P27: 430 | Q27: 640
A28: Логистическая информация
A30: Габаритные размеры упаковки( в разобранном виде, без боковин)
A31: Длина , мм. | B31: 2095 | C31: 2095 | D31: 2725 | E31: 3970 | F31: 2095 | G31: 2095 | H31: 2725 | I31: 3970 | J31: 2095 | K31: 2095 | L31: 2725 | M31: 3970 | N31: 2095 | O31: 2095 | P31: 2725 | Q31: 3970
A32: Глубина, мм. | B32: 1194
A33: Высота, мм. | B33: 820
A34: Масса, кг, не более | B34: 260 | C34: 290 | D34: 370 | E34: 570 | F34: 260 | G34: 290 | H34: 370 | I34: 570 | J34: 270 | K34: 280 | L34: 380 | M34: 590 | N34: 270 | O34: 280 | P34: 380 | Q34: 590
A35: Габаритные размеры упаковки боковин ( максимум 2 шт.)
A36: Длина , мм. | B36: 2145 | C36: 2145 | D36: 2145 | E36: 2145 | F36: 2320 | G36: 2320 | H36: 2320 | I36: 2320 | J36: 2145 | K36: 2145 | L36: 2145 | M36: 2145 | N36: 2320 | O36: 2320 | P36: 2320 | Q36: 2320
A37: Глубина мм. | B37: 235
A38: Высота, мм. | B38: 945
A39: Габаритные размеры упаковки боковин ( максимум 4 шт.)
A40: Длина , мм. | B40: 2145 | C40: 2145 | D40: 2145 | E40: 2145 | F40: 2320 | G40: 2320 | H40: 2320 | I40: 2320 | J40: 2145 | K40: 2145 | L40: 2145 | M40: 2145 | N40: 2320 | O40: 2320 | P40: 2320 | Q40: 2320
A41: Глубина мм. | B41: 280
A42: Высота, мм. | B42: 945
A43: Габаритные размеры упаковки( в собранном виде с боковинами, поддон + пленка )
A44: Длина , мм. | B44: 1400 | C44: 2025 | D44: 2625 | E44: 3900 | F44: 1400 | G44: 2025 | H44: 2625 | I44: 3900 | J44: 1400 | K44: 2025 | L44: 2625 | M44: 3900 | N44: 1400 | O44: 2025 | P44: 2625 | Q44: 3900
A45: Глубина, мм. | B45: 950
A46: Высота, мм. | B46: 2175 | C46: 2175 | D46: 2175 | E46: 2175 | F46: 2350 | G46: 2350 | H46: 2350 | I46: 2350 | J46: 2175 | K46: 2175 | L46: 2175 | M46: 2175 | N46: 2350 | O46: 2350 | P46: 2350 | Q46: 2350
A47: Масса, кг, не более | B47: 300 | C47: 335 | D47: 420 | E47: 640 | F47: 300 | G47: 335 | H47: 420 | I47: 640 | J47: 310 | K47: 345 | L47: 430 | M47: 650 | N47: 310 | O47: 345 | P47: 430 | Q47: 650

Sheet Техн. хар. M MH
A1: Технические характеристики пристенной охлаждаемой витрины серии MONTE M | S1: Содержание
A2: Наименование параметра | B2: M 1250 | C2: M 1875 | D2: M 2500 | E2: M 3750 | F2: M 1875 TG | G2: MH 1250 | H2: MH 1875 | I2: MH 2500 | J2: MH 3750 | K2: MH 1875 TG | L2: M FV 1250 | M2: M FV 1875 | N2: M FV 2500 | O2: M FV 3750 | P2: M FV 1875 TG | Q2: MH FV 1250 | R2: MH FV 1875 | S2: MH FV 2500 | T2: MH FV 3750 | U2: MH FV 1875 TG
A3: Площадь выкладки продуктовой полки ( 5х500 мм,\4 х 500 мм) м² | B3: 3.4 | C3: 5.1 | D3: 6.8 | E3: 10.2 | F3: 5.1 | G3: 4 | H3: 6 | I3: 8.1 | J3: 12 | K3: 6 | L3: 2.8 | M3: 4.2 | N3: 5.6 | O3: 8.3 | P3: 4.2 | Q3: 4 | R3: 6 | S3: 8.1 | T3: 12 | U3: 5.9
A4: Полезный охлаждаемый обьем, м³ | B4: 1.4 | C4: 2.1 | D4: 2.8 | E4: 4.2 | F4: 2.1 | G4: 1.5 | H4: 2.3 | I4: 3 | J4: 4.6 | K4: 2.3 | L4: 1.2 | M4: 1.8 | N4: 2.4 | O4: 3.6 | P4: 1.8 | Q4: 1.5 | R4: 2 | S4: 2.6 | T4: 4 | U4: 2
A5: Температурный диапазон без фронта (открытая), ° С | B5: +1…+7
A6: Температурный диапазон фронт стекло Eco1 и Eco2, ° С | B6: -1…..+7
A7: Нагрузка на полки, кг/ м.кв. | B7: 160
A8: Потребление электроэнергии за сутки( оттайка через 12 часов), кВт/ч, не более | B8: 1.9 | C8: 2.7 | D8: 3.5 | E8: 5 | F8: 2.7 | G8: 1.9 | H8: 2.7 | I8: 3.5 | J8: 5 | K8: 2.7 | L8: 1.9 | M8: 2.7 | N8: 3.5 | O8: 5 | P8: 2.7 | Q8: 1.9 | R8: 2.7 | S8: 3.5 | T8: 5 | U8: 2.7
A9: Потребление электроэнергии за сутки( оттайка через 12 часов), кВт/ч, не более* | B9: 1.2 | C9: 1.7 | D9: 2.2 | E9: 3.1 | F9: 1.7 | G9: 1.2 | H9: 1.7 | I9: 2.2 | J9: 3.1 | K9: 1.7 | L9: 1.2 | M9: 1.7 | N9: 2.2 | O9: 3.1 | P9: 1.7 | Q9: 1.2 | R9: 1.7 | S9: 2.2 | T9: 3.1 | U9: 1.7
A10: Максимальный потребляемый ток, А, ( при оттайке ТЭН), не более | B10: 1.9 | C10: 2.7 | D10: 3.6 | E10: 5.3 | F10: 2.7 | G10: 1.9 | H10: 2.7 | I10: 3.6 | J10: 5.3 | K10: 2.7 | L10: 1.9 | M10: 2.7 | N10: 3.6 | O10: 5.3 | P10: 2.7 | Q10: 1.9 | R10: 2.7 | S10: 3.6 | T10: 5.3 | U10: 2.7
A11: Максимальный потребляемый ток, А, ( при оттайке ТЭН), не более* | B11: 1.7 | C11: 2.4 | D11: 3.2 | E11: 4.8 | F11: 2.4 | G11: 1.7 | H11: 2.4 | I11: 3.2 | J11: 4.8 | K11: 2.4 | L11: 1.7 | M11: 2.4 | N11: 3.2 | O11: 4.8 | P11: 2.4 | Q11: 1.7 | R11: 2.4 | S11: 3.2 | T11: 4.8 | U11: 2.4
A12: *С энергосберегающими вентиляторами ЕВМ
A13: Параметры электропитания, В/Ф/Гц | B13: 230/1/50
A14: Температура окружающей среды, ° С | B14: +12…+25 (влажность не выше 60%)
A15: Глубина полки, мм.( угол установки 90гр и 80 гр) | B15: 500/(600( 2 нижних полки))
A16: Глубина базовой полки, мм. | B16: 705
A17: Холодопроизводительность, Вт ( Ткип.= -10 ° С, Ткон.= +45 °С),открытая | B17: 1650 | C17: 2500 | D17: 3250 | E17: 4900 | F17: 2500 | G17: 1650 | H17: 2500 | I17: 3250 | J17: 4900 | K17: 2500 | L17: 1650 | M17: 2500 | N17: 3250 | O17: 4900 | P17: 2500 | Q17: 1650 | R17: 2500 | S17: 3250 | T17: 4900 | U17: 2500
A18: Холодопроизводительность, Вт ( Ткип.= -10 ° С, Ткон.= +45 °С), фронт cтеклопакет | B18: 825 | C18: 1250 | D18: 1625 | E18: 2450 | F18: 1250 | G18: 825 | H18: 1250 | I18: 1625 | J18: 2450 | K18: 1250 | L18: 825 | M18: 1250 | N18: 1625 | O18: 2450 | P18: 1250 | Q18: 825 | R18: 1250 | S18: 1625 | T18: 2450 | U18: 1250
A19: Общая мощность в период оттайки, Вт | B19: 410 | C19: 590 | D19: 780 | E19: 1160 | F19: 590 | G19: 410 | H19: 590 | I19: 780 | J19: 1160 | K19: 590 | L19: 410 | M19: 590 | N19: 780 | O19: 1160 | P19: 590 | Q19: 410 | R19: 590 | S19: 780 | T19: 1160 | U19: 590
A20: Мощность ТЭН системы оттайки(опция), Вт, не более | B20: 335 | C20: 485 | D20: 640 | E20: 950 | F20: 485 | G20: 335 | H20: 485 | I20: 640 | J20: 950 | K20: 485 | L20: 335 | M20: 485 | N20: 640 | O20: 950 | P20: 485 | Q20: 335 | R20: 485 | S20: 640 | T20: 950 | U20: 485
A21: Мощность LED Освещения, Вт, не более | B21: 18 | C21: 28 | D21: 36 | E21: 54 | F21: 28 | G21: 18 | H21: 28 | I21: 36 | J21: 54 | K21: 28 | L21: 18 | M21: 28 | N21: 36 | O21: 54 | P21: 28 | Q21: 18 | R21: 28 | S21: 36 | T21: 54 | U21: 28
A22: Хладагент | B22: R404A
A23: Базовый комплект полок | B23: 4 | C23: 4 | D23: 4 | E23: 4 | F23: 4 | G23: 5 | H23: 5 | I23: 5 | J23: 5 | K23: 5 | L23: 3 | M23: 3 | N23: 3 | O23: 3 | P23: 3 | Q23: 4 | R23: 4 | S23: 4 | T23: 4 | U23: 4
A24: Габаритные размеры
A25: Длина без боковин, мм. | B25: 1250 | C25: 1875 | D25: 2500 | E25: 3750 | F25: 1875 | G25: 1250 | H25: 1875 | I25: 2500 | J25: 3750 | K25: 1875 | L25: 1250 | M25: 1875 | N25: 2500 | O25: 3750 | P25: 1875 | Q25: 1250 | R25: 1875 | S25: 2500 | T25: 3750 | U25: 1875
A26: Длина с боковинами, мм. | B26: 1330 | C26: 1955 | D26: 2580 | E26: 3830 | F26: 1955 | G26: 1330 | H26: 1955 | I26: 2580 | J26: 3830 | K26: 1955 | L26: 1330 | M26: 1955 | N26: 2580 | O26: 3830 | P26: 1955 | Q26: 1330 | R26: 1955 | S26: 2580 | T26: 3830 | U26: 1955
A27: Глубина, мм. | B27: 1000
A28: Высота, мм. | B28: 2040 | C28: 2040 | D28: 2040 | E28: 2040 | F28: 2040 | G28: 2210 | H28: 2210 | I28: 2210 | J28: 2210 | K28: 2210 | L28: 2040 | M28: 2040 | N28: 2040 | O28: 2040 | P28: 2040 | Q28: 2210 | R28: 2210 | S28: 2210 | T28: 2210 | U28: 2210
A29: Масса( с боковинами), кг, не более | B29: 360 | C29: 430 | D29: 510 | E29: 740 | F29: 430 | G29: 380 | H29: 450 | I29: 530 | J29: 760 | K29: 450 | L29: 360 | M29: 430 | N29: 510 | O29: 740 | P29: 430 | Q29: 380 | R29: 450 | S29: 530 | T29: 760 | U29: 450
A30: Логистическая информация
A31: Габаритные размеры упаковки( в разобранном виде, без боковин)
A32: Длина , мм. | B32: 2095 | C32: 2095 | D32: 2725 | E32: 3970 | F32: 2725 | G32: 2095 | H32: 2095 | I32: 2725 | J32: 3970 | K32: 2725 | L32: 2095 | M32: 2095 | N32: 2725 | O32: 3970 | P32: 2725 | Q32: 2095 | R32: 2095 | S32: 2725 | T32: 3970 | U32: 2725
A33: Глубина, мм. | B33: 1194
A34: Высота, мм. | B34: 820
A35: Масса, кг, не более | B35: 300 | C35: 370 | D35: 450 | E35: 680 | F35: 370 | G35: 320 | H35: 380 | I35: 470 | J35: 700 | K35: 380 | L35: 300 | M35: 370 | N35: 450 | O35: 680 | P35: 370 | Q35: 320 | R35: 380 | S35: 470 | T35: 700 | U35: 380
A36: Габаритные размеры упаковки боковин ( максимум 2 шт.)
A37: Длина , мм. | B37: 2095 | C37: 2095 | D37: 2095 | E37: 2095 | F37: 2095 | G37: 2270 | H37: 2270 | I37: 2270 | J37: 2270 | K37: 2270 | L37: 2095 | M37: 2095 | N37: 2095 | O37: 2095 | P37: 2095 | Q37: 2270 | R37: 2270 | S37: 2270 | T37: 2270 | U37: 2270
A38: Глубина мм. | B38: 235
A39: Высота, мм. | B39: 1215
A40: Габаритные размеры упаковки боковин ( максимум 4 шт.)
A41: Длина , мм. | B41: 2145 | C41: 2145 | D41: 2145 | E41: 2145 | F41: 2145 | G41: 2320 | H41: 2320 | I41: 2320 | J41: 2320 | K41: 2320 | L41: 2145 | M41: 2145 | N41: 2145 | O41: 2145 | P41: 2145 | Q41: 2320 | R41: 2320 | S41: 2320 | T41: 2320 | U41: 2320
A42: Глубина мм. | B42: 280
A43: Высота, мм. | B43: 1145
A44: Габаритные размеры упаковки( в собранном виде с боковинами, поддон + пленка )
A45: Длина , мм. | B45: 1400 | C45: 2025 | D45: 2625 | E45: 3900 | F45: 2025 | G45: 1400 | H45: 2025 | I45: 2625 | J45: 3900 | K45: 2025 | L45: 1400 | M45: 2025 | N45: 2625 | O45: 3900 | P45: 2025 | Q45: 1400 | R45: 2025 | S45: 2625 | T45: 3900 | U45: 2025
A46: Глубина, мм. | B46: 1150
A47: Высота, мм. | B47: 2175 | C47: 2175 | D47: 2175 | E47: 2175 | F47: 2175 | G47: 2350 | H47: 2350 | I47: 2350 | J47: 2350 | K47: 2350 | L47: 2175 | M47: 2175 | N47: 2175 | O47: 2175 | P47: 2175 | Q47: 2350 | R47: 2350 | S47: 2350 | T47: 2350 | U47: 2350
A48: Масса, кг, не более | B48: 370 | C48: 450 | D48: 530 | E48: 770 | F48: 450 | G48: 400 | H48: 470 | I48: 570 | J48: 790 | K48: 470 | L48: 370 | M48: 450 | N48: 530 | O48: 770 | P48: 450 | Q48: 400 | R48: 470 | S48: 570 | T48: 790 | U48: 470

Sheet Техн. хар. M MH М
A1: Технические характеристики пристенной охлаждаемой витрины серии MONTE MG с увеличеной выкладкой и стеклянным фронтом | V1: Содержание
A2: Наименование параметра | B2: M 1250 | C2: M 1875 | D2: M 2500 | E2: M 3750 | F2: M 1875 TG | G2: MH 1250 | H2: MH 1875 | I2: MH 2500 | J2: MH 3750 | K2: MH 1875 TG | L2: M FV 1250 | M2: M FV 1875 | N2: M FV 2500 | O2: M FV 3750 | P2: M FV 1875 TG | Q2: MH FV 1250 | R2: MH FV 1875 | S2: MH FV 2500 | T2: MH FV 3750 | U2: MH FV 1875 TG
A3: Площадь выкладки продуктовой полки ( 5х600 мм,\4 х 600 мм) м² | B3: 4 | C3: 6 | D3: 8 | E3: 12 | F3: 6 | G3: 4.75 | H3: 6.9 | I3: 9.6 | J3: 14.4 | K3: 6.9 | L3: 3.25 | M3: 4.9 | N3: 6.5 | O3: 9.9 | P3: 4.9 | Q3: 4 | R3: 6 | S3: 8 | T3: 12 | U3: 6
A4: Полезный охлаждаемый обьем, м³ | B4: 1.6 | C4: 2.4 | D4: 3.2 | E4: 4.8 | F4: 2.4 | G4: 1.72 | H4: 2.66 | I4: 3.44 | J4: 5.26 | K4: 2.7 | L4: 1.2 | M4: 1.8 | N4: 2.4 | O4: 3.6 | P4: 1.8 | Q4: 1.5 | R4: 2 | S4: 2.6 | T4: 4 | U4: 2
A5: Температурный диапазон фронт стекло Eco1 и Eco2, ° С | B5: -1…..+7
A6: Нагрузка на полки, кг/ м.кв. | B6: 140
A7: Потребление электроэнергии за сутки( оттайка через 12 часов), кВт/ч, не более | B7: 1.9 | C7: 2.7 | D7: 3.5 | E7: 5 | F7: 2.7 | G7: 1.9 | H7: 2.7 | I7: 3.5 | J7: 5 | K7: 2.7 | L7: 1.9 | M7: 2.7 | N7: 3.5 | O7: 5 | P7: 2.7 | Q7: 1.9 | R7: 2.7 | S7: 3.5 | T7: 5 | U7: 2.7
A8: Потребление электроэнергии за сутки( оттайка через 12 часов), кВт/ч, не более* | B8: 1.2 | C8: 1.7 | D8: 2.2 | E8: 3.1 | F8: 1.7 | G8: 1.2 | H8: 1.7 | I8: 2.2 | J8: 3.1 | K8: 1.7 | L8: 1.2 | M8: 1.7 | N8: 2.2 | O8: 3.1 | P8: 1.7 | Q8: 1.2 | R8: 1.7 | S8: 2.2 | T8: 3.1 | U8: 1.7
A9: Максимальный потребляемый ток, А, ( при оттайке ТЭН), не более | B9: 1.9 | C9: 2.7 | D9: 3.6 | E9: 5.3 | F9: 2.7 | G9: 1.9 | H9: 2.7 | I9: 3.6 | J9: 5.3 | K9: 2.7 | L9: 1.9 | M9: 2.7 | N9: 3.6 | O9: 5.3 | P9: 2.7 | Q9: 1.9 | R9: 2.7 | S9: 3.6 | T9: 5.3 | U9: 2.7
A10: Максимальный потребляемый ток, А, ( при оттайке ТЭН), не более* | B10: 1.7 | C10: 2.4 | D10: 3.2 | E10: 4.8 | F10: 2.4 | G10: 1.7 | H10: 2.4 | I10: 3.2 | J10: 4.8 | K10: 2.4 | L10: 1.7 | M10: 2.4 | N10: 3.2 | O10: 4.8 | P10: 2.4 | Q10: 1.7 | R10: 2.4 | S10: 3.2 | T10: 4.8 | U10: 2.4
A11: *С энергосберегающими вентиляторами ЕВМ
A12: Параметры электропитания, В/Ф/Гц | B12: 230/1/50
A13: Температура окружающей среды, ° С | B13: +12…+25 (влажность не выше 60%)
A14: Глубина полки, мм.( угол установки 90гр и 80 гр) | B14: 600
A15: Глубина базовой полки, мм. | B15: 705
A16: Холодопроизводительность, Вт ( Ткип.= -10 ° С, Ткон.= +45 °С), фронт cтеклопакет Х3 | B16: 825 | C16: 1250 | D16: 1625 | E16: 2450 | F16: 1250 | G16: 825 | H16: 1250 | I16: 1625 | J16: 2450 | K16: 1250 | L16: 825 | M16: 1250 | N16: 1625 | O16: 2450 | P16: 1250 | Q16: 825 | R16: 1250 | S16: 1625 | T16: 2450 | U16: 1250
A17: Общая мощность в период оттайки, Вт | B17: 410 | C17: 590 | D17: 780 | E17: 1160 | F17: 590 | G17: 410 | H17: 590 | I17: 780 | J17: 1160 | K17: 590 | L17: 410 | M17: 590 | N17: 780 | O17: 1160 | P17: 590 | Q17: 410 | R17: 590 | S17: 780 | T17: 1160 | U17: 590
A18: Мощность ТЭН системы оттайки(опция), Вт, не более | B18: 335 | C18: 485 | D18: 640 | E18: 950 | F18: 485 | G18: 335 | H18: 485 | I18: 640 | J18: 950 | K18: 485 | L18: 335 | M18: 485 | N18: 640 | O18: 950 | P18: 485 | Q18: 335 | R18: 485 | S18: 640 | T18: 950 | U18: 485
A19: Мощность LED Освещения, Вт, не более | B19: 18 | C19: 28 | D19: 36 | E19: 54 | F19: 28 | G19: 18 | H19: 28 | I19: 36 | J19: 54 | K19: 28 | L19: 18 | M19: 28 | N19: 36 | O19: 54 | P19: 28 | Q19: 18 | R19: 28 | S19: 36 | T19: 54 | U19: 28
A20: Хладагент | B20: R404A
A21: Базовый комплект полок | B21: 4 | C21: 4 | D21: 4 | E21: 4 | F21: 4 | G21: 5 | H21: 5 | I21: 5 | J21: 5 | K21: 5 | L21: 3 | M21: 3 | N21: 3 | O21: 3 | P21: 3 | Q21: 4 | R21: 4 | S21: 4 | T21: 4 | U21: 4
A22: Габаритные размеры
A23: Длина без боковин, мм. | B23: 1250 | C23: 1875 | D23: 2500 | E23: 3750 | F23: 1875 | G23: 1250 | H23: 1875 | I23: 2500 | J23: 3750 | K23: 1875 | L23: 1250 | M23: 1875 | N23: 2500 | O23: 3750 | P23: 1875 | Q23: 1250 | R23: 1875 | S23: 2500 | T23: 3750 | U23: 1875
A24: Длина с боковинами, мм. | B24: 1330 | C24: 1955 | D24: 2580 | E24: 3830 | F24: 1955 | G24: 1330 | H24: 1955 | I24: 2580 | J24: 3830 | K24: 1955 | L24: 1330 | M24: 1955 | N24: 2580 | O24: 3830 | P24: 1955 | Q24: 1330 | R24: 1955 | S24: 2580 | T24: 3830 | U24: 1955
A25: Глубина, мм. | B25: 1000
A26: Высота, мм. | B26: 2040 | C26: 2040 | D26: 2040 | E26: 2040 | F26: 2040 | G26: 2210 | H26: 2210 | I26: 2210 | J26: 2210 | K26: 2210 | L26: 2040 | M26: 2040 | N26: 2040 | O26: 2040 | P26: 2040 | Q26: 2210 | R26: 2210 | S26: 2210 | T26: 2210 | U26: 2210
A27: Масса( с боковинами, без фронтов), кг, не более | B27: 360 | C27: 430 | D27: 510 | E27: 740 | F27: 430 | G27: 380 | H27: 450 | I27: 530 | J27: 760 | K27: 450 | L27: 360 | M27: 430 | N27: 510 | O27: 740 | P27: 430 | Q27: 380 | R27: 450 | S27: 530 | T27: 760 | U27: 450
A28: Логистическая информация
A29: Габаритные размеры упаковки( в разобранном виде, без боковин)
A30: Длина , мм. | B30: 2095 | C30: 2095 | D30: 2725 | E30: 3970 | F30: 2725 | G30: 2095 | H30: 2095 | I30: 2725 | J30: 3970 | K30: 2725 | L30: 2095 | M30: 2095 | N30: 2725 | O30: 3970 | P30: 2725 | Q30: 2095 | R30: 2095 | S30: 2725 | T30: 3970 | U30: 2725
A31: Глубина, мм. | B31: 1194
A32: Высота, мм. | B32: 820
A33: Масса, кг, не более | B33: 300 | C33: 370 | D33: 450 | E33: 680 | F33: 370 | G33: 320 | H33: 380 | I33: 470 | J33: 700 | K33: 380 | L33: 300 | M33: 370 | N33: 450 | O33: 680 | P33: 370 | Q33: 320 | R33: 380 | S33: 470 | T33: 700 | U33: 380
A34: Габаритные размеры упаковки боковин ( максимум 2 шт.)
A35: Длина , мм. | B35: 2095 | C35: 2095 | D35: 2095 | E35: 2095 | F35: 2095 | G35: 2270 | H35: 2270 | I35: 2270 | J35: 2270 | K35: 2270 | L35: 2095 | M35: 2095 | N35: 2095 | O35: 2095 | P35: 2095 | Q35: 2270 | R35: 2270 | S35: 2270 | T35: 2270 | U35: 2270
A36: Глубина мм. | B36: 235
A37: Высота, мм. | B37: 1215
A38: Габаритные размеры упаковки боковин ( максимум 4 шт.)
A39: Длина , мм. | B39: 2145 | C39: 2145 | D39: 2145 | E39: 2145 | F39: 2145 | G39: 2320 | H39: 2320 | I39: 2320 | J39: 2320 | K39: 2320 | L39: 2145 | M39: 2145 | N39: 2145 | O39: 2145 | P39: 2145 | Q39: 2320 | R39: 2320 | S39: 2320 | T39: 2320 | U39: 2320
A40: Глубина мм. | B40: 280
A41: Высота, мм. | B41: 1145
A42: Габаритные размеры упаковки( в собранном виде с боковинами, поддон + пленка )
A43: Длина , мм. | B43: 1400 | C43: 2025 | D43: 2625 | E43: 3900 | F43: 2025 | G43: 1400 | H43: 2025 | I43: 2625 | J43: 3900 | K43: 2025 | L43: 1400 | M43: 2025 | N43: 2625 | O43: 3900 | P43: 2025 | Q43: 1400 | R43: 2025 | S43: 2625 | T43: 3900 | U43: 2025
A44: Глубина, мм. | B44: 1150
A45: Высота, мм. | B45: 2175 | C45: 2175 | D45: 2175 | E45: 2175 | F45: 2175 | G45: 2350 | H45: 2350 | I45: 2350 | J45: 2350 | K45: 2350 | L45: 2175 | M45: 2175 | N45: 2175 | O45: 2175 | P45: 2175 | Q45: 2350 | R45: 2350 | S45: 2350 | T45: 2350 | U45: 2350
A46: Масса, кг, не более | B46: 370 | C46: 450 | D46: 530 | E46: 770 | F46: 450 | G46: 400 | H46: 470 | I46: 570 | J46: 790 | K46: 470 | L46: 370 | M46: 450 | N46: 530 | O46: 770 | P46: 450 | Q46: 400 | R46: 470 | S46: 570 | T46: 790 | U46: 470

Sheet Техн. хар. L LH
A1: Технические характеристики пристенной охлаждаемой витрины серии MONTE L | S1: Содержание
A2: Наименование параметра | B2: L 1250 | C2: L 1875 | D2: L 2500 | E2: L 3750 | F2: L 2500 TG | G2: LH 1250 | H2: LH 1875 | I2: LH 2500 | J2: LH 3750 | K2: LH 2500 TG | L2: L FV 1250 | M2: L FV 1875 | N2: L FV 2500 | O2: L FV 3750 | P2: L FV 2500 TG | Q2: LH FV 1250 | R2: LH FV 1875 | S2: LH FV 2500 | T2: LH FV 3750 | U2: LH FV 2500 TG
A3: Площадь выкладки продуктовой полки ( 5х600 мм,\4 х 600 мм) м² | B3: 4 | C3: 6 | D3: 8 | E3: 12 | F3: 8 | G3: 4.75 | H3: 6.9 | I3: 9.6 | J3: 14.4 | K3: 9.6 | L3: 3.25 | M3: 4.9 | N3: 6.5 | O3: 9.9 | P3: 6.5 | Q3: 4 | R3: 6 | S3: 8 | T3: 12 | U3: 8
A4: Полезный охлаждаемый обьем, м³ | B4: 2 | C4: 3.1 | D4: 4 | E4: 6 | F4: 4.1 | G4: 2.2 | H4: 3.4 | I4: 4.4 | J4: 6.6 | K4: 4.4 | L4: 2 | M4: 3.1 | N4: 4 | O4: 6 | P4: 4 | Q4: 2.2 | R4: 3.4 | S4: 4.4 | T4: 6.6 | U4: 4.4
A5: Температурный диапазон,без фронта (открытая) ° С | B5: +1…+7
A6: Температурный диапазон фронт стекло Eco1 и Eco2, ° С | B6: -1…..+7
A7: Нагрузка на полки, кг/ м.кв. | B7: 160
A8: Потребление электроэнергии за сутки( оттайка через 12 часов), кВт/ч, не более | B8: 1.9 | C8: 2.7 | D8: 3.5 | E8: 5 | F8: 3.5 | G8: 1.9 | H8: 2.7 | I8: 3.5 | J8: 5 | K8: 3.5 | L8: 1.9 | M8: 2.7 | N8: 3.5 | O8: 5 | P8: 3.5 | Q8: 1.9 | R8: 2.7 | S8: 3.5 | T8: 5 | U8: 3.5
A9: Потребление электроэнергии за сутки( оттайка через 12 часов), кВт/ч, не более * | B9: 1.2 | C9: 1.7 | D9: 2.2 | E9: 3.1 | F9: 2.2 | G9: 1.2 | H9: 1.7 | I9: 2.2 | J9: 3.1 | K9: 2.2 | L9: 1.2 | M9: 1.7 | N9: 2.2 | O9: 3.1 | P9: 2.2 | Q9: 1.2 | R9: 1.7 | S9: 2.2 | T9: 3.1 | U9: 2.2
A10: Максимальный потребляемый ток, А, ( при оттайке ТЭН), не более | B10: 1.9 | C10: 2.7 | D10: 3.6 | E10: 5.3 | F10: 3.6 | G10: 1.9 | H10: 2.7 | I10: 3.6 | J10: 5.3 | K10: 3.6 | L10: 1.9 | M10: 2.7 | N10: 3.6 | O10: 5.3 | P10: 3.6 | Q10: 1.9 | R10: 2.7 | S10: 3.6 | T10: 5.3 | U10: 3.6
A11: Максимальный потребляемый ток, А, ( при оттайке ТЭН), не более* | B11: 1.7 | C11: 2.4 | D11: 3.2 | E11: 4.8 | F11: 3.2 | G11: 1.7 | H11: 2.4 | I11: 3.2 | J11: 4.8 | K11: 3.2 | L11: 1.7 | M11: 2.4 | N11: 3.2 | O11: 4.8 | P11: 3.2 | Q11: 1.7 | R11: 2.4 | S11: 3.2 | T11: 4.8 | U11: 3.2
A12: * С энергосберегающими вентиляторами ЕВМ
A13: Параметры электропитания, В/Ф/Гц | B13: 230/1/50
A14: Температура окружающей среды, ° С | B14: +12…+25 (влажность не выше 60%)
A15: Глубина полки, мм.( угол установки 90гр и 80 гр) | B15: 600
A16: Глубина базовой полки, мм. | B16: 805
A17: Холодопроизводительность, Вт ( Ткип.= -10 ° С, Ткон.= +45 °С),открытая | B17: 1650 | C17: 2500 | D17: 3250 | E17: 4900 | F17: 2500 | G17: 1650 | H17: 2500 | I17: 3250 | J17: 4900 | K17: 2500 | L17: 1650 | M17: 2500 | N17: 3250 | O17: 4900 | P17: 2500 | Q17: 1650 | R17: 2500 | S17: 3250 | T17: 4900 | U17: 2500
A18: Холодопроизводительность, Вт ( Ткип.= -10 ° С, Ткон.= +45 °С), фронт cтеклопакет | B18: 825 | C18: 1250 | D18: 1625 | E18: 2450 | F18: 1250 | G18: 825 | H18: 1250 | I18: 1625 | J18: 2450 | K18: 1250 | L18: 825 | M18: 1250 | N18: 1625 | O18: 2450 | P18: 1250 | Q18: 825 | R18: 1250 | S18: 1625 | T18: 2450 | U18: 1250
A19: Общая мощность в период оттайки, Вт | B19: 410 | C19: 590 | D19: 780 | E19: 1160 | F19: 780 | G19: 410 | H19: 590 | I19: 780 | J19: 1160 | K19: 780 | L19: 410 | M19: 590 | N19: 780 | O19: 1160 | P19: 780 | Q19: 410 | R19: 590 | S19: 780 | T19: 1160 | U19: 780
A20: Мощность ТЭН системы оттайки(опция), Вт, не более | B20: 335 | C20: 485 | D20: 640 | E20: 950 | F20: 640 | G20: 335 | H20: 485 | I20: 640 | J20: 950 | K20: 640 | L20: 335 | M20: 485 | N20: 640 | O20: 950 | P20: 640 | Q20: 335 | R20: 485 | S20: 640 | T20: 950 | U20: 640
A21: Мощность LED Освещения, Вт, не более | B21: 18 | C21: 28 | D21: 36 | E21: 54 | F21: 36 | G21: 18 | H21: 28 | I21: 36 | J21: 54 | K21: 36 | L21: 18 | M21: 28 | N21: 36 | O21: 54 | P21: 36 | Q21: 18 | R21: 28 | S21: 36 | T21: 54 | U21: 36
A22: Хладагент | B22: R404A
A23: Базовый комплект полок | B23: 4 | C23: 4 | D23: 4 | E23: 4 | F23: 4 | G23: 5 | H23: 5 | I23: 5 | J23: 5 | K23: 5 | L23: 3 | M23: 3 | N23: 3 | O23: 3 | P23: 3 | Q23: 4 | R23: 4 | S23: 4 | T23: 4 | U23: 4
A24: Габаритные размеры
A25: Длина без боковин, мм. | B25: 1250 | C25: 1875 | D25: 2500 | E25: 3750 | F25: 2500 | G25: 1250 | H25: 1875 | I25: 2500 | J25: 3750 | K25: 2500 | L25: 1250 | M25: 1875 | N25: 2500 | O25: 3750 | P25: 2500 | Q25: 1250 | R25: 1875 | S25: 2500 | T25: 3750 | U25: 2500
A26: Длина с боковинами, мм. | B26: 1330 | C26: 1955 | D26: 2580 | E26: 3830 | F26: 2580 | G26: 1330 | H26: 1955 | I26: 2580 | J26: 3830 | K26: 2580 | L26: 1330 | M26: 1955 | N26: 2580 | O26: 3830 | P26: 2580 | Q26: 1330 | R26: 1955 | S26: 2580 | T26: 3830 | U26: 2580
A27: Глубина, мм. | B27: 1100
A28: Высота, мм. | B28: 2040 | C28: 2040 | D28: 2040 | E28: 2040 | F28: 2040 | G28: 2210 | H28: 2210 | I28: 2210 | J28: 2210 | K28: 2210 | L28: 2040 | M28: 2040 | N28: 2040 | O28: 2040 | P28: 2040 | Q28: 2210 | R28: 2210 | S28: 2210 | T28: 2210 | U28: 2210
A29: Масса( с боковинами), кг, не более | B29: 430 | C29: 510 | D29: 610 | E29: 900 | F29: 610 | G29: 450 | H29: 550 | I29: 700 | J29: 990 | K29: 700 | L29: 430 | M29: 510 | N29: 610 | O29: 900 | P29: 610 | Q29: 450 | R29: 550 | S29: 700 | T29: 990 | U29: 700
A30: Логистическая информация
A31: Габаритные размеры упаковки( в разобранном виде, без боковин)
A32: Длина , мм. | B32: 2095 | C32: 2095 | D32: 2725 | E32: 3970 | F32: 2725 | G32: 2095 | H32: 2095 | I32: 2725 | J32: 3970 | K32: 2725 | L32: 2095 | M32: 2095 | N32: 2725 | O32: 3970 | P32: 2725 | Q32: 2095 | R32: 2095 | S32: 2725 | T32: 3970 | U32: 2725
A33: Глубина, мм. | B33: 1194
A34: Высота, мм. | B34: 820
A35: Масса, кг, не более | B35: 350 | C35: 430 | D35: 530 | E35: 820 | F35: 530 | G35: 370 | H35: 470 | I35: 600 | J35: 800 | K35: 600 | L35: 350 | M35: 430 | N35: 530 | O35: 820 | P35: 530 | Q35: 370 | R35: 470 | S35: 600 | T35: 800 | U35: 600
A36: Габаритные размеры упаковки боковин ( максимум 2 шт.)
A37: Длина , мм. | B37: 2095 | C37: 2095 | D37: 2095 | E37: 2095 | F37: 2095 | G37: 2270 | H37: 2270 | I37: 2270 | J37: 2270 | K37: 2270 | L37: 2095 | M37: 2095 | N37: 2095 | O37: 2095 | P37: 2095 | Q37: 2270 | R37: 2270 | S37: 2270 | T37: 2270 | U37: 2270
A38: Глубина мм. | B38: 235
A39: Высота, мм. | B39: 1215
A40: Габаритные размеры упаковки боковин ( максимум 4 шт.)
A41: Длина , мм. | B41: 2145 | C41: 2145 | D41: 2145 | E41: 2145 | F41: 2145 | G41: 2320 | H41: 2320 | I41: 2320 | J41: 2320 | K41: 2320 | L41: 2145 | M41: 2145 | N41: 2145 | O41: 2145 | P41: 2145 | Q41: 2320 | R41: 2320 | S41: 2320 | T41: 2320 | U41: 2320
A42: Глубина мм. | B42: 280
A43: Высота, мм. | B43: 1245
A44: Габаритные размеры упаковки( в собранном виде с боковинами, поддон + пленка )
A45: Длина , мм. | B45: 1400 | C45: 2025 | D45: 2625 | E45: 3900 | F45: 2625 | G45: 1400 | H45: 2025 | I45: 2625 | J45: 3900 | K45: 2625 | L45: 1400 | M45: 2025 | N45: 2625 | O45: 3900 | P45: 2625 | Q45: 1400 | R45: 2025 | S45: 2625 | T45: 3900 | U45: 2625
A46: Глубина, мм. | B46: 1150
A47: Высота, мм. | B47: 2270 | C47: 2270 | D47: 2270 | E47: 2270 | F47: 2270 | G47: 2440 | H47: 2440 | I47: 2440 | J47: 2440 | K47: 2440 | L47: 2270 | M47: 2270 | N47: 2270 | O47: 2270 | P47: 2270 | Q47: 2440 | R47: 2440 | S47: 2440 | T47: 2440 | U47: 2440
A48: Масса, кг, не более | B48: 450 | C48: 560 | D48: 700 | E48: 990 | F48: 700 | G48: 470 | H48: 600 | I48: 780 | J48: 1050 | K48: 780 | L48: 450 | M48: 560 | N48: 700 | O48: 990 | P48: 700 | Q48: 470 | R48: 600 | S48: 780 | T48: 1050 | U48: 780

Sheet Техн. хар. R M
A1: Технические характеристики пристенной охлаждаемой витрины серии Ritto M | E1: Содержание
A2: Наименование параметра | B2: M 1250 | C2: M 1875\Торец | D2: M 2500 | E2: M 3750
A3: Площадь выкладки продуктовой полки ( 300\400\500) м² | B3: 2.4 | C3: 3.6 | D3: 4.8 | E3: 7.3
A4: Полезный охлаждаемый обьем, м³ | B4: 0.8 | C4: 1.3 | D4: 1.6 | E4: 2.6
A5: Температурный диапазон без фронта (открытая), ° С | B5: +1…+7
A6: Температурный диапазон фронт стеклопакет Х3, ° С | B6: -5…..+7
A7: Нагрузка на полки, кг/ м.кв. | B7: 160
A8: Потребление электроэнергии за сутки( оттайка через 12 часов), кВт/ч, не более | B8: 1.9 | C8: 2.7 | D8: 3.5 | E8: 5
A9: Потребление электроэнергии за сутки( оттайка через 12 часов), кВт/ч, не более* | B9: 1.2 | C9: 1.7 | D9: 2.2 | E9: 3.1
A10: Максимальный потребляемый ток, А, ( при оттайке ТЭН), не более | B10: 1.9 | C10: 2.7 | D10: 3.6 | E10: 5.3
A11: Максимальный потребляемый ток, А, ( при оттайке ТЭН), не более* | B11: 1.7 | C11: 2.4 | D11: 3.2 | E11: 4.8
A12: *С энергосберегающими вентиляторами ЕВМ
A13: Параметры электропитания, В/Ф/Гц | B13: 230/1/50
A14: Температура окружающей среды, ° С | B14: +12…+25 (влажность не выше 60%) 3 клим. класс
A15: Глубина полки, мм.( угол установки 90гр и 80 гр) | B15: 300\400\500
A16: Глубина базовой полки, мм. | B16: 700
A17: Холодопроизводительность, Вт ( Ткип.= -10 ° С, Ткон.= +45 °С),открытая | B17: 1500 | C17: 2000 | D17: 3000 | E17: 4000
A18: Холодопроизводительность, Вт ( Ткип.= -10 ° С, Ткон.= +45 °С), фронт К- один.стекло Х0 | B18: 1100 | C18: 1600 | D18: 2150 | E18: 3100
A19: Холодопроизводительность, Вт ( Ткип.= -10 ° С, Ткон.= +45 °С), фронт cтеклопакет Х3 | B19: 820 | C19: 1200 | D19: 1600 | E19: 2350
A20: Общая мощность в период оттайки, Вт | B20: 410 | C20: 590 | D20: 780 | E20: 1160
A21: Мощность ТЭН системы оттайки(опция), Вт, не более | B21: 335 | C21: 485 | D21: 640 | E21: 950
A22: Мощность LED Освещения, Вт, не более | B22: 18 | C22: 28 | D22: 36 | E22: 54
A23: Хладагент | B23: R404A
A24: Базовый комплект полок | B24: 3 | C24: 3 | D24: 3 | E24: 3
A25: Габаритные размеры
A26: Длина без боковин, мм. | B26: 1250 | C26: 1875 | D26: 2500 | E26: 3750
A27: Длина с боковинами, мм. | B27: 1330 | C27: 1955 | D27: 2580 | E27: 3830
A28: Глубина, мм. | B28: 1000
A29: Высота, мм. | B29: 1540 | C29: 1540 | D29: 1540 | E29: 1540
A30: Масса( с боковинами), кг, не более | B30: 160 | C30: 260 | D30: 320 | E30: 450
A31: Логистическая информация
A32: Габаритные размеры упаковки( в разобранном виде, без боковин)
A33: Длина , мм. | B33: 2095 | C33: 2095 | D33: 2725 | E33: 3970
A34: Глубина, мм. | B34: 1194
A35: Высота, мм. | B35: 820
A36: Масса, кг, не более | B36: 130 | C36: 220 | D36: 280 | E36: 400
A37: Габаритные размеры упаковки боковин ( максимум 2 шт.)
A38: Длина , мм. | B38: 1800 | C38: 1800 | D38: 1800 | E38: 1800
A39: Глубина мм. | B39: 235
A40: Высота, мм. | B40: 1215
A41: Габаритные размеры упаковки боковин ( максимум 4 шт.)
A42: Длина , мм. | B42: 1800 | C42: 1800 | D42: 1800 | E42: 1800
A43: Глубина мм. | B43: 280
A44: Высота, мм. | B44: 1145
A45: Габаритные размеры упаковки( в собранном виде с боковинами, поддон + пленка )
A46: Длина , мм. | B46: 1400 | C46: 2025 | D46: 2625 | E46: 3900
A47: Глубина, мм. | B47: 1150
A48: Высота, мм. | B48: 1600 | C48: 1600 | D48: 1600 | E48: 1600
A49: Масса, кг, не более | B49: 190 | C49: 300 | D49: 370 | E49: 500

Sheet Техн. хар. С
A2: № п.п. | B2: Модель ВПО Сube 0,7 | C2: Компрессор | D2: Доза заправки R404a, г | E2: Капилярная трубка, d х Lмм | F2: Холопроизводительность, Вт | G2: Испаритель d12мм (35х35) | H2: Конденсатор d10мм 11х4( 2х заходный) | I2: Вентилятор испарителя 10 Вт | J2: Вентилятор Конденсатор 18 вт | K2: Артикул вентил.конденсатора | L2: Габаритные размеры в упаковке( только поддон) | M2: Масса в упаковке( только поддон), кг | N2: Содержание
A3: 1 | B3: Cube07-0,6 | C3: NEU 2178 GK (R404A) | D3: 470 | E3: 1,25 х 2700х2шт. | F3: 567 | G3: 155х200х310 (6х8) (двухзаходный) | H3: 286х274 | I3: 1x200_28гр | J3: 1х254_28гр | K3: 2559017-2 | L3: 664x810x2070
A4: 2 | B4: Cube07-0,7 | C4: NEU 2178 GK (R404A) | D4: 490 | E4: 1,25 х 2700х2шт. | F4: 490 | G4: 155х200х310 (6х8) (двухзаходный) | H4: 286х274 | J4: 1х254_28гр | K4: 2559017-2 | L4: 804x810x2070
A5: 3 | B5: Cube07-1,0 | C5: NT 6226 GK (R404A) | D5: 1060 | E5: 1,25 x 2100 x 2шт | F5: 1044 | G5: 140х210х630(6х4) (двухзаходный) | H5: 286х600 | I5: 1x200_28гр | J5: 2х254_28гр | K5: 2559017 | L5: 1124x810x2070
B6: Cube07-1,3 | C6: CAJ 9510 Z (R404A) | D6: 1000 | E6: 1,25 x 2100 x 2шт | F6: 688 | G6: 140х210х900 (6х4) (двухзаходный) | H6: 286х600 | I6: 2x200_28гр | J6: 2х254_28гр | K6: 2559017 | L6: 1394x810x2070 | M6: 240
A7: 4 | C7: NT 6226 GK (R404A) | D7: 1080 | F7: 782 | G7: 140х210х900 (6х4) (двухзаходный)

Sheet Техн. хар. S SG
A1: Технические характеристики пристенной охлаждаемой витрины серии Stretto | F1: Содержание
A2: Наименование параметра | B2: М 1250 | C2: M 1875 | D2: M 2500 | E2: MG 1250 | F2: MG 1875 | G2: MG 2500
A3: Площадь выкладки продуктовой полки ( 5х500 мм,\4 х 500 мм) м² | B3: 2.3 | C3: 3.45 | D3: 4.6 | E3: 2.3 | F3: 3.45 | G3: 4.6
A4: Полезный охлаждаемый обьем, м³ | B4: 0.51 | C4: 0.77 | D4: 1.04 | E4: 0.51 | F4: 0.77 | G4: 1.04
A5: Температурный диапазон без фронта (открытая), ° С | B5: +1…+7
A6: Температурный диапазон фронт стекло х1/х3, ° С | B6: -5…..+7
A7: Нагрузка на полки, кг/ м.кв. | B7: 160
A8: Потребление электроэнергии за сутки( оттайка через 12 часов), кВт/ч, не более | B8: 21 | C8: 36 | D8: 39 | E8: 26 | F8: 45 | G8: 50
A9: Максимальный потребляемый ток, А, ( при оттайке ТЭН), не более | B9: 7.6 | C9: 11 | D9: 15 | E9: 9 | F9: 13 | G9: 18
A10: *С энергосберегающими вентиляторами ЕВМ
A11: Параметры электропитания, В/Ф/Гц | B11: 230/1/50
A12: Температура окружающей среды, ° С | B12: +12…+25 (влажность не выше 60%)
A13: Глубина полки, мм.( угол установки 90гр и 80 гр) | B13: 400/(300( 1 нижняя полка))
A14: Глубина базовой полки, мм. | B14: 380
A15: Хладагент | B15: R404A
A16: Базовый комплект полок | B16: 4 | C16: 4 | D16: 4 | E16: 4 | F16: 4 | G16: 5
A17: Габаритные размеры
A18: Длина без боковин, мм. | B18: 1250 | C18: 1875 | D18: 2500 | E18: 1250 | F18: 1875 | G18: 2500
A19: Длина с боковинами, мм. | B19: 1330 | C19: 1955 | D19: 2580 | E19: 1330 | F19: 1955 | G19: 2580
A20: Глубина, мм. | B20: 710
A21: Высота, мм. | B21: 1980
A22: Масса( с боковинами), кг, не более | B22: 210 | C22: 275 | D22: 355 | E22: 210 | F22: 275 | G22: 355

Sheet Техн.хар. M MН Plug-in 
A1: Технические характеристики пристенной охлаждаемой витрины серии MONTE MН Plug-in с холодильной машиной (ХМ) на крыше | E1: Содержание
A2: Наименование параметра | B2: MH 1250 | C2: MH 1875 | D2: MH 2500
A3: Тип холодильной машины( ХМ) | B3: ММ115 Т | C3: ММ222 Т | D3: ММ222 Т
A4: Площадь выкладки продуктовой полки ( 5х500 мм) м² | B4: 4 | C4: 6 | D4: 8.1
A5: Полезный охлаждаемый обьем, м³ | B5: 1.5 | C5: 2.3 | D5: 3
A6: Температурный диапазон , ° С | B6: 0...+7
A7: Нагрузка на полки, не более кг/ м.кв. | B7: 160
A8: Потребление электроэнергии за сутки ВПО( оттайка через 12 часов), кВт/ч, не более | B8: 1.9 | C8: 2.7 | D8: 3.5
A9: Потребление электроэнергии за сутки ВПО( оттайка через 12 часов), кВт/ч, не более* | B9: 1.2 | C9: 1.7 | D9: 2.2
A10: Потребление электроэнергии за сутки ХМ, кВт/ч, не более | B10: 18 | C10: 26 | D10: 30
A11: *С энергосберегающими вентиляторами ЕВМ
A12: Параметры электропитания, В/Ф/Гц | B12: 230/1/50 | C12: 400/3/50 | D12: 400/3/50
A13: Температура окружающей среды, ° С | B13: +12…+25 (влажность не выше 60%)
A14: Глубина полки, мм.( угол установки 90гр и 80 гр) | B14: 500
A15: Глубина базовой полки, мм. | B15: 685
A16: Холодопроизводительность, Вт ( Ткип.= -10 ° С, Ткон.= +45 °С), | B16: 1450 | C16: 2000 | D16: 2400
A17: Потребляемая мощность ВПО в период оттайки , Вт,не более | B17: 410 | C17: 590 | D17: 780
A18: Потребляемая мощность ХМ в период работы , Вт,не более | B18: 1180 | C18: 1700 | D18: 1700
A19: Мощность LED Освещения, Вт, не более | B19: 18 | C19: 28 | D19: 36
A20: Хладагент | B20: R404A
A21: Базовый комплект полок | B21: 5 | C21: 5 | D21: 5
A22: Габаритные размеры
A23: Длина без боковин, мм. | B23: 1250 | C23: 1875 | D23: 2500
A24: Длина с боковинами, мм. | B24: 1330 | C24: 1955 | D24: 2580
A25: Глубина, мм. | B25: 975
A26: Высота ВПО, мм. | B26: 2210 | C26: 2210 | D26: 2210
A27: Высота совместно с ХМ, мм. | B27: 2600 | C27: 2600 | D27: 2600
A28: Масса( с боковинами), кг, не более | B28: 380 | C28: 450 | D28: 530
A29: Общая масса( с боковинами и ХМ), кг, не более | B29: 440 | C29: 520 | D29: 600
A30: Логистическая информация
A31: Габаритные размеры упаковки ХМ
A32: Длина , мм.
A33: Глубина мм.
A34: Высота, мм.
A35: Габаритные размеры упаковки( в собранном виде с боковинами, поддон + пленка )
A36: Длина , мм. | B36: 1400 | C36: 2025 | D36: 2625
A37: Глубина, мм. | B37: 1150
A38: Высота, мм. | B38: 2350 | C38: 2350 | D38: 2350
A39: Масса, кг, не более | B39: 400 | C39: 470 | D39: 570

Sheet Техн. хар. G MH
A1: *Технические характеристики витрины пристенной низкотемпературной серии ВПН M(Н) Gelo | J1: Содержание
A2: Наименование параметра | B2: M 1250 | C2: M 1875 | D2: M 2500 | E2: M 3750 | F2: M 1875 TG | G2: MH 1250 | H2: MH 1875 | I2: MH 2500 | J2: MH 3750 | K2: MH 1875 TG
A3: Площадь выкладки продуктовой полки ( 5х600 мм,\4 х 600 мм) м² | B3: 3.7 | C3: 5.6 | D3: 7.4 | E3: 11.2 | F3: 5.6 | G3: 4.6 | H3: 6.9 | I3: 9.2 | J3: 13.8 | K3: 6.9
A4: Полезный охлаждаемый обьем, м³ | B4: 1.36 | C4: 2 | D4: 2.8 | E4: 4 | F4: 2 | G4: 1.5 | H4: 2.2 | I4: 3 | J4: 4.4 | K4: 2.2
A5: Температурный диапазон, ° С | B5: -18…-22
A6: Нагрузка на полки, кг/ м.кв. | B6: 120
A7: Потребление электроэнергии без освещения за сутки, кВт/ч, не более | B7: 9.4 | C7: 11.4 | D7: 13.3 | E7: 18.1 | F7: 11.4 | G7: 9.4 | H7: 11.4 | I7: 13.3 | J7: 18.1 | K7: 11.4
A8: Потребление электроэнергии за сутки с освещением, кВт/ч, не более | B8: 11.2 | C8: 13.9 | D8: 16.6 | E8: 21.6 | F8: 13.9 | G8: 11.2 | H8: 13.9 | I8: 16.6 | J8: 21.6 | K8: 13.9
A9: Потребление электроэнергии без осещения и энергосбер. вент. за сутки, кВт/ч, не более | B9: 8.4 | C9: 10.1 | D9: 11.7 | E9: 15.1 | F9: 10.1 | G9: 8.4 | H9: 10.1 | I9: 11.7 | J9: 15.1 | K9: 10.1
A10: Потребление электроэнергии с освещением и энергосбер. вент. за сутки, кВт/ч, не более | B10: 10.2 | C10: 12.4 | D10: 14.6 | E10: 18.6 | F10: 12.4 | G10: 10.2 | H10: 12.4 | I10: 14.6 | J10: 18.6 | K10: 12.4
A11: Максимальный потребляемый ток, А, ( при оттайке ТЭН), не более | B11: 6.5 | C11: 8.9 | D11: 11.3 | E11: 16.5 | F11: 8.9 | G11: 6.5 | H11: 8.9 | I11: 11.3 | J11: 16.5 | K11: 8.9
A12: Параметры электропитания, В/Ф/Гц | B12: 380/3/50
A13: Температура окружающей среды, ° С | B13: +12…+25 (влажность не выше 60%)
A14: Глубина полки, мм.( угол установки 90гр и 80 гр) | B14: 600
A15: Глубина базовой полки, мм. | B15: 685
A16: Холодопроизводительность, Вт ( Ткип.= -35 ° С, Ткон.= +45 °С), | B16: 950 | C16: 1400 | D16: 1900 | E16: 2800 | F16: 1400 | G16: 950 | H16: 1400 | I16: 1900 | J16: 2800 | K16: 1400
A17: Общая мощность в период оттайки, кВт | B17: 1.42 | C17: 1.95 | D17: 2.48 | E17: 3.62 | F17: 1.95 | G17: 1.42 | H17: 1.95 | I17: 2.48 | J17: 3.62 | K17: 1.95
A18: Мощность ТЭН системы оттайки, кВт, не более | B18: 1.3 | C18: 1.75 | D18: 2.2 | E18: 3.3 | F18: 1.75 | G18: 1.3 | H18: 1.75 | I18: 2.2 | J18: 3.3 | K18: 1.75
A19: Мощность LED Освещения, Вт, не более | B19: 72 | C19: 96 | D19: 120 | E19: 144 | F19: 96 | G19: 72 | H19: 96 | I19: 120 | J19: 144 | K19: 96
A20: Хладагент | B20: R404A
A21: Базовый комплект рядов решетчатых полок,шт. | B21: 4 | C21: 4 | D21: 4 | E21: 4 | F21: 4 | G21: 5 | H21: 5 | I21: 5 | J21: 5 | K21: 5
A22: Габаритные размеры
A23: Длина без боковин, мм. | B23: 1250 | C23: 1875 | D23: 2500 | E23: 3750 | F23: 1875 | G23: 1250 | H23: 1875 | I23: 2500 | J23: 3750 | K23: 1875
A24: Длина с боковинами, мм. | B24: 1370 | C24: 1995 | D24: 2620 | E24: 3870 | F24: 1995 | G24: 1370 | H24: 1995 | I24: 2620 | J24: 3870 | K24: 1995
A25: Глубина, мм. | B25: 1000
A26: Высота, мм. | B26: 2040 | C26: 2040 | D26: 2040 | E26: 2040 | F26: 2040 | G26: 2210 | H26: 2210 | I26: 2210 | J26: 2210 | K26: 2210
A27: Масса( с боковинами), кг, не более | B27: 400 | C27: 490 | D27: 580 | E27: 800 | F27: 490 | G27: 420 | H27: 510 | I27: 600 | J27: 850 | K27: 510
A28: Логистическая информация ( информация будет дорабатываться )
A29: Габаритные размеры упаковки( в разобранном виде, без боковин)
A30: Длина , мм. | B30: 2095 | C30: 2095 | D30: 2725 | E30: 3970 | F30: 2095 | G30: 2095 | H30: 2095 | I30: 2725 | J30: 3970 | K30: 2725
A31: Глубина, мм. | B31: 1194
A32: Высота, мм. | B32: 820
A33: Масса, кг, не более | B33: 300 | C33: 370 | D33: 450 | E33: 680 | F33: 370 | G33: 320 | H33: 380 | I33: 470 | J33: 700 | K33: 380
A34: Габаритные размеры упаковки боковин ( максимум 2 шт.)
A35: Длина , мм. | B35: 2095 | C35: 2095 | D35: 2095 | E35: 2095 | F35: 2095 | G35: 2270 | H35: 2270 | I35: 2270 | J35: 2270 | K35: 2270
A36: Глубина мм. | B36: 275
A37: Высота, мм. | B37: 1215
A38: Габаритные размеры упаковки боковин ( максимум 4 шт.)
A39: Длина , мм. | B39: 2145 | C39: 2145 | D39: 2145 | E39: 2145 | F39: 2145 | G39: 2320 | H39: 2320 | I39: 2320 | J39: 2320 | K39: 2320
A40: Глубина мм. | B40: 280
A41: Высота, мм. | B41: 1145
A42: Габаритные размеры упаковки( в собранном виде с боковинами, поддон + пленка )
A43: Длина , мм. | B43: 1400 | C43: 2025 | D43: 2625 | E43: 3900 | F43: 2025 | G43: 1400 | H43: 2025 | I43: 2625 | J43: 3900 | K43: 2025
A44: Глубина, мм. | B44: 1150
A45: Высота, мм. | B45: 2175 | C45: 2175 | D45: 2175 | E45: 2175 | F45: 2175 | G45: 2350 | H45: 2350 | I45: 2350 | J45: 2350 | K45: 2350
A46: Масса, кг, не более | B46: 420 | C46: 520 | D46: 600 | E46: 830 | F46: 520 | G46: 430 | H46: 530 | I46: 630 | J46: 880 | K46: 530
A47: * информация проектная, будет корректироватся после испытания

Sheet Техн. хар.ВПН M Plug-in
A1: Технические характеристики витрины пристенной низкотемпературной серии ВПН MН Plug-in с холодильной машиной (ХМ) на крыше | E1: Содержание
A2: Наименование параметра | B2: MH 1250 | C2: MH 1875 | D2: MH 2500
A3: Тип холодильной машины | B3: MB109 T | C3: MB214 T | D3: MB214 T
A4: Площадь выкладки продуктовой полки ( 5х600 мм) м² | B4: 4.6 | C4: 6.9 | D4: 9.2
A5: Полезный охлаждаемый обьем, м³ | B5: 1.5 | C5: 2.2 | D5: 3
A6: Температурный диапазон, ° С | B6: -18…-22
A7: Нагрузка на полки, кг/ м.кв. | B7: 120
A8: Потребление электроэнергии без освещения за сутки, кВт/ч, не более | B8: 10.5 | C8: 15.5 | D8: 20.6
A9: Потребление электроэнергии за сутки с освещением( 24 часа), кВт/ч, не более | B9: 12.2 | C9: 17.9 | D9: 23.5
A10: Потребление электроэнергии без осещения и энергосбер. вент. за сутки, кВт/ч, не более | B10: 9.6 | C10: 14.2 | D10: 18.9
A11: Потребление электроэнергии с освещением и энергосбер. вент. за сутки, кВт/ч, не более | B11: 11.3 | C11: 16.6 | D11: 21.8
A12: Потребление электроэнергии за сутки ХМ, кВт/ч, не более | B12: 25 | C12: 27 | D12: 30
A13: Мощность нагревательных элементов стеклянного фронта Вт, не более | B13: 340 | C13: 510 | D13: 680
A14: Мощность ХМ в период работы , Вт,не более | B14: 1200 | C14: 1700 | D14: 1700
A15: Параметры электропитания, В/Ф/Гц | B15: 230/1/50 | C15: 400/3/50 | D15: 400/3/50
A16: Температура окружающей среды, ° С | B16: +12…+25 (влажность не выше 60%)
A17: Глубина полки, мм.( угол установки 90гр и 80 гр) | B17: 600
A18: Глубина базовой полки, мм. | B18: 678
A19: Холодопроизводительность, Вт ( Ткип.= -35 ° С, Ткон.= +45 °С), | B19: 950 | C19: 1400 | D19: 1900
A20: Общая мощность в период оттайки( с освещением), кВт | B20: 1.57 | C20: 2.24 | D20: 2.97
A21: Мощность ТЭН системы оттайки, кВт, не более | B21: 1.3 | C21: 1.75 | D21: 2.2
A22: Мощность LED Освещения, Вт, не более | B22: 72 | C22: 96 | D22: 120
A23: Хладагент | B23: R404A
A24: Базовый комплект рядов решетчатых полок,шт. | B24: 5 | C24: 5 | D24: 5
A25: Габаритные размеры
A26: Длина без боковин, мм. | B26: 1250 | C26: 1875 | D26: 2500
A27: Длина с боковинами, мм. | B27: 1370 | C27: 1995 | D27: 2620
A28: Глубина, мм. | B28: 1000
A29: Высота ВПО, мм. | B29: 2240 | C29: 2240 | D29: 2240
A30: Высота совместно с ХМ, мм. | B30: 2600 | C30: 2600 | D30: 2600
A31: Масса( с боковинами), кг, не более | B31: 420 | C31: 510 | D31: 600
A32: Общая масса( с боковинами и ХМ), кг, не более | B32: 480 | C32: 600 | D32: 680
A33: Логистическая информация ( информация будет дорабатываться )
A34: Габаритные размеры упаковки ХМ
A35: Длина , мм.
A36: Глубина мм.
A37: Высота, мм.
A38: Габаритные размеры упаковки( в собранном виде с боковинами, поддон + пленка )
A39: Длина , мм. | B39: 1400 | C39: 2025 | D39: 2625
A40: Глубина, мм. | B40: 1150
A41: Высота, мм. | B41: 2350 | C41: 2350 | D41: 2350
A42: Масса, кг, не более | B42: 430 | C42: 530 | D42: 630
A44: Gelo МН Plug-in
A78: * Указаны среднестатистические параметры энергопотребления. Они могут отличаться как в большую, так и в меньшую сторону в зависимости от условий эксплуатации: выбранный режим работы витрины, степень загрузки противней, свойства загружаемого товара, оборот товара, температура и влажность окружающей среды, скорость движения воздуха около витрины, месторасположение витрины в помещении, время работы освещения витрины, качество и своевременность сервисного обслуживания и т.д.
